BEGIN:VCALENDAR
VERSION:2.0
PRODID:https://www.kufer.de/kuferweb / DE
METHOD:PUBLISH
CALSCALE:GREGORIAN
X-WR-TIMEZONE:Europe/Berlin
BEGIN:VTIMEZONE
TZID:Europe/Berlin
X-LIC-LOCATION:Europe/Berlin
BEGIN:DAYLIGHT
TZOFFSETFROM:+0100
TZOFFSETTO:+0200
TZNAME:CEST
DTSTART:19700329T020000
RRULE:FREQ=YEARLY;INTERVAL=1;BYDAY=-1SU;BYMONTH=3
END:DAYLIGHT
BEGIN:STANDARD
TZOFFSETFROM:+0200
TZOFFSETTO:+0100
TZNAME:CET
DTSTART:19701025T030000
RRULE:FREQ=YEARLY;INTERVAL=1;BYDAY=-1SU;BYMONTH=10
END:STANDARD
END:VTIMEZONE
BEGIN:VEVENT
DTSTAMP:20260419T163134
DTSTART;TZID=Europe/Berlin:20270116T170000
DTEND;TZID=Europe/Berlin:20270116T213000
UID:2027F66300-20270116T170000@VHSLINGEN
SUMMARY:Social Media & Content Marketing mit Instagram & Co. Strategien, Tools und Best Practices für eine erfolgreiche Umsetzung mit KI-Unterstützung (2027F66300) 
LOCATION:Online-Kurs
END:VEVENT
END:VCALENDAR