BEGIN:VCALENDAR
VERSION:2.0
PRODID:https://www.kufer.de/kuferweb / DE
METHOD:PUBLISH
CALSCALE:GREGORIAN
X-WR-TIMEZONE:Europe/Berlin
BEGIN:VTIMEZONE
TZID:Europe/Berlin
X-LIC-LOCATION:Europe/Berlin
BEGIN:DAYLIGHT
TZOFFSETFROM:+0100
TZOFFSETTO:+0200
TZNAME:CEST
DTSTART:19700329T020000
RRULE:FREQ=YEARLY;INTERVAL=1;BYDAY=-1SU;BYMONTH=3
END:DAYLIGHT
BEGIN:STANDARD
TZOFFSETFROM:+0200
TZOFFSETTO:+0100
TZNAME:CET
DTSTART:19701025T030000
RRULE:FREQ=YEARLY;INTERVAL=1;BYDAY=-1SU;BYMONTH=10
END:STANDARD
END:VTIMEZONE
BEGIN:VEVENT
DTSTAMP:20260419T172126
DTSTART;TZID=Europe/Berlin:20270215T080000
DTEND;TZID=Europe/Berlin:20270215T150000
UID:2027F62100-20270215T080000@VHSLINGEN
DESCRIPTION:Bildungsurlaub
SUMMARY:Ausbildung zum/-r Ausbilder/-in (IHK) I/2027 Kompaktseminar hybrid (Februar 2027) (2027F62100) 
LOCATION:Bildungszentrum Gebrüder-Grimm, OG08, Elsterstr. 1, 49808 Lingen
END:VEVENT
BEGIN:VEVENT
DTSTAMP:20260419T172126
DTSTART;TZID=Europe/Berlin:20270216T080000
DTEND;TZID=Europe/Berlin:20270216T150000
UID:2027F62100-20270216T080000@VHSLINGEN
DESCRIPTION:Bildungsurlaub
SUMMARY:Ausbildung zum/-r Ausbilder/-in (IHK) I/2027 Kompaktseminar hybrid (Februar 2027) (2027F62100) 
LOCATION:Bildungszentrum Gebrüder-Grimm, OG08, Elsterstr. 1, 49808 Lingen
END:VEVENT
BEGIN:VEVENT
DTSTAMP:20260419T172126
DTSTART;TZID=Europe/Berlin:20270217T080000
DTEND;TZID=Europe/Berlin:20270217T150000
UID:2027F62100-20270217T080000@VHSLINGEN
DESCRIPTION:Bildungsurlaub
SUMMARY:Ausbildung zum/-r Ausbilder/-in (IHK) I/2027 Kompaktseminar hybrid (Februar 2027) (2027F62100) 
LOCATION:Bildungszentrum Gebrüder-Grimm, OG08, Elsterstr. 1, 49808 Lingen
END:VEVENT
BEGIN:VEVENT
DTSTAMP:20260419T172126
DTSTART;TZID=Europe/Berlin:20270218T080000
DTEND;TZID=Europe/Berlin:20270218T150000
UID:2027F62100-20270218T080000@VHSLINGEN
DESCRIPTION:Bildungsurlaub
SUMMARY:Ausbildung zum/-r Ausbilder/-in (IHK) I/2027 Kompaktseminar hybrid (Februar 2027) (2027F62100) 
LOCATION:Bildungszentrum Gebrüder-Grimm, OG08, Elsterstr. 1, 49808 Lingen
END:VEVENT
BEGIN:VEVENT
DTSTAMP:20260419T172126
DTSTART;TZID=Europe/Berlin:20270219T080000
DTEND;TZID=Europe/Berlin:20270219T150000
UID:2027F62100-20270219T080000@VHSLINGEN
DESCRIPTION:Bildungsurlaub
SUMMARY:Ausbildung zum/-r Ausbilder/-in (IHK) I/2027 Kompaktseminar hybrid (Februar 2027) (2027F62100) 
LOCATION:Bildungszentrum Gebrüder-Grimm, OG08, Elsterstr. 1, 49808 Lingen
END:VEVENT
BEGIN:VEVENT
DTSTAMP:20260419T172126
DTSTART;TZID=Europe/Berlin:20270226T170000
DTEND;TZID=Europe/Berlin:20270226T200000
UID:2027F62100-20270226T170000@VHSLINGEN
SUMMARY:Ausbildung zum/-r Ausbilder/-in (IHK) I/2027 Kompaktseminar hybrid (Februar 2027) (2027F62100) 
LOCATION:Bildungszentrum Gebrüder-Grimm, OG08, Elsterstr. 1, 49808 Lingen
END:VEVENT
BEGIN:VEVENT
DTSTAMP:20260419T172126
DTSTART;TZID=Europe/Berlin:20270227T080000
DTEND;TZID=Europe/Berlin:20270227T150000
UID:2027F62100-20270227T080000@VHSLINGEN
SUMMARY:Ausbildung zum/-r Ausbilder/-in (IHK) I/2027 Kompaktseminar hybrid (Februar 2027) (2027F62100) 
LOCATION:Bildungszentrum Gebrüder-Grimm, OG08, Elsterstr. 1, 49808 Lingen
END:VEVENT
BEGIN:VEVENT
DTSTAMP:20260419T172126
DTSTART;TZID=Europe/Berlin:20270305T170000
DTEND;TZID=Europe/Berlin:20270305T200000
UID:2027F62100-20270305T170000@VHSLINGEN
SUMMARY:Ausbildung zum/-r Ausbilder/-in (IHK) I/2027 Kompaktseminar hybrid (Februar 2027) (2027F62100) 
LOCATION:Bildungszentrum Gebrüder-Grimm, OG08, Elsterstr. 1, 49808 Lingen
END:VEVENT
BEGIN:VEVENT
DTSTAMP:20260419T172126
DTSTART;TZID=Europe/Berlin:20270306T080000
DTEND;TZID=Europe/Berlin:20270306T150000
UID:2027F62100-20270306T080000@VHSLINGEN
SUMMARY:Ausbildung zum/-r Ausbilder/-in (IHK) I/2027 Kompaktseminar hybrid (Februar 2027) (2027F62100) 
LOCATION:Bildungszentrum Gebrüder-Grimm, OG08, Elsterstr. 1, 49808 Lingen
END:VEVENT
END:VCALENDAR