BEGIN:VCALENDAR
VERSION:2.0
PRODID:https://www.kufer.de/kuferweb / DE
METHOD:PUBLISH
CALSCALE:GREGORIAN
X-WR-TIMEZONE:Europe/Berlin
BEGIN:VTIMEZONE
TZID:Europe/Berlin
X-LIC-LOCATION:Europe/Berlin
BEGIN:DAYLIGHT
TZOFFSETFROM:+0100
TZOFFSETTO:+0200
TZNAME:CEST
DTSTART:19700329T020000
RRULE:FREQ=YEARLY;INTERVAL=1;BYDAY=-1SU;BYMONTH=3
END:DAYLIGHT
BEGIN:STANDARD
TZOFFSETFROM:+0200
TZOFFSETTO:+0100
TZNAME:CET
DTSTART:19701025T030000
RRULE:FREQ=YEARLY;INTERVAL=1;BYDAY=-1SU;BYMONTH=10
END:STANDARD
END:VTIMEZONE
BEGIN:VEVENT
DTSTAMP:20260419T172048
DTSTART;TZID=Europe/Berlin:20270322T083000
DTEND;TZID=Europe/Berlin:20270322T123000
UID:2027F61722-20270322T083000@VHSLINGEN
SUMMARY:Prüfungsvorbereitung für Kaufleute für Büromanagement (Abschlussprüfung Teil 2) Intensivseminar/Bildungsurlaub (2027F61722) 
LOCATION:Bildungszentrum Gebrüder-Grimm, OG08, Elsterstr. 1, 49808 Lingen
END:VEVENT
BEGIN:VEVENT
DTSTAMP:20260419T172048
DTSTART;TZID=Europe/Berlin:20270322T130000
DTEND;TZID=Europe/Berlin:20270322T170000
UID:2027F61722-20270322T130000@VHSLINGEN
SUMMARY:Prüfungsvorbereitung für Kaufleute für Büromanagement (Abschlussprüfung Teil 2) Intensivseminar/Bildungsurlaub (2027F61722) 
LOCATION:Bildungszentrum Gebrüder-Grimm, OG08, Elsterstr. 1, 49808 Lingen
END:VEVENT
BEGIN:VEVENT
DTSTAMP:20260419T172048
DTSTART;TZID=Europe/Berlin:20270323T083000
DTEND;TZID=Europe/Berlin:20270323T123000
UID:2027F61722-20270323T083000@VHSLINGEN
SUMMARY:Prüfungsvorbereitung für Kaufleute für Büromanagement (Abschlussprüfung Teil 2) Intensivseminar/Bildungsurlaub (2027F61722) 
LOCATION:Bildungszentrum Gebrüder-Grimm, OG08, Elsterstr. 1, 49808 Lingen
END:VEVENT
BEGIN:VEVENT
DTSTAMP:20260419T172048
DTSTART;TZID=Europe/Berlin:20270323T130000
DTEND;TZID=Europe/Berlin:20270323T170000
UID:2027F61722-20270323T130000@VHSLINGEN
SUMMARY:Prüfungsvorbereitung für Kaufleute für Büromanagement (Abschlussprüfung Teil 2) Intensivseminar/Bildungsurlaub (2027F61722) 
LOCATION:Bildungszentrum Gebrüder-Grimm, OG08, Elsterstr. 1, 49808 Lingen
END:VEVENT
BEGIN:VEVENT
DTSTAMP:20260419T172048
DTSTART;TZID=Europe/Berlin:20270324T083000
DTEND;TZID=Europe/Berlin:20270324T123000
UID:2027F61722-20270324T083000@VHSLINGEN
SUMMARY:Prüfungsvorbereitung für Kaufleute für Büromanagement (Abschlussprüfung Teil 2) Intensivseminar/Bildungsurlaub (2027F61722) 
LOCATION:Bildungszentrum Gebrüder-Grimm, OG08, Elsterstr. 1, 49808 Lingen
END:VEVENT
BEGIN:VEVENT
DTSTAMP:20260419T172048
DTSTART;TZID=Europe/Berlin:20270324T130000
DTEND;TZID=Europe/Berlin:20270324T170000
UID:2027F61722-20270324T130000@VHSLINGEN
SUMMARY:Prüfungsvorbereitung für Kaufleute für Büromanagement (Abschlussprüfung Teil 2) Intensivseminar/Bildungsurlaub (2027F61722) 
LOCATION:Bildungszentrum Gebrüder-Grimm, OG08, Elsterstr. 1, 49808 Lingen
END:VEVENT
BEGIN:VEVENT
DTSTAMP:20260419T172048
DTSTART;TZID=Europe/Berlin:20270325T083000
DTEND;TZID=Europe/Berlin:20270325T123000
UID:2027F61722-20270325T083000@VHSLINGEN
SUMMARY:Prüfungsvorbereitung für Kaufleute für Büromanagement (Abschlussprüfung Teil 2) Intensivseminar/Bildungsurlaub (2027F61722) 
LOCATION:Bildungszentrum Gebrüder-Grimm, OG08, Elsterstr. 1, 49808 Lingen
END:VEVENT
BEGIN:VEVENT
DTSTAMP:20260419T172048
DTSTART;TZID=Europe/Berlin:20270325T130000
DTEND;TZID=Europe/Berlin:20270325T170000
UID:2027F61722-20270325T130000@VHSLINGEN
SUMMARY:Prüfungsvorbereitung für Kaufleute für Büromanagement (Abschlussprüfung Teil 2) Intensivseminar/Bildungsurlaub (2027F61722) 
LOCATION:Bildungszentrum Gebrüder-Grimm, OG08, Elsterstr. 1, 49808 Lingen
END:VEVENT
END:VCALENDAR