BEGIN:VCALENDAR
VERSION:2.0
PRODID:https://www.kufer.de/kuferweb / DE
METHOD:PUBLISH
CALSCALE:GREGORIAN
X-WR-TIMEZONE:Europe/Berlin
BEGIN:VTIMEZONE
TZID:Europe/Berlin
X-LIC-LOCATION:Europe/Berlin
BEGIN:DAYLIGHT
TZOFFSETFROM:+0100
TZOFFSETTO:+0200
TZNAME:CEST
DTSTART:19700329T020000
RRULE:FREQ=YEARLY;INTERVAL=1;BYDAY=-1SU;BYMONTH=3
END:DAYLIGHT
BEGIN:STANDARD
TZOFFSETFROM:+0200
TZOFFSETTO:+0100
TZNAME:CET
DTSTART:19701025T030000
RRULE:FREQ=YEARLY;INTERVAL=1;BYDAY=-1SU;BYMONTH=10
END:STANDARD
END:VTIMEZONE
BEGIN:VEVENT
DTSTAMP:20260419T190226
DTSTART;TZID=Europe/Berlin:20270407T183000
DTEND;TZID=Europe/Berlin:20270407T213000
UID:2027F61340-20270407T183000@VHSLINGEN
SUMMARY:Bilanzierung (XB) Jahresabschlüsse verstehen, erstellen und sicher beurteilen (2027F61340) 
LOCATION:Bildungszentrum Gebrüder-Grimm, DG11, Elsterstr. 1, 49808 Lingen
END:VEVENT
BEGIN:VEVENT
DTSTAMP:20260419T190226
DTSTART;TZID=Europe/Berlin:20270414T183000
DTEND;TZID=Europe/Berlin:20270414T213000
UID:2027F61340-20270414T183000@VHSLINGEN
SUMMARY:Bilanzierung (XB) Jahresabschlüsse verstehen, erstellen und sicher beurteilen (2027F61340) 
LOCATION:Bildungszentrum Gebrüder-Grimm, DG11, Elsterstr. 1, 49808 Lingen
END:VEVENT
BEGIN:VEVENT
DTSTAMP:20260419T190226
DTSTART;TZID=Europe/Berlin:20270421T183000
DTEND;TZID=Europe/Berlin:20270421T213000
UID:2027F61340-20270421T183000@VHSLINGEN
SUMMARY:Bilanzierung (XB) Jahresabschlüsse verstehen, erstellen und sicher beurteilen (2027F61340) 
LOCATION:Bildungszentrum Gebrüder-Grimm, DG11, Elsterstr. 1, 49808 Lingen
END:VEVENT
BEGIN:VEVENT
DTSTAMP:20260419T190226
DTSTART;TZID=Europe/Berlin:20270428T183000
DTEND;TZID=Europe/Berlin:20270428T213000
UID:2027F61340-20270428T183000@VHSLINGEN
SUMMARY:Bilanzierung (XB) Jahresabschlüsse verstehen, erstellen und sicher beurteilen (2027F61340) 
LOCATION:Bildungszentrum Gebrüder-Grimm, DG11, Elsterstr. 1, 49808 Lingen
END:VEVENT
BEGIN:VEVENT
DTSTAMP:20260419T190226
DTSTART;TZID=Europe/Berlin:20270512T183000
DTEND;TZID=Europe/Berlin:20270512T213000
UID:2027F61340-20270512T183000@VHSLINGEN
SUMMARY:Bilanzierung (XB) Jahresabschlüsse verstehen, erstellen und sicher beurteilen (2027F61340) 
LOCATION:Bildungszentrum Gebrüder-Grimm, DG11, Elsterstr. 1, 49808 Lingen
END:VEVENT
BEGIN:VEVENT
DTSTAMP:20260419T190226
DTSTART;TZID=Europe/Berlin:20270526T183000
DTEND;TZID=Europe/Berlin:20270526T213000
UID:2027F61340-20270526T183000@VHSLINGEN
SUMMARY:Bilanzierung (XB) Jahresabschlüsse verstehen, erstellen und sicher beurteilen (2027F61340) 
LOCATION:Bildungszentrum Gebrüder-Grimm, DG11, Elsterstr. 1, 49808 Lingen
END:VEVENT
BEGIN:VEVENT
DTSTAMP:20260419T190226
DTSTART;TZID=Europe/Berlin:20270602T183000
DTEND;TZID=Europe/Berlin:20270602T213000
UID:2027F61340-20270602T183000@VHSLINGEN
SUMMARY:Bilanzierung (XB) Jahresabschlüsse verstehen, erstellen und sicher beurteilen (2027F61340) 
LOCATION:Bildungszentrum Gebrüder-Grimm, DG11, Elsterstr. 1, 49808 Lingen
END:VEVENT
BEGIN:VEVENT
DTSTAMP:20260419T190226
DTSTART;TZID=Europe/Berlin:20270609T183000
DTEND;TZID=Europe/Berlin:20270609T213000
UID:2027F61340-20270609T183000@VHSLINGEN
SUMMARY:Bilanzierung (XB) Jahresabschlüsse verstehen, erstellen und sicher beurteilen (2027F61340) 
LOCATION:Bildungszentrum Gebrüder-Grimm, DG11, Elsterstr. 1, 49808 Lingen
END:VEVENT
BEGIN:VEVENT
DTSTAMP:20260419T190226
DTSTART;TZID=Europe/Berlin:20270616T183000
DTEND;TZID=Europe/Berlin:20270616T213000
UID:2027F61340-20270616T183000@VHSLINGEN
SUMMARY:Bilanzierung (XB) Jahresabschlüsse verstehen, erstellen und sicher beurteilen (2027F61340) 
LOCATION:Bildungszentrum Gebrüder-Grimm, DG11, Elsterstr. 1, 49808 Lingen
END:VEVENT
BEGIN:VEVENT
DTSTAMP:20260419T190226
DTSTART;TZID=Europe/Berlin:20270630T183000
DTEND;TZID=Europe/Berlin:20270630T213000
UID:2027F61340-20270630T183000@VHSLINGEN
SUMMARY:Bilanzierung (XB) Jahresabschlüsse verstehen, erstellen und sicher beurteilen (2027F61340) 
LOCATION:Bildungszentrum Gebrüder-Grimm, DG11, Elsterstr. 1, 49808 Lingen
END:VEVENT
BEGIN:VEVENT
DTSTAMP:20260419T190226
DTSTART;TZID=Europe/Berlin:20270823T183000
DTEND;TZID=Europe/Berlin:20270823T213000
UID:2027F61340-20270823T183000@VHSLINGEN
SUMMARY:Bilanzierung (XB) Jahresabschlüsse verstehen, erstellen und sicher beurteilen (2027F61340) 
LOCATION:Bildungszentrum Gebrüder-Grimm, DG11, Elsterstr. 1, 49808 Lingen
END:VEVENT
BEGIN:VEVENT
DTSTAMP:20260419T190226
DTSTART;TZID=Europe/Berlin:20270825T183000
DTEND;TZID=Europe/Berlin:20270825T213000
UID:2027F61340-20270825T183000@VHSLINGEN
SUMMARY:Bilanzierung (XB) Jahresabschlüsse verstehen, erstellen und sicher beurteilen (2027F61340) 
LOCATION:Bildungszentrum Gebrüder-Grimm, DG11, Elsterstr. 1, 49808 Lingen
END:VEVENT
BEGIN:VEVENT
DTSTAMP:20260419T190226
DTSTART;TZID=Europe/Berlin:20270830T183000
DTEND;TZID=Europe/Berlin:20270830T213000
UID:2027F61340-20270830T183000@VHSLINGEN
SUMMARY:Bilanzierung (XB) Jahresabschlüsse verstehen, erstellen und sicher beurteilen (2027F61340) 
LOCATION:Bildungszentrum Gebrüder-Grimm, DG11, Elsterstr. 1, 49808 Lingen
END:VEVENT
BEGIN:VEVENT
DTSTAMP:20260419T190226
DTSTART;TZID=Europe/Berlin:20270904T090000
DTEND;TZID=Europe/Berlin:20270904T120000
UID:2027F61340-20270904T090000@VHSLINGEN
DESCRIPTION:Prüfung
SUMMARY:Bilanzierung (XB) Jahresabschlüsse verstehen, erstellen und sicher beurteilen (2027F61340) 
LOCATION:Bildungszentrum Gebrüder-Grimm, DG11, Elsterstr. 1, 49808 Lingen
END:VEVENT
END:VCALENDAR