BEGIN:VCALENDAR
VERSION:2.0
PRODID:https://www.kufer.de/kuferweb / DE
METHOD:PUBLISH
CALSCALE:GREGORIAN
X-WR-TIMEZONE:Europe/Berlin
BEGIN:VTIMEZONE
TZID:Europe/Berlin
X-LIC-LOCATION:Europe/Berlin
BEGIN:DAYLIGHT
TZOFFSETFROM:+0100
TZOFFSETTO:+0200
TZNAME:CEST
DTSTART:19700329T020000
RRULE:FREQ=YEARLY;INTERVAL=1;BYDAY=-1SU;BYMONTH=3
END:DAYLIGHT
BEGIN:STANDARD
TZOFFSETFROM:+0200
TZOFFSETTO:+0100
TZNAME:CET
DTSTART:19701025T030000
RRULE:FREQ=YEARLY;INTERVAL=1;BYDAY=-1SU;BYMONTH=10
END:STANDARD
END:VTIMEZONE
BEGIN:VEVENT
DTSTAMP:20260419T171412
DTSTART;TZID=Europe/Berlin:20270408T183000
DTEND;TZID=Europe/Berlin:20270408T213000
UID:2027F61130-20270408T183000@VHSLINGEN
SUMMARY:Lohn und Gehalt 3 (XB) - EDV mit Lexware Digitale Lohnabrechnung mit Lexware anwenden und sicher umsetzen (2027F61130) 
LOCATION:Bildungszentrum Gebrüder-Grimm, OG17, Elsterstr. 1, 49808 Lingen
END:VEVENT
BEGIN:VEVENT
DTSTAMP:20260419T171412
DTSTART;TZID=Europe/Berlin:20270413T183000
DTEND;TZID=Europe/Berlin:20270413T213000
UID:2027F61130-20270413T183000@VHSLINGEN
SUMMARY:Lohn und Gehalt 3 (XB) - EDV mit Lexware Digitale Lohnabrechnung mit Lexware anwenden und sicher umsetzen (2027F61130) 
LOCATION:Bildungszentrum Gebrüder-Grimm, OG17, Elsterstr. 1, 49808 Lingen
END:VEVENT
BEGIN:VEVENT
DTSTAMP:20260419T171412
DTSTART;TZID=Europe/Berlin:20270415T183000
DTEND;TZID=Europe/Berlin:20270415T213000
UID:2027F61130-20270415T183000@VHSLINGEN
SUMMARY:Lohn und Gehalt 3 (XB) - EDV mit Lexware Digitale Lohnabrechnung mit Lexware anwenden und sicher umsetzen (2027F61130) 
LOCATION:Bildungszentrum Gebrüder-Grimm, OG17, Elsterstr. 1, 49808 Lingen
END:VEVENT
BEGIN:VEVENT
DTSTAMP:20260419T171412
DTSTART;TZID=Europe/Berlin:20270420T183000
DTEND;TZID=Europe/Berlin:20270420T213000
UID:2027F61130-20270420T183000@VHSLINGEN
SUMMARY:Lohn und Gehalt 3 (XB) - EDV mit Lexware Digitale Lohnabrechnung mit Lexware anwenden und sicher umsetzen (2027F61130) 
LOCATION:Bildungszentrum Gebrüder-Grimm, OG17, Elsterstr. 1, 49808 Lingen
END:VEVENT
BEGIN:VEVENT
DTSTAMP:20260419T171412
DTSTART;TZID=Europe/Berlin:20270422T183000
DTEND;TZID=Europe/Berlin:20270422T213000
UID:2027F61130-20270422T183000@VHSLINGEN
SUMMARY:Lohn und Gehalt 3 (XB) - EDV mit Lexware Digitale Lohnabrechnung mit Lexware anwenden und sicher umsetzen (2027F61130) 
LOCATION:Bildungszentrum Gebrüder-Grimm, OG17, Elsterstr. 1, 49808 Lingen
END:VEVENT
BEGIN:VEVENT
DTSTAMP:20260419T171412
DTSTART;TZID=Europe/Berlin:20270427T183000
DTEND;TZID=Europe/Berlin:20270427T213000
UID:2027F61130-20270427T183000@VHSLINGEN
SUMMARY:Lohn und Gehalt 3 (XB) - EDV mit Lexware Digitale Lohnabrechnung mit Lexware anwenden und sicher umsetzen (2027F61130) 
LOCATION:Bildungszentrum Gebrüder-Grimm, OG17, Elsterstr. 1, 49808 Lingen
END:VEVENT
BEGIN:VEVENT
DTSTAMP:20260419T171412
DTSTART;TZID=Europe/Berlin:20270429T183000
DTEND;TZID=Europe/Berlin:20270429T213000
UID:2027F61130-20270429T183000@VHSLINGEN
SUMMARY:Lohn und Gehalt 3 (XB) - EDV mit Lexware Digitale Lohnabrechnung mit Lexware anwenden und sicher umsetzen (2027F61130) 
LOCATION:Bildungszentrum Gebrüder-Grimm, OG17, Elsterstr. 1, 49808 Lingen
END:VEVENT
BEGIN:VEVENT
DTSTAMP:20260419T171412
DTSTART;TZID=Europe/Berlin:20270511T183000
DTEND;TZID=Europe/Berlin:20270511T213000
UID:2027F61130-20270511T183000@VHSLINGEN
SUMMARY:Lohn und Gehalt 3 (XB) - EDV mit Lexware Digitale Lohnabrechnung mit Lexware anwenden und sicher umsetzen (2027F61130) 
LOCATION:Bildungszentrum Gebrüder-Grimm, OG17, Elsterstr. 1, 49808 Lingen
END:VEVENT
BEGIN:VEVENT
DTSTAMP:20260419T171412
DTSTART;TZID=Europe/Berlin:20270513T183000
DTEND;TZID=Europe/Berlin:20270513T213000
UID:2027F61130-20270513T183000@VHSLINGEN
SUMMARY:Lohn und Gehalt 3 (XB) - EDV mit Lexware Digitale Lohnabrechnung mit Lexware anwenden und sicher umsetzen (2027F61130) 
LOCATION:Bildungszentrum Gebrüder-Grimm, OG17, Elsterstr. 1, 49808 Lingen
END:VEVENT
BEGIN:VEVENT
DTSTAMP:20260419T171412
DTSTART;TZID=Europe/Berlin:20270525T183000
DTEND;TZID=Europe/Berlin:20270525T213000
UID:2027F61130-20270525T183000@VHSLINGEN
SUMMARY:Lohn und Gehalt 3 (XB) - EDV mit Lexware Digitale Lohnabrechnung mit Lexware anwenden und sicher umsetzen (2027F61130) 
LOCATION:Bildungszentrum Gebrüder-Grimm, OG17, Elsterstr. 1, 49808 Lingen
END:VEVENT
BEGIN:VEVENT
DTSTAMP:20260419T171412
DTSTART;TZID=Europe/Berlin:20270529T090000
DTEND;TZID=Europe/Berlin:20270529T120000
UID:2027F61130-20270529T090000@VHSLINGEN
DESCRIPTION:Prüfung
SUMMARY:Lohn und Gehalt 3 (XB) - EDV mit Lexware Digitale Lohnabrechnung mit Lexware anwenden und sicher umsetzen (2027F61130) 
LOCATION:Bildungszentrum Gebrüder-Grimm, OG17, Elsterstr. 1, 49808 Lingen
END:VEVENT
END:VCALENDAR