BEGIN:VCALENDAR
VERSION:2.0
PRODID:https://www.kufer.de/kuferweb / DE
METHOD:PUBLISH
CALSCALE:GREGORIAN
X-WR-TIMEZONE:Europe/Berlin
BEGIN:VTIMEZONE
TZID:Europe/Berlin
X-LIC-LOCATION:Europe/Berlin
BEGIN:DAYLIGHT
TZOFFSETFROM:+0100
TZOFFSETTO:+0200
TZNAME:CEST
DTSTART:19700329T020000
RRULE:FREQ=YEARLY;INTERVAL=1;BYDAY=-1SU;BYMONTH=3
END:DAYLIGHT
BEGIN:STANDARD
TZOFFSETFROM:+0200
TZOFFSETTO:+0100
TZNAME:CET
DTSTART:19701025T030000
RRULE:FREQ=YEARLY;INTERVAL=1;BYDAY=-1SU;BYMONTH=10
END:STANDARD
END:VTIMEZONE
BEGIN:VEVENT
DTSTAMP:20260419T172131
DTSTART;TZID=Europe/Berlin:20270204T183000
DTEND;TZID=Europe/Berlin:20270204T213000
UID:2027F61120-20270204T183000@VHSLINGEN
SUMMARY:Lohn und Gehalt 2 (XB) Lohnabrechnung vertiefen und komplexe Fälle sicher bearbeiten (2027F61120) 
LOCATION:Bildungszentrum Gebrüder-Grimm, EG10, Elsterstr. 1, 49808 Lingen
END:VEVENT
BEGIN:VEVENT
DTSTAMP:20260419T172131
DTSTART;TZID=Europe/Berlin:20270209T183000
DTEND;TZID=Europe/Berlin:20270209T213000
UID:2027F61120-20270209T183000@VHSLINGEN
SUMMARY:Lohn und Gehalt 2 (XB) Lohnabrechnung vertiefen und komplexe Fälle sicher bearbeiten (2027F61120) 
LOCATION:Bildungszentrum Gebrüder-Grimm, EG10, Elsterstr. 1, 49808 Lingen
END:VEVENT
BEGIN:VEVENT
DTSTAMP:20260419T172131
DTSTART;TZID=Europe/Berlin:20270211T183000
DTEND;TZID=Europe/Berlin:20270211T213000
UID:2027F61120-20270211T183000@VHSLINGEN
SUMMARY:Lohn und Gehalt 2 (XB) Lohnabrechnung vertiefen und komplexe Fälle sicher bearbeiten (2027F61120) 
LOCATION:Bildungszentrum Gebrüder-Grimm, EG10, Elsterstr. 1, 49808 Lingen
END:VEVENT
BEGIN:VEVENT
DTSTAMP:20260419T172131
DTSTART;TZID=Europe/Berlin:20270216T183000
DTEND;TZID=Europe/Berlin:20270216T213000
UID:2027F61120-20270216T183000@VHSLINGEN
SUMMARY:Lohn und Gehalt 2 (XB) Lohnabrechnung vertiefen und komplexe Fälle sicher bearbeiten (2027F61120) 
LOCATION:Bildungszentrum Gebrüder-Grimm, EG10, Elsterstr. 1, 49808 Lingen
END:VEVENT
BEGIN:VEVENT
DTSTAMP:20260419T172131
DTSTART;TZID=Europe/Berlin:20270218T183000
DTEND;TZID=Europe/Berlin:20270218T213000
UID:2027F61120-20270218T183000@VHSLINGEN
SUMMARY:Lohn und Gehalt 2 (XB) Lohnabrechnung vertiefen und komplexe Fälle sicher bearbeiten (2027F61120) 
LOCATION:Bildungszentrum Gebrüder-Grimm, EG10, Elsterstr. 1, 49808 Lingen
END:VEVENT
BEGIN:VEVENT
DTSTAMP:20260419T172131
DTSTART;TZID=Europe/Berlin:20270223T183000
DTEND;TZID=Europe/Berlin:20270223T213000
UID:2027F61120-20270223T183000@VHSLINGEN
SUMMARY:Lohn und Gehalt 2 (XB) Lohnabrechnung vertiefen und komplexe Fälle sicher bearbeiten (2027F61120) 
LOCATION:Bildungszentrum Gebrüder-Grimm, EG10, Elsterstr. 1, 49808 Lingen
END:VEVENT
BEGIN:VEVENT
DTSTAMP:20260419T172131
DTSTART;TZID=Europe/Berlin:20270225T183000
DTEND;TZID=Europe/Berlin:20270225T213000
UID:2027F61120-20270225T183000@VHSLINGEN
SUMMARY:Lohn und Gehalt 2 (XB) Lohnabrechnung vertiefen und komplexe Fälle sicher bearbeiten (2027F61120) 
LOCATION:Bildungszentrum Gebrüder-Grimm, EG10, Elsterstr. 1, 49808 Lingen
END:VEVENT
BEGIN:VEVENT
DTSTAMP:20260419T172131
DTSTART;TZID=Europe/Berlin:20270302T183000
DTEND;TZID=Europe/Berlin:20270302T213000
UID:2027F61120-20270302T183000@VHSLINGEN
SUMMARY:Lohn und Gehalt 2 (XB) Lohnabrechnung vertiefen und komplexe Fälle sicher bearbeiten (2027F61120) 
LOCATION:Bildungszentrum Gebrüder-Grimm, EG10, Elsterstr. 1, 49808 Lingen
END:VEVENT
BEGIN:VEVENT
DTSTAMP:20260419T172131
DTSTART;TZID=Europe/Berlin:20270304T183000
DTEND;TZID=Europe/Berlin:20270304T213000
UID:2027F61120-20270304T183000@VHSLINGEN
SUMMARY:Lohn und Gehalt 2 (XB) Lohnabrechnung vertiefen und komplexe Fälle sicher bearbeiten (2027F61120) 
LOCATION:Bildungszentrum Gebrüder-Grimm, EG10, Elsterstr. 1, 49808 Lingen
END:VEVENT
BEGIN:VEVENT
DTSTAMP:20260419T172131
DTSTART;TZID=Europe/Berlin:20270309T183000
DTEND;TZID=Europe/Berlin:20270309T213000
UID:2027F61120-20270309T183000@VHSLINGEN
SUMMARY:Lohn und Gehalt 2 (XB) Lohnabrechnung vertiefen und komplexe Fälle sicher bearbeiten (2027F61120) 
LOCATION:Bildungszentrum Gebrüder-Grimm, EG10, Elsterstr. 1, 49808 Lingen
END:VEVENT
BEGIN:VEVENT
DTSTAMP:20260419T172131
DTSTART;TZID=Europe/Berlin:20270311T183000
DTEND;TZID=Europe/Berlin:20270311T213000
UID:2027F61120-20270311T183000@VHSLINGEN
SUMMARY:Lohn und Gehalt 2 (XB) Lohnabrechnung vertiefen und komplexe Fälle sicher bearbeiten (2027F61120) 
LOCATION:Bildungszentrum Gebrüder-Grimm, EG10, Elsterstr. 1, 49808 Lingen
END:VEVENT
BEGIN:VEVENT
DTSTAMP:20260419T172131
DTSTART;TZID=Europe/Berlin:20270316T183000
DTEND;TZID=Europe/Berlin:20270316T213000
UID:2027F61120-20270316T183000@VHSLINGEN
SUMMARY:Lohn und Gehalt 2 (XB) Lohnabrechnung vertiefen und komplexe Fälle sicher bearbeiten (2027F61120) 
LOCATION:Bildungszentrum Gebrüder-Grimm, EG10, Elsterstr. 1, 49808 Lingen
END:VEVENT
BEGIN:VEVENT
DTSTAMP:20260419T172131
DTSTART;TZID=Europe/Berlin:20270320T090000
DTEND;TZID=Europe/Berlin:20270320T120000
UID:2027F61120-20270320T090000@VHSLINGEN
DESCRIPTION:Prüfung: Loge (2)
SUMMARY:Lohn und Gehalt 2 (XB) Lohnabrechnung vertiefen und komplexe Fälle sicher bearbeiten (2027F61120) 
LOCATION:Bildungszentrum Gebrüder-Grimm, U-Raum, Elsterstr. 1, 49808 Lingen
END:VEVENT
END:VCALENDAR