BEGIN:VCALENDAR
VERSION:2.0
PRODID:https://www.kufer.de/kuferweb / DE
METHOD:PUBLISH
CALSCALE:GREGORIAN
X-WR-TIMEZONE:Europe/Berlin
BEGIN:VTIMEZONE
TZID:Europe/Berlin
X-LIC-LOCATION:Europe/Berlin
BEGIN:DAYLIGHT
TZOFFSETFROM:+0100
TZOFFSETTO:+0200
TZNAME:CEST
DTSTART:19700329T020000
RRULE:FREQ=YEARLY;INTERVAL=1;BYDAY=-1SU;BYMONTH=3
END:DAYLIGHT
BEGIN:STANDARD
TZOFFSETFROM:+0200
TZOFFSETTO:+0100
TZNAME:CET
DTSTART:19701025T030000
RRULE:FREQ=YEARLY;INTERVAL=1;BYDAY=-1SU;BYMONTH=10
END:STANDARD
END:VTIMEZONE
BEGIN:VEVENT
DTSTAMP:20260425T011056
DTSTART;TZID=Europe/Berlin:20270224T090000
DTEND;TZID=Europe/Berlin:20270224T170000
UID:2027F22150-20270224T090000@VHSLINGEN
SUMMARY:Bildungsurlaub - 3-tägiger Onlinekurs: Schlagfertigkeit & sicheres Auftreten 100% Durchführungsgarantie (2027F22150) 
LOCATION:Online-Kurs
END:VEVENT
BEGIN:VEVENT
DTSTAMP:20260425T011056
DTSTART;TZID=Europe/Berlin:20270225T090000
DTEND;TZID=Europe/Berlin:20270225T170000
UID:2027F22150-20270225T090000@VHSLINGEN
SUMMARY:Bildungsurlaub - 3-tägiger Onlinekurs: Schlagfertigkeit & sicheres Auftreten 100% Durchführungsgarantie (2027F22150) 
LOCATION:Online-Kurs
END:VEVENT
BEGIN:VEVENT
DTSTAMP:20260425T011056
DTSTART;TZID=Europe/Berlin:20270226T090000
DTEND;TZID=Europe/Berlin:20270226T170000
UID:2027F22150-20270226T090000@VHSLINGEN
SUMMARY:Bildungsurlaub - 3-tägiger Onlinekurs: Schlagfertigkeit & sicheres Auftreten 100% Durchführungsgarantie (2027F22150) 
LOCATION:Online-Kurs
END:VEVENT
END:VCALENDAR