BEGIN:VCALENDAR
VERSION:2.0
PRODID:https://www.kufer.de/kuferweb / DE
METHOD:PUBLISH
CALSCALE:GREGORIAN
X-WR-TIMEZONE:Europe/Berlin
BEGIN:VTIMEZONE
TZID:Europe/Berlin
X-LIC-LOCATION:Europe/Berlin
BEGIN:DAYLIGHT
TZOFFSETFROM:+0100
TZOFFSETTO:+0200
TZNAME:CEST
DTSTART:19700329T020000
RRULE:FREQ=YEARLY;INTERVAL=1;BYDAY=-1SU;BYMONTH=3
END:DAYLIGHT
BEGIN:STANDARD
TZOFFSETFROM:+0200
TZOFFSETTO:+0100
TZNAME:CET
DTSTART:19701025T030000
RRULE:FREQ=YEARLY;INTERVAL=1;BYDAY=-1SU;BYMONTH=10
END:STANDARD
END:VTIMEZONE
BEGIN:VEVENT
DTSTAMP:20260424T210501
DTSTART;TZID=Europe/Berlin:20261028T180000
DTEND;TZID=Europe/Berlin:20261028T210000
UID:2026H99050-20261028T180000@VHSLINGEN
SUMMARY:Betreuungskraft nach §45a SGB XI - Alltagsbegleitung von Pflegebedürftigen - (Einsatzkraft AZUA) (2026H99050) 
LOCATION:Bildungszentrum Gebrüder-Grimm, OG25, Elsterstr. 1, 49808 Lingen
END:VEVENT
BEGIN:VEVENT
DTSTAMP:20260424T210501
DTSTART;TZID=Europe/Berlin:20261104T180000
DTEND;TZID=Europe/Berlin:20261104T210000
UID:2026H99050-20261104T180000@VHSLINGEN
SUMMARY:Betreuungskraft nach §45a SGB XI - Alltagsbegleitung von Pflegebedürftigen - (Einsatzkraft AZUA) (2026H99050) 
LOCATION:Bildungszentrum Gebrüder-Grimm, OG25, Elsterstr. 1, 49808 Lingen
END:VEVENT
BEGIN:VEVENT
DTSTAMP:20260424T210501
DTSTART;TZID=Europe/Berlin:20261111T180000
DTEND;TZID=Europe/Berlin:20261111T210000
UID:2026H99050-20261111T180000@VHSLINGEN
SUMMARY:Betreuungskraft nach §45a SGB XI - Alltagsbegleitung von Pflegebedürftigen - (Einsatzkraft AZUA) (2026H99050) 
LOCATION:Bildungszentrum Gebrüder-Grimm, OG25, Elsterstr. 1, 49808 Lingen
END:VEVENT
BEGIN:VEVENT
DTSTAMP:20260424T210501
DTSTART;TZID=Europe/Berlin:20261118T180000
DTEND;TZID=Europe/Berlin:20261118T210000
UID:2026H99050-20261118T180000@VHSLINGEN
SUMMARY:Betreuungskraft nach §45a SGB XI - Alltagsbegleitung von Pflegebedürftigen - (Einsatzkraft AZUA) (2026H99050) 
LOCATION:Bildungszentrum Gebrüder-Grimm, OG25, Elsterstr. 1, 49808 Lingen
END:VEVENT
BEGIN:VEVENT
DTSTAMP:20260424T210501
DTSTART;TZID=Europe/Berlin:20261125T180000
DTEND;TZID=Europe/Berlin:20261125T210000
UID:2026H99050-20261125T180000@VHSLINGEN
SUMMARY:Betreuungskraft nach §45a SGB XI - Alltagsbegleitung von Pflegebedürftigen - (Einsatzkraft AZUA) (2026H99050) 
LOCATION:Bildungszentrum Gebrüder-Grimm, OG25, Elsterstr. 1, 49808 Lingen
END:VEVENT
BEGIN:VEVENT
DTSTAMP:20260424T210501
DTSTART;TZID=Europe/Berlin:20261202T180000
DTEND;TZID=Europe/Berlin:20261202T210000
UID:2026H99050-20261202T180000@VHSLINGEN
SUMMARY:Betreuungskraft nach §45a SGB XI - Alltagsbegleitung von Pflegebedürftigen - (Einsatzkraft AZUA) (2026H99050) 
LOCATION:Bildungszentrum Gebrüder-Grimm, OG25, Elsterstr. 1, 49808 Lingen
END:VEVENT
BEGIN:VEVENT
DTSTAMP:20260424T210501
DTSTART;TZID=Europe/Berlin:20261209T180000
DTEND;TZID=Europe/Berlin:20261209T210000
UID:2026H99050-20261209T180000@VHSLINGEN
SUMMARY:Betreuungskraft nach §45a SGB XI - Alltagsbegleitung von Pflegebedürftigen - (Einsatzkraft AZUA) (2026H99050) 
LOCATION:Bildungszentrum Gebrüder-Grimm, OG25, Elsterstr. 1, 49808 Lingen
END:VEVENT
BEGIN:VEVENT
DTSTAMP:20260424T210501
DTSTART;TZID=Europe/Berlin:20261216T180000
DTEND;TZID=Europe/Berlin:20261216T210000
UID:2026H99050-20261216T180000@VHSLINGEN
SUMMARY:Betreuungskraft nach §45a SGB XI - Alltagsbegleitung von Pflegebedürftigen - (Einsatzkraft AZUA) (2026H99050) 
LOCATION:Bildungszentrum Gebrüder-Grimm, OG25, Elsterstr. 1, 49808 Lingen
END:VEVENT
BEGIN:VEVENT
DTSTAMP:20260424T210501
DTSTART;TZID=Europe/Berlin:20270113T180000
DTEND;TZID=Europe/Berlin:20270113T210000
UID:2026H99050-20270113T180000@VHSLINGEN
SUMMARY:Betreuungskraft nach §45a SGB XI - Alltagsbegleitung von Pflegebedürftigen - (Einsatzkraft AZUA) (2026H99050) 
LOCATION:Bildungszentrum Gebrüder-Grimm, OG25, Elsterstr. 1, 49808 Lingen
END:VEVENT
BEGIN:VEVENT
DTSTAMP:20260424T210501
DTSTART;TZID=Europe/Berlin:20270120T180000
DTEND;TZID=Europe/Berlin:20270120T210000
UID:2026H99050-20270120T180000@VHSLINGEN
SUMMARY:Betreuungskraft nach §45a SGB XI - Alltagsbegleitung von Pflegebedürftigen - (Einsatzkraft AZUA) (2026H99050) 
LOCATION:Bildungszentrum Gebrüder-Grimm, OG25, Elsterstr. 1, 49808 Lingen
END:VEVENT
END:VCALENDAR