BEGIN:VCALENDAR
VERSION:2.0
PRODID:https://www.kufer.de/kuferweb / DE
METHOD:PUBLISH
CALSCALE:GREGORIAN
X-WR-TIMEZONE:Europe/Berlin
BEGIN:VTIMEZONE
TZID:Europe/Berlin
X-LIC-LOCATION:Europe/Berlin
BEGIN:DAYLIGHT
TZOFFSETFROM:+0100
TZOFFSETTO:+0200
TZNAME:CEST
DTSTART:19700329T020000
RRULE:FREQ=YEARLY;INTERVAL=1;BYDAY=-1SU;BYMONTH=3
END:DAYLIGHT
BEGIN:STANDARD
TZOFFSETFROM:+0200
TZOFFSETTO:+0100
TZNAME:CET
DTSTART:19701025T030000
RRULE:FREQ=YEARLY;INTERVAL=1;BYDAY=-1SU;BYMONTH=10
END:STANDARD
END:VTIMEZONE
BEGIN:VEVENT
DTSTAMP:20260421T113216
DTSTART;TZID=Europe/Berlin:20260825T100000
DTEND;TZID=Europe/Berlin:20260825T103000
UID:2026H78885-20260825T100000@VHSLINGEN
SUMMARY:Einstufungstermin und -beratung Fremdsprachen & Deutsch Speak Dating (2026H78885) 
LOCATION:Bildungszentrum Gebrüder-Grimm, EG09, Elsterstr. 1, 49808 Lingen
END:VEVENT
BEGIN:VEVENT
DTSTAMP:20260421T113216
DTSTART;TZID=Europe/Berlin:20260825T100000
DTEND;TZID=Europe/Berlin:20260825T103000
UID:2026H78885-20260825T100000@VHSLINGEN
SUMMARY:Einstufungstermin und -beratung Fremdsprachen & Deutsch Speak Dating (2026H78885) 
LOCATION:Bildungszentrum Gebrüder-Grimm, EG09, Elsterstr. 1, 49808 Lingen
END:VEVENT
BEGIN:VEVENT
DTSTAMP:20260421T113216
DTSTART;TZID=Europe/Berlin:20260825T103000
DTEND;TZID=Europe/Berlin:20260825T110000
UID:2026H78885-20260825T103000@VHSLINGEN
SUMMARY:Einstufungstermin und -beratung Fremdsprachen & Deutsch Speak Dating (2026H78885) 
LOCATION:Bildungszentrum Gebrüder-Grimm, EG09, Elsterstr. 1, 49808 Lingen
END:VEVENT
BEGIN:VEVENT
DTSTAMP:20260421T113216
DTSTART;TZID=Europe/Berlin:20260825T103000
DTEND;TZID=Europe/Berlin:20260825T110000
UID:2026H78885-20260825T103000@VHSLINGEN
SUMMARY:Einstufungstermin und -beratung Fremdsprachen & Deutsch Speak Dating (2026H78885) 
LOCATION:Bildungszentrum Gebrüder-Grimm, EG09, Elsterstr. 1, 49808 Lingen
END:VEVENT
BEGIN:VEVENT
DTSTAMP:20260421T113216
DTSTART;TZID=Europe/Berlin:20260825T110000
DTEND;TZID=Europe/Berlin:20260825T113000
UID:2026H78885-20260825T110000@VHSLINGEN
SUMMARY:Einstufungstermin und -beratung Fremdsprachen & Deutsch Speak Dating (2026H78885) 
LOCATION:Bildungszentrum Gebrüder-Grimm, EG09, Elsterstr. 1, 49808 Lingen
END:VEVENT
BEGIN:VEVENT
DTSTAMP:20260421T113216
DTSTART;TZID=Europe/Berlin:20260825T110000
DTEND;TZID=Europe/Berlin:20260825T113000
UID:2026H78885-20260825T110000@VHSLINGEN
SUMMARY:Einstufungstermin und -beratung Fremdsprachen & Deutsch Speak Dating (2026H78885) 
LOCATION:Bildungszentrum Gebrüder-Grimm, EG09, Elsterstr. 1, 49808 Lingen
END:VEVENT
BEGIN:VEVENT
DTSTAMP:20260421T113216
DTSTART;TZID=Europe/Berlin:20260825T113000
DTEND;TZID=Europe/Berlin:20260825T120000
UID:2026H78885-20260825T113000@VHSLINGEN
DESCRIPTION:Masiiwa Givemore, Chimbwanda; Chimbwanda, Masiiwa Givemore
SUMMARY:Einstufungstermin und -beratung Fremdsprachen & Deutsch Speak Dating (2026H78885) 
LOCATION:Bildungszentrum Gebrüder-Grimm, EG09, Elsterstr. 1, 49808 Lingen
END:VEVENT
BEGIN:VEVENT
DTSTAMP:20260421T113216
DTSTART;TZID=Europe/Berlin:20260825T113000
DTEND;TZID=Europe/Berlin:20260825T120000
UID:2026H78885-20260825T113000@VHSLINGEN
SUMMARY:Einstufungstermin und -beratung Fremdsprachen & Deutsch Speak Dating (2026H78885) 
LOCATION:Bildungszentrum Gebrüder-Grimm, EG09, Elsterstr. 1, 49808 Lingen
END:VEVENT
BEGIN:VEVENT
DTSTAMP:20260421T113216
DTSTART;TZID=Europe/Berlin:20260825T160000
DTEND;TZID=Europe/Berlin:20260825T163000
UID:2026H78885-20260825T160000@VHSLINGEN
SUMMARY:Einstufungstermin und -beratung Fremdsprachen & Deutsch Speak Dating (2026H78885) 
LOCATION:Bildungszentrum Gebrüder-Grimm, EG09, Elsterstr. 1, 49808 Lingen
END:VEVENT
BEGIN:VEVENT
DTSTAMP:20260421T113216
DTSTART;TZID=Europe/Berlin:20260825T160000
DTEND;TZID=Europe/Berlin:20260825T163000
UID:2026H78885-20260825T160000@VHSLINGEN
SUMMARY:Einstufungstermin und -beratung Fremdsprachen & Deutsch Speak Dating (2026H78885) 
LOCATION:Bildungszentrum Gebrüder-Grimm, EG09, Elsterstr. 1, 49808 Lingen
END:VEVENT
BEGIN:VEVENT
DTSTAMP:20260421T113216
DTSTART;TZID=Europe/Berlin:20260825T163000
DTEND;TZID=Europe/Berlin:20260825T170000
UID:2026H78885-20260825T163000@VHSLINGEN
SUMMARY:Einstufungstermin und -beratung Fremdsprachen & Deutsch Speak Dating (2026H78885) 
LOCATION:Bildungszentrum Gebrüder-Grimm, EG09, Elsterstr. 1, 49808 Lingen
END:VEVENT
BEGIN:VEVENT
DTSTAMP:20260421T113216
DTSTART;TZID=Europe/Berlin:20260825T163000
DTEND;TZID=Europe/Berlin:20260825T170000
UID:2026H78885-20260825T163000@VHSLINGEN
SUMMARY:Einstufungstermin und -beratung Fremdsprachen & Deutsch Speak Dating (2026H78885) 
LOCATION:Bildungszentrum Gebrüder-Grimm, EG09, Elsterstr. 1, 49808 Lingen
END:VEVENT
BEGIN:VEVENT
DTSTAMP:20260421T113216
DTSTART;TZID=Europe/Berlin:20260825T170000
DTEND;TZID=Europe/Berlin:20260825T173000
UID:2026H78885-20260825T170000@VHSLINGEN
SUMMARY:Einstufungstermin und -beratung Fremdsprachen & Deutsch Speak Dating (2026H78885) 
LOCATION:Bildungszentrum Gebrüder-Grimm, EG09, Elsterstr. 1, 49808 Lingen
END:VEVENT
BEGIN:VEVENT
DTSTAMP:20260421T113216
DTSTART;TZID=Europe/Berlin:20260825T170000
DTEND;TZID=Europe/Berlin:20260825T173000
UID:2026H78885-20260825T170000@VHSLINGEN
SUMMARY:Einstufungstermin und -beratung Fremdsprachen & Deutsch Speak Dating (2026H78885) 
LOCATION:Bildungszentrum Gebrüder-Grimm, EG09, Elsterstr. 1, 49808 Lingen
END:VEVENT
BEGIN:VEVENT
DTSTAMP:20260421T113216
DTSTART;TZID=Europe/Berlin:20260825T173000
DTEND;TZID=Europe/Berlin:20260825T180000
UID:2026H78885-20260825T173000@VHSLINGEN
SUMMARY:Einstufungstermin und -beratung Fremdsprachen & Deutsch Speak Dating (2026H78885) 
LOCATION:Bildungszentrum Gebrüder-Grimm, EG09, Elsterstr. 1, 49808 Lingen
END:VEVENT
BEGIN:VEVENT
DTSTAMP:20260421T113216
DTSTART;TZID=Europe/Berlin:20260825T173000
DTEND;TZID=Europe/Berlin:20260825T180000
UID:2026H78885-20260825T173000@VHSLINGEN
SUMMARY:Einstufungstermin und -beratung Fremdsprachen & Deutsch Speak Dating (2026H78885) 
LOCATION:Bildungszentrum Gebrüder-Grimm, EG09, Elsterstr. 1, 49808 Lingen
END:VEVENT
END:VCALENDAR