BEGIN:VCALENDAR
VERSION:2.0
PRODID:https://www.kufer.de/kuferweb / DE
METHOD:PUBLISH
CALSCALE:GREGORIAN
X-WR-TIMEZONE:Europe/Berlin
BEGIN:VTIMEZONE
TZID:Europe/Berlin
X-LIC-LOCATION:Europe/Berlin
BEGIN:DAYLIGHT
TZOFFSETFROM:+0100
TZOFFSETTO:+0200
TZNAME:CEST
DTSTART:19700329T020000
RRULE:FREQ=YEARLY;INTERVAL=1;BYDAY=-1SU;BYMONTH=3
END:DAYLIGHT
BEGIN:STANDARD
TZOFFSETFROM:+0200
TZOFFSETTO:+0100
TZNAME:CET
DTSTART:19701025T030000
RRULE:FREQ=YEARLY;INTERVAL=1;BYDAY=-1SU;BYMONTH=10
END:STANDARD
END:VTIMEZONE
BEGIN:VEVENT
DTSTAMP:20260425T001939
DTSTART;TZID=Europe/Berlin:20260831T180000
DTEND;TZID=Europe/Berlin:20260831T201500
UID:2026H78510-20260831T180000@VHSLINGEN
SUMMARY:Norwegisch Grundstufe II (A1) kompakt (2026H78510) 
LOCATION:Bildungszentrum Gebrüder-Grimm, EG26, Elsterstr. 1, 49808 Lingen
END:VEVENT
BEGIN:VEVENT
DTSTAMP:20260425T001939
DTSTART;TZID=Europe/Berlin:20260907T180000
DTEND;TZID=Europe/Berlin:20260907T201500
UID:2026H78510-20260907T180000@VHSLINGEN
SUMMARY:Norwegisch Grundstufe II (A1) kompakt (2026H78510) 
LOCATION:Bildungszentrum Gebrüder-Grimm, EG26, Elsterstr. 1, 49808 Lingen
END:VEVENT
BEGIN:VEVENT
DTSTAMP:20260425T001939
DTSTART;TZID=Europe/Berlin:20260914T180000
DTEND;TZID=Europe/Berlin:20260914T201500
UID:2026H78510-20260914T180000@VHSLINGEN
SUMMARY:Norwegisch Grundstufe II (A1) kompakt (2026H78510) 
LOCATION:Bildungszentrum Gebrüder-Grimm, EG26, Elsterstr. 1, 49808 Lingen
END:VEVENT
BEGIN:VEVENT
DTSTAMP:20260425T001939
DTSTART;TZID=Europe/Berlin:20260921T180000
DTEND;TZID=Europe/Berlin:20260921T201500
UID:2026H78510-20260921T180000@VHSLINGEN
SUMMARY:Norwegisch Grundstufe II (A1) kompakt (2026H78510) 
LOCATION:Bildungszentrum Gebrüder-Grimm, EG26, Elsterstr. 1, 49808 Lingen
END:VEVENT
BEGIN:VEVENT
DTSTAMP:20260425T001939
DTSTART;TZID=Europe/Berlin:20260928T180000
DTEND;TZID=Europe/Berlin:20260928T201500
UID:2026H78510-20260928T180000@VHSLINGEN
SUMMARY:Norwegisch Grundstufe II (A1) kompakt (2026H78510) 
LOCATION:Bildungszentrum Gebrüder-Grimm, EG26, Elsterstr. 1, 49808 Lingen
END:VEVENT
BEGIN:VEVENT
DTSTAMP:20260425T001939
DTSTART;TZID=Europe/Berlin:20261005T180000
DTEND;TZID=Europe/Berlin:20261005T201500
UID:2026H78510-20261005T180000@VHSLINGEN
SUMMARY:Norwegisch Grundstufe II (A1) kompakt (2026H78510) 
LOCATION:Bildungszentrum Gebrüder-Grimm, EG26, Elsterstr. 1, 49808 Lingen
END:VEVENT
BEGIN:VEVENT
DTSTAMP:20260425T001939
DTSTART;TZID=Europe/Berlin:20261026T180000
DTEND;TZID=Europe/Berlin:20261026T201500
UID:2026H78510-20261026T180000@VHSLINGEN
SUMMARY:Norwegisch Grundstufe II (A1) kompakt (2026H78510) 
LOCATION:Bildungszentrum Gebrüder-Grimm, EG26, Elsterstr. 1, 49808 Lingen
END:VEVENT
BEGIN:VEVENT
DTSTAMP:20260425T001939
DTSTART;TZID=Europe/Berlin:20261102T180000
DTEND;TZID=Europe/Berlin:20261102T201500
UID:2026H78510-20261102T180000@VHSLINGEN
SUMMARY:Norwegisch Grundstufe II (A1) kompakt (2026H78510) 
LOCATION:Bildungszentrum Gebrüder-Grimm, EG26, Elsterstr. 1, 49808 Lingen
END:VEVENT
END:VCALENDAR