BEGIN:VCALENDAR
VERSION:2.0
PRODID:https://www.kufer.de/kuferweb / DE
METHOD:PUBLISH
CALSCALE:GREGORIAN
X-WR-TIMEZONE:Europe/Berlin
BEGIN:VTIMEZONE
TZID:Europe/Berlin
X-LIC-LOCATION:Europe/Berlin
BEGIN:DAYLIGHT
TZOFFSETFROM:+0100
TZOFFSETTO:+0200
TZNAME:CEST
DTSTART:19700329T020000
RRULE:FREQ=YEARLY;INTERVAL=1;BYDAY=-1SU;BYMONTH=3
END:DAYLIGHT
BEGIN:STANDARD
TZOFFSETFROM:+0200
TZOFFSETTO:+0100
TZNAME:CET
DTSTART:19701025T030000
RRULE:FREQ=YEARLY;INTERVAL=1;BYDAY=-1SU;BYMONTH=10
END:STANDARD
END:VTIMEZONE
BEGIN:VEVENT
DTSTAMP:20260424T223857
DTSTART;TZID=Europe/Berlin:20261123T180000
DTEND;TZID=Europe/Berlin:20261123T201500
UID:2026H78500-20261123T180000@VHSLINGEN
SUMMARY:Faszination Norwegisch (A1) Grundstufe I kompakt (2026H78500) 
LOCATION:Bildungszentrum Gebrüder-Grimm, EG26, Elsterstr. 1, 49808 Lingen
END:VEVENT
BEGIN:VEVENT
DTSTAMP:20260424T223857
DTSTART;TZID=Europe/Berlin:20261130T180000
DTEND;TZID=Europe/Berlin:20261130T201500
UID:2026H78500-20261130T180000@VHSLINGEN
SUMMARY:Faszination Norwegisch (A1) Grundstufe I kompakt (2026H78500) 
LOCATION:Bildungszentrum Gebrüder-Grimm, EG26, Elsterstr. 1, 49808 Lingen
END:VEVENT
BEGIN:VEVENT
DTSTAMP:20260424T223857
DTSTART;TZID=Europe/Berlin:20261207T180000
DTEND;TZID=Europe/Berlin:20261207T201500
UID:2026H78500-20261207T180000@VHSLINGEN
SUMMARY:Faszination Norwegisch (A1) Grundstufe I kompakt (2026H78500) 
LOCATION:Bildungszentrum Gebrüder-Grimm, EG26, Elsterstr. 1, 49808 Lingen
END:VEVENT
BEGIN:VEVENT
DTSTAMP:20260424T223857
DTSTART;TZID=Europe/Berlin:20261214T180000
DTEND;TZID=Europe/Berlin:20261214T201500
UID:2026H78500-20261214T180000@VHSLINGEN
SUMMARY:Faszination Norwegisch (A1) Grundstufe I kompakt (2026H78500) 
LOCATION:Bildungszentrum Gebrüder-Grimm, EG26, Elsterstr. 1, 49808 Lingen
END:VEVENT
BEGIN:VEVENT
DTSTAMP:20260424T223857
DTSTART;TZID=Europe/Berlin:20261221T180000
DTEND;TZID=Europe/Berlin:20261221T201500
UID:2026H78500-20261221T180000@VHSLINGEN
SUMMARY:Faszination Norwegisch (A1) Grundstufe I kompakt (2026H78500) 
LOCATION:Bildungszentrum Gebrüder-Grimm, EG26, Elsterstr. 1, 49808 Lingen
END:VEVENT
BEGIN:VEVENT
DTSTAMP:20260424T223857
DTSTART;TZID=Europe/Berlin:20270111T180000
DTEND;TZID=Europe/Berlin:20270111T201500
UID:2026H78500-20270111T180000@VHSLINGEN
SUMMARY:Faszination Norwegisch (A1) Grundstufe I kompakt (2026H78500) 
LOCATION:Bildungszentrum Gebrüder-Grimm, EG26, Elsterstr. 1, 49808 Lingen
END:VEVENT
BEGIN:VEVENT
DTSTAMP:20260424T223857
DTSTART;TZID=Europe/Berlin:20270118T180000
DTEND;TZID=Europe/Berlin:20270118T201500
UID:2026H78500-20270118T180000@VHSLINGEN
SUMMARY:Faszination Norwegisch (A1) Grundstufe I kompakt (2026H78500) 
LOCATION:Bildungszentrum Gebrüder-Grimm, EG26, Elsterstr. 1, 49808 Lingen
END:VEVENT
BEGIN:VEVENT
DTSTAMP:20260424T223857
DTSTART;TZID=Europe/Berlin:20270125T180000
DTEND;TZID=Europe/Berlin:20270125T201500
UID:2026H78500-20270125T180000@VHSLINGEN
DESCRIPTION:Raumwechsel
SUMMARY:Faszination Norwegisch (A1) Grundstufe I kompakt (2026H78500) 
LOCATION:Bildungszentrum Gebrüder-Grimm, EG27, Elsterstr. 1, 49808 Lingen
END:VEVENT
END:VCALENDAR