BEGIN:VCALENDAR
VERSION:2.0
PRODID:https://www.kufer.de/kuferweb / DE
METHOD:PUBLISH
CALSCALE:GREGORIAN
X-WR-TIMEZONE:Europe/Berlin
BEGIN:VTIMEZONE
TZID:Europe/Berlin
X-LIC-LOCATION:Europe/Berlin
BEGIN:DAYLIGHT
TZOFFSETFROM:+0100
TZOFFSETTO:+0200
TZNAME:CEST
DTSTART:19700329T020000
RRULE:FREQ=YEARLY;INTERVAL=1;BYDAY=-1SU;BYMONTH=3
END:DAYLIGHT
BEGIN:STANDARD
TZOFFSETFROM:+0200
TZOFFSETTO:+0100
TZNAME:CET
DTSTART:19701025T030000
RRULE:FREQ=YEARLY;INTERVAL=1;BYDAY=-1SU;BYMONTH=10
END:STANDARD
END:VTIMEZONE
BEGIN:VEVENT
DTSTAMP:20260424T180752
DTSTART;TZID=Europe/Berlin:20260901T183000
DTEND;TZID=Europe/Berlin:20260901T200000
UID:2026H78410-20260901T183000@VHSLINGEN
SUMMARY:Schwedisch (A2) - Auffrischen und Durchstarten smart hybrid (2026H78410) 
LOCATION:Bildungszentrum Gebrüder-Grimm, EG07, Elsterstr. 1, 49808 Lingen
END:VEVENT
BEGIN:VEVENT
DTSTAMP:20260424T180752
DTSTART;TZID=Europe/Berlin:20260915T183000
DTEND;TZID=Europe/Berlin:20260915T200000
UID:2026H78410-20260915T183000@VHSLINGEN
SUMMARY:Schwedisch (A2) - Auffrischen und Durchstarten smart hybrid (2026H78410) 
LOCATION:Bildungszentrum Gebrüder-Grimm, EG07, Elsterstr. 1, 49808 Lingen
END:VEVENT
BEGIN:VEVENT
DTSTAMP:20260424T180752
DTSTART;TZID=Europe/Berlin:20260929T183000
DTEND;TZID=Europe/Berlin:20260929T200000
UID:2026H78410-20260929T183000@VHSLINGEN
SUMMARY:Schwedisch (A2) - Auffrischen und Durchstarten smart hybrid (2026H78410) 
LOCATION:Bildungszentrum Gebrüder-Grimm, EG07, Elsterstr. 1, 49808 Lingen
END:VEVENT
BEGIN:VEVENT
DTSTAMP:20260424T180752
DTSTART;TZID=Europe/Berlin:20261027T183000
DTEND;TZID=Europe/Berlin:20261027T200000
UID:2026H78410-20261027T183000@VHSLINGEN
SUMMARY:Schwedisch (A2) - Auffrischen und Durchstarten smart hybrid (2026H78410) 
LOCATION:Bildungszentrum Gebrüder-Grimm, EG07, Elsterstr. 1, 49808 Lingen
END:VEVENT
BEGIN:VEVENT
DTSTAMP:20260424T180752
DTSTART;TZID=Europe/Berlin:20261110T183000
DTEND;TZID=Europe/Berlin:20261110T200000
UID:2026H78410-20261110T183000@VHSLINGEN
SUMMARY:Schwedisch (A2) - Auffrischen und Durchstarten smart hybrid (2026H78410) 
LOCATION:Bildungszentrum Gebrüder-Grimm, EG07, Elsterstr. 1, 49808 Lingen
END:VEVENT
END:VCALENDAR