BEGIN:VCALENDAR
VERSION:2.0
PRODID:https://www.kufer.de/kuferweb / DE
METHOD:PUBLISH
CALSCALE:GREGORIAN
X-WR-TIMEZONE:Europe/Berlin
BEGIN:VTIMEZONE
TZID:Europe/Berlin
X-LIC-LOCATION:Europe/Berlin
BEGIN:DAYLIGHT
TZOFFSETFROM:+0100
TZOFFSETTO:+0200
TZNAME:CEST
DTSTART:19700329T020000
RRULE:FREQ=YEARLY;INTERVAL=1;BYDAY=-1SU;BYMONTH=3
END:DAYLIGHT
BEGIN:STANDARD
TZOFFSETFROM:+0200
TZOFFSETTO:+0100
TZNAME:CET
DTSTART:19701025T030000
RRULE:FREQ=YEARLY;INTERVAL=1;BYDAY=-1SU;BYMONTH=10
END:STANDARD
END:VTIMEZONE
BEGIN:VEVENT
DTSTAMP:20260424T223922
DTSTART;TZID=Europe/Berlin:20260831T170000
DTEND;TZID=Europe/Berlin:20260831T183000
UID:2026H78050-20260831T170000@VHSLINGEN
SUMMARY:Niederländisch Aufbaustufe II (A2) Konversation (2026H78050) 
LOCATION:Bildungszentrum Gebrüder-Grimm, EG11, Elsterstr. 1, 49808 Lingen
END:VEVENT
BEGIN:VEVENT
DTSTAMP:20260424T223922
DTSTART;TZID=Europe/Berlin:20260907T170000
DTEND;TZID=Europe/Berlin:20260907T183000
UID:2026H78050-20260907T170000@VHSLINGEN
SUMMARY:Niederländisch Aufbaustufe II (A2) Konversation (2026H78050) 
LOCATION:Bildungszentrum Gebrüder-Grimm, EG11, Elsterstr. 1, 49808 Lingen
END:VEVENT
BEGIN:VEVENT
DTSTAMP:20260424T223922
DTSTART;TZID=Europe/Berlin:20260914T170000
DTEND;TZID=Europe/Berlin:20260914T183000
UID:2026H78050-20260914T170000@VHSLINGEN
SUMMARY:Niederländisch Aufbaustufe II (A2) Konversation (2026H78050) 
LOCATION:Bildungszentrum Gebrüder-Grimm, EG11, Elsterstr. 1, 49808 Lingen
END:VEVENT
BEGIN:VEVENT
DTSTAMP:20260424T223922
DTSTART;TZID=Europe/Berlin:20260928T170000
DTEND;TZID=Europe/Berlin:20260928T183000
UID:2026H78050-20260928T170000@VHSLINGEN
SUMMARY:Niederländisch Aufbaustufe II (A2) Konversation (2026H78050) 
LOCATION:Bildungszentrum Gebrüder-Grimm, EG11, Elsterstr. 1, 49808 Lingen
END:VEVENT
BEGIN:VEVENT
DTSTAMP:20260424T223922
DTSTART;TZID=Europe/Berlin:20261005T170000
DTEND;TZID=Europe/Berlin:20261005T183000
UID:2026H78050-20261005T170000@VHSLINGEN
SUMMARY:Niederländisch Aufbaustufe II (A2) Konversation (2026H78050) 
LOCATION:Bildungszentrum Gebrüder-Grimm, EG11, Elsterstr. 1, 49808 Lingen
END:VEVENT
BEGIN:VEVENT
DTSTAMP:20260424T223922
DTSTART;TZID=Europe/Berlin:20261026T170000
DTEND;TZID=Europe/Berlin:20261026T183000
UID:2026H78050-20261026T170000@VHSLINGEN
SUMMARY:Niederländisch Aufbaustufe II (A2) Konversation (2026H78050) 
LOCATION:Bildungszentrum Gebrüder-Grimm, EG11, Elsterstr. 1, 49808 Lingen
END:VEVENT
BEGIN:VEVENT
DTSTAMP:20260424T223922
DTSTART;TZID=Europe/Berlin:20261102T170000
DTEND;TZID=Europe/Berlin:20261102T183000
UID:2026H78050-20261102T170000@VHSLINGEN
SUMMARY:Niederländisch Aufbaustufe II (A2) Konversation (2026H78050) 
LOCATION:Bildungszentrum Gebrüder-Grimm, EG11, Elsterstr. 1, 49808 Lingen
END:VEVENT
BEGIN:VEVENT
DTSTAMP:20260424T223922
DTSTART;TZID=Europe/Berlin:20261109T170000
DTEND;TZID=Europe/Berlin:20261109T183000
UID:2026H78050-20261109T170000@VHSLINGEN
SUMMARY:Niederländisch Aufbaustufe II (A2) Konversation (2026H78050) 
LOCATION:Bildungszentrum Gebrüder-Grimm, EG11, Elsterstr. 1, 49808 Lingen
END:VEVENT
BEGIN:VEVENT
DTSTAMP:20260424T223922
DTSTART;TZID=Europe/Berlin:20261116T170000
DTEND;TZID=Europe/Berlin:20261116T183000
UID:2026H78050-20261116T170000@VHSLINGEN
SUMMARY:Niederländisch Aufbaustufe II (A2) Konversation (2026H78050) 
LOCATION:Bildungszentrum Gebrüder-Grimm, EG11, Elsterstr. 1, 49808 Lingen
END:VEVENT
BEGIN:VEVENT
DTSTAMP:20260424T223922
DTSTART;TZID=Europe/Berlin:20261123T170000
DTEND;TZID=Europe/Berlin:20261123T183000
UID:2026H78050-20261123T170000@VHSLINGEN
SUMMARY:Niederländisch Aufbaustufe II (A2) Konversation (2026H78050) 
LOCATION:Bildungszentrum Gebrüder-Grimm, EG11, Elsterstr. 1, 49808 Lingen
END:VEVENT
BEGIN:VEVENT
DTSTAMP:20260424T223922
DTSTART;TZID=Europe/Berlin:20261130T170000
DTEND;TZID=Europe/Berlin:20261130T183000
UID:2026H78050-20261130T170000@VHSLINGEN
SUMMARY:Niederländisch Aufbaustufe II (A2) Konversation (2026H78050) 
LOCATION:Bildungszentrum Gebrüder-Grimm, EG11, Elsterstr. 1, 49808 Lingen
END:VEVENT
BEGIN:VEVENT
DTSTAMP:20260424T223922
DTSTART;TZID=Europe/Berlin:20261207T170000
DTEND;TZID=Europe/Berlin:20261207T183000
UID:2026H78050-20261207T170000@VHSLINGEN
SUMMARY:Niederländisch Aufbaustufe II (A2) Konversation (2026H78050) 
LOCATION:Bildungszentrum Gebrüder-Grimm, EG11, Elsterstr. 1, 49808 Lingen
END:VEVENT
BEGIN:VEVENT
DTSTAMP:20260424T223922
DTSTART;TZID=Europe/Berlin:20261214T170000
DTEND;TZID=Europe/Berlin:20261214T183000
UID:2026H78050-20261214T170000@VHSLINGEN
SUMMARY:Niederländisch Aufbaustufe II (A2) Konversation (2026H78050) 
LOCATION:Bildungszentrum Gebrüder-Grimm, EG11, Elsterstr. 1, 49808 Lingen
END:VEVENT
BEGIN:VEVENT
DTSTAMP:20260424T223922
DTSTART;TZID=Europe/Berlin:20261221T170000
DTEND;TZID=Europe/Berlin:20261221T183000
UID:2026H78050-20261221T170000@VHSLINGEN
SUMMARY:Niederländisch Aufbaustufe II (A2) Konversation (2026H78050) 
LOCATION:Bildungszentrum Gebrüder-Grimm, EG11, Elsterstr. 1, 49808 Lingen
END:VEVENT
BEGIN:VEVENT
DTSTAMP:20260424T223922
DTSTART;TZID=Europe/Berlin:20270111T170000
DTEND;TZID=Europe/Berlin:20270111T183000
UID:2026H78050-20270111T170000@VHSLINGEN
SUMMARY:Niederländisch Aufbaustufe II (A2) Konversation (2026H78050) 
LOCATION:Bildungszentrum Gebrüder-Grimm, EG11, Elsterstr. 1, 49808 Lingen
END:VEVENT
END:VCALENDAR