BEGIN:VCALENDAR
VERSION:2.0
PRODID:https://www.kufer.de/kuferweb / DE
METHOD:PUBLISH
CALSCALE:GREGORIAN
X-WR-TIMEZONE:Europe/Berlin
BEGIN:VTIMEZONE
TZID:Europe/Berlin
X-LIC-LOCATION:Europe/Berlin
BEGIN:DAYLIGHT
TZOFFSETFROM:+0100
TZOFFSETTO:+0200
TZNAME:CEST
DTSTART:19700329T020000
RRULE:FREQ=YEARLY;INTERVAL=1;BYDAY=-1SU;BYMONTH=3
END:DAYLIGHT
BEGIN:STANDARD
TZOFFSETFROM:+0200
TZOFFSETTO:+0100
TZNAME:CET
DTSTART:19701025T030000
RRULE:FREQ=YEARLY;INTERVAL=1;BYDAY=-1SU;BYMONTH=10
END:STANDARD
END:VTIMEZONE
BEGIN:VEVENT
DTSTAMP:20260424T223932
DTSTART;TZID=Europe/Berlin:20261019T090000
DTEND;TZID=Europe/Berlin:20261019T111500
UID:2026H72090-20261019T090000@VHSLINGEN
SUMMARY:Fit in Englisch für 7. Klässler kompakt (2026H72090) 
LOCATION:Bildungszentrum Gebrüder-Grimm, EG08, Elsterstr. 1, 49808 Lingen
END:VEVENT
BEGIN:VEVENT
DTSTAMP:20260424T223932
DTSTART;TZID=Europe/Berlin:20261020T090000
DTEND;TZID=Europe/Berlin:20261020T111500
UID:2026H72090-20261020T090000@VHSLINGEN
SUMMARY:Fit in Englisch für 7. Klässler kompakt (2026H72090) 
LOCATION:Bildungszentrum Gebrüder-Grimm, EG08, Elsterstr. 1, 49808 Lingen
END:VEVENT
BEGIN:VEVENT
DTSTAMP:20260424T223932
DTSTART;TZID=Europe/Berlin:20261021T090000
DTEND;TZID=Europe/Berlin:20261021T111500
UID:2026H72090-20261021T090000@VHSLINGEN
SUMMARY:Fit in Englisch für 7. Klässler kompakt (2026H72090) 
LOCATION:Bildungszentrum Gebrüder-Grimm, EG08, Elsterstr. 1, 49808 Lingen
END:VEVENT
END:VCALENDAR