BEGIN:VCALENDAR
VERSION:2.0
PRODID:https://www.kufer.de/kuferweb / DE
METHOD:PUBLISH
CALSCALE:GREGORIAN
X-WR-TIMEZONE:Europe/Berlin
BEGIN:VTIMEZONE
TZID:Europe/Berlin
X-LIC-LOCATION:Europe/Berlin
BEGIN:DAYLIGHT
TZOFFSETFROM:+0100
TZOFFSETTO:+0200
TZNAME:CEST
DTSTART:19700329T020000
RRULE:FREQ=YEARLY;INTERVAL=1;BYDAY=-1SU;BYMONTH=3
END:DAYLIGHT
BEGIN:STANDARD
TZOFFSETFROM:+0200
TZOFFSETTO:+0100
TZNAME:CET
DTSTART:19701025T030000
RRULE:FREQ=YEARLY;INTERVAL=1;BYDAY=-1SU;BYMONTH=10
END:STANDARD
END:VTIMEZONE
BEGIN:VEVENT
DTSTAMP:20260425T053345
DTSTART;TZID=Europe/Berlin:20260901T181500
DTEND;TZID=Europe/Berlin:20260901T194500
UID:2026H72080-20260901T181500@VHSLINGEN
SUMMARY:Talk, learn and enjoy (B2+/C1) hybrid (2026H72080) 
LOCATION:Bildungszentrum Gebrüder-Grimm, EG08, Elsterstr. 1, 49808 Lingen
END:VEVENT
BEGIN:VEVENT
DTSTAMP:20260425T053345
DTSTART;TZID=Europe/Berlin:20260908T181500
DTEND;TZID=Europe/Berlin:20260908T194500
UID:2026H72080-20260908T181500@VHSLINGEN
SUMMARY:Talk, learn and enjoy (B2+/C1) hybrid (2026H72080) 
LOCATION:Bildungszentrum Gebrüder-Grimm, EG08, Elsterstr. 1, 49808 Lingen
END:VEVENT
BEGIN:VEVENT
DTSTAMP:20260425T053345
DTSTART;TZID=Europe/Berlin:20260915T181500
DTEND;TZID=Europe/Berlin:20260915T194500
UID:2026H72080-20260915T181500@VHSLINGEN
SUMMARY:Talk, learn and enjoy (B2+/C1) hybrid (2026H72080) 
LOCATION:Bildungszentrum Gebrüder-Grimm, EG08, Elsterstr. 1, 49808 Lingen
END:VEVENT
BEGIN:VEVENT
DTSTAMP:20260425T053345
DTSTART;TZID=Europe/Berlin:20260922T181500
DTEND;TZID=Europe/Berlin:20260922T194500
UID:2026H72080-20260922T181500@VHSLINGEN
SUMMARY:Talk, learn and enjoy (B2+/C1) hybrid (2026H72080) 
LOCATION:Bildungszentrum Gebrüder-Grimm, EG08, Elsterstr. 1, 49808 Lingen
END:VEVENT
BEGIN:VEVENT
DTSTAMP:20260425T053345
DTSTART;TZID=Europe/Berlin:20260929T181500
DTEND;TZID=Europe/Berlin:20260929T194500
UID:2026H72080-20260929T181500@VHSLINGEN
SUMMARY:Talk, learn and enjoy (B2+/C1) hybrid (2026H72080) 
LOCATION:Bildungszentrum Gebrüder-Grimm, EG08, Elsterstr. 1, 49808 Lingen
END:VEVENT
BEGIN:VEVENT
DTSTAMP:20260425T053345
DTSTART;TZID=Europe/Berlin:20261006T181500
DTEND;TZID=Europe/Berlin:20261006T194500
UID:2026H72080-20261006T181500@VHSLINGEN
SUMMARY:Talk, learn and enjoy (B2+/C1) hybrid (2026H72080) 
LOCATION:Bildungszentrum Gebrüder-Grimm, EG08, Elsterstr. 1, 49808 Lingen
END:VEVENT
BEGIN:VEVENT
DTSTAMP:20260425T053345
DTSTART;TZID=Europe/Berlin:20261027T181500
DTEND;TZID=Europe/Berlin:20261027T194500
UID:2026H72080-20261027T181500@VHSLINGEN
SUMMARY:Talk, learn and enjoy (B2+/C1) hybrid (2026H72080) 
LOCATION:Bildungszentrum Gebrüder-Grimm, EG08, Elsterstr. 1, 49808 Lingen
END:VEVENT
BEGIN:VEVENT
DTSTAMP:20260425T053345
DTSTART;TZID=Europe/Berlin:20261103T181500
DTEND;TZID=Europe/Berlin:20261103T194500
UID:2026H72080-20261103T181500@VHSLINGEN
SUMMARY:Talk, learn and enjoy (B2+/C1) hybrid (2026H72080) 
LOCATION:Bildungszentrum Gebrüder-Grimm, EG08, Elsterstr. 1, 49808 Lingen
END:VEVENT
BEGIN:VEVENT
DTSTAMP:20260425T053345
DTSTART;TZID=Europe/Berlin:20261110T181500
DTEND;TZID=Europe/Berlin:20261110T194500
UID:2026H72080-20261110T181500@VHSLINGEN
SUMMARY:Talk, learn and enjoy (B2+/C1) hybrid (2026H72080) 
LOCATION:Bildungszentrum Gebrüder-Grimm, EG08, Elsterstr. 1, 49808 Lingen
END:VEVENT
BEGIN:VEVENT
DTSTAMP:20260425T053345
DTSTART;TZID=Europe/Berlin:20261117T181500
DTEND;TZID=Europe/Berlin:20261117T194500
UID:2026H72080-20261117T181500@VHSLINGEN
SUMMARY:Talk, learn and enjoy (B2+/C1) hybrid (2026H72080) 
LOCATION:Bildungszentrum Gebrüder-Grimm, EG08, Elsterstr. 1, 49808 Lingen
END:VEVENT
BEGIN:VEVENT
DTSTAMP:20260425T053345
DTSTART;TZID=Europe/Berlin:20261124T181500
DTEND;TZID=Europe/Berlin:20261124T194500
UID:2026H72080-20261124T181500@VHSLINGEN
SUMMARY:Talk, learn and enjoy (B2+/C1) hybrid (2026H72080) 
LOCATION:Bildungszentrum Gebrüder-Grimm, EG08, Elsterstr. 1, 49808 Lingen
END:VEVENT
BEGIN:VEVENT
DTSTAMP:20260425T053345
DTSTART;TZID=Europe/Berlin:20261201T181500
DTEND;TZID=Europe/Berlin:20261201T194500
UID:2026H72080-20261201T181500@VHSLINGEN
SUMMARY:Talk, learn and enjoy (B2+/C1) hybrid (2026H72080) 
LOCATION:Bildungszentrum Gebrüder-Grimm, EG08, Elsterstr. 1, 49808 Lingen
END:VEVENT
BEGIN:VEVENT
DTSTAMP:20260425T053345
DTSTART;TZID=Europe/Berlin:20261208T181500
DTEND;TZID=Europe/Berlin:20261208T194500
UID:2026H72080-20261208T181500@VHSLINGEN
SUMMARY:Talk, learn and enjoy (B2+/C1) hybrid (2026H72080) 
LOCATION:Bildungszentrum Gebrüder-Grimm, EG08, Elsterstr. 1, 49808 Lingen
END:VEVENT
BEGIN:VEVENT
DTSTAMP:20260425T053345
DTSTART;TZID=Europe/Berlin:20261215T181500
DTEND;TZID=Europe/Berlin:20261215T194500
UID:2026H72080-20261215T181500@VHSLINGEN
SUMMARY:Talk, learn and enjoy (B2+/C1) hybrid (2026H72080) 
LOCATION:Bildungszentrum Gebrüder-Grimm, EG08, Elsterstr. 1, 49808 Lingen
END:VEVENT
BEGIN:VEVENT
DTSTAMP:20260425T053345
DTSTART;TZID=Europe/Berlin:20261222T181500
DTEND;TZID=Europe/Berlin:20261222T194500
UID:2026H72080-20261222T181500@VHSLINGEN
SUMMARY:Talk, learn and enjoy (B2+/C1) hybrid (2026H72080) 
LOCATION:Bildungszentrum Gebrüder-Grimm, EG08, Elsterstr. 1, 49808 Lingen
END:VEVENT
END:VCALENDAR