BEGIN:VCALENDAR
VERSION:2.0
PRODID:https://www.kufer.de/kuferweb / DE
METHOD:PUBLISH
CALSCALE:GREGORIAN
X-WR-TIMEZONE:Europe/Berlin
BEGIN:VTIMEZONE
TZID:Europe/Berlin
X-LIC-LOCATION:Europe/Berlin
BEGIN:DAYLIGHT
TZOFFSETFROM:+0100
TZOFFSETTO:+0200
TZNAME:CEST
DTSTART:19700329T020000
RRULE:FREQ=YEARLY;INTERVAL=1;BYDAY=-1SU;BYMONTH=3
END:DAYLIGHT
BEGIN:STANDARD
TZOFFSETFROM:+0200
TZOFFSETTO:+0100
TZNAME:CET
DTSTART:19701025T030000
RRULE:FREQ=YEARLY;INTERVAL=1;BYDAY=-1SU;BYMONTH=10
END:STANDARD
END:VTIMEZONE
BEGIN:VEVENT
DTSTAMP:20260424T210506
DTSTART;TZID=Europe/Berlin:20260818T164500
DTEND;TZID=Europe/Berlin:20260818T181500
UID:2026H72005-20260818T164500@VHSLINGEN
SUMMARY:Englisch Aufbaustufe I (A2) 60+ (2026H72005) 
LOCATION:Bildungszentrum Gebrüder-Grimm, EG07, Elsterstr. 1, 49808 Lingen
END:VEVENT
BEGIN:VEVENT
DTSTAMP:20260424T210506
DTSTART;TZID=Europe/Berlin:20260825T164500
DTEND;TZID=Europe/Berlin:20260825T181500
UID:2026H72005-20260825T164500@VHSLINGEN
DESCRIPTION:Achtung: Raumwechsel
SUMMARY:Englisch Aufbaustufe I (A2) 60+ (2026H72005) 
LOCATION:Bildungszentrum Gebrüder-Grimm, DG06, Elsterstr. 1, 49808 Lingen
END:VEVENT
BEGIN:VEVENT
DTSTAMP:20260424T210506
DTSTART;TZID=Europe/Berlin:20260901T164500
DTEND;TZID=Europe/Berlin:20260901T181500
UID:2026H72005-20260901T164500@VHSLINGEN
SUMMARY:Englisch Aufbaustufe I (A2) 60+ (2026H72005) 
LOCATION:Bildungszentrum Gebrüder-Grimm, EG07, Elsterstr. 1, 49808 Lingen
END:VEVENT
BEGIN:VEVENT
DTSTAMP:20260424T210506
DTSTART;TZID=Europe/Berlin:20260908T164500
DTEND;TZID=Europe/Berlin:20260908T181500
UID:2026H72005-20260908T164500@VHSLINGEN
SUMMARY:Englisch Aufbaustufe I (A2) 60+ (2026H72005) 
LOCATION:Bildungszentrum Gebrüder-Grimm, EG07, Elsterstr. 1, 49808 Lingen
END:VEVENT
BEGIN:VEVENT
DTSTAMP:20260424T210506
DTSTART;TZID=Europe/Berlin:20260915T164500
DTEND;TZID=Europe/Berlin:20260915T181500
UID:2026H72005-20260915T164500@VHSLINGEN
SUMMARY:Englisch Aufbaustufe I (A2) 60+ (2026H72005) 
LOCATION:Bildungszentrum Gebrüder-Grimm, EG07, Elsterstr. 1, 49808 Lingen
END:VEVENT
BEGIN:VEVENT
DTSTAMP:20260424T210506
DTSTART;TZID=Europe/Berlin:20260922T164500
DTEND;TZID=Europe/Berlin:20260922T181500
UID:2026H72005-20260922T164500@VHSLINGEN
SUMMARY:Englisch Aufbaustufe I (A2) 60+ (2026H72005) 
LOCATION:Bildungszentrum Gebrüder-Grimm, EG07, Elsterstr. 1, 49808 Lingen
END:VEVENT
BEGIN:VEVENT
DTSTAMP:20260424T210506
DTSTART;TZID=Europe/Berlin:20260929T164500
DTEND;TZID=Europe/Berlin:20260929T181500
UID:2026H72005-20260929T164500@VHSLINGEN
SUMMARY:Englisch Aufbaustufe I (A2) 60+ (2026H72005) 
LOCATION:Bildungszentrum Gebrüder-Grimm, EG07, Elsterstr. 1, 49808 Lingen
END:VEVENT
BEGIN:VEVENT
DTSTAMP:20260424T210506
DTSTART;TZID=Europe/Berlin:20261006T164500
DTEND;TZID=Europe/Berlin:20261006T181500
UID:2026H72005-20261006T164500@VHSLINGEN
SUMMARY:Englisch Aufbaustufe I (A2) 60+ (2026H72005) 
LOCATION:Bildungszentrum Gebrüder-Grimm, EG07, Elsterstr. 1, 49808 Lingen
END:VEVENT
BEGIN:VEVENT
DTSTAMP:20260424T210506
DTSTART;TZID=Europe/Berlin:20261027T164500
DTEND;TZID=Europe/Berlin:20261027T181500
UID:2026H72005-20261027T164500@VHSLINGEN
SUMMARY:Englisch Aufbaustufe I (A2) 60+ (2026H72005) 
LOCATION:Bildungszentrum Gebrüder-Grimm, EG07, Elsterstr. 1, 49808 Lingen
END:VEVENT
BEGIN:VEVENT
DTSTAMP:20260424T210506
DTSTART;TZID=Europe/Berlin:20261103T164500
DTEND;TZID=Europe/Berlin:20261103T181500
UID:2026H72005-20261103T164500@VHSLINGEN
SUMMARY:Englisch Aufbaustufe I (A2) 60+ (2026H72005) 
LOCATION:Bildungszentrum Gebrüder-Grimm, EG07, Elsterstr. 1, 49808 Lingen
END:VEVENT
BEGIN:VEVENT
DTSTAMP:20260424T210506
DTSTART;TZID=Europe/Berlin:20261110T164500
DTEND;TZID=Europe/Berlin:20261110T181500
UID:2026H72005-20261110T164500@VHSLINGEN
SUMMARY:Englisch Aufbaustufe I (A2) 60+ (2026H72005) 
LOCATION:Bildungszentrum Gebrüder-Grimm, EG07, Elsterstr. 1, 49808 Lingen
END:VEVENT
END:VCALENDAR