BEGIN:VCALENDAR
VERSION:2.0
PRODID:https://www.kufer.de/kuferweb / DE
METHOD:PUBLISH
CALSCALE:GREGORIAN
X-WR-TIMEZONE:Europe/Berlin
BEGIN:VTIMEZONE
TZID:Europe/Berlin
X-LIC-LOCATION:Europe/Berlin
BEGIN:DAYLIGHT
TZOFFSETFROM:+0100
TZOFFSETTO:+0200
TZNAME:CEST
DTSTART:19700329T020000
RRULE:FREQ=YEARLY;INTERVAL=1;BYDAY=-1SU;BYMONTH=3
END:DAYLIGHT
BEGIN:STANDARD
TZOFFSETFROM:+0200
TZOFFSETTO:+0100
TZNAME:CET
DTSTART:19701025T030000
RRULE:FREQ=YEARLY;INTERVAL=1;BYDAY=-1SU;BYMONTH=10
END:STANDARD
END:VTIMEZONE
BEGIN:VEVENT
DTSTAMP:20260424T223907
DTSTART;TZID=Europe/Berlin:20260917T183000
DTEND;TZID=Europe/Berlin:20260917T200000
UID:2026H72000-20260917T183000@VHSLINGEN
SUMMARY:Easy English - im wahrsten Sinne (A1) kompakt 60+ (2026H72000) 
LOCATION:Bildungszentrum Gebrüder-Grimm, EG07, Elsterstr. 1, 49808 Lingen
END:VEVENT
BEGIN:VEVENT
DTSTAMP:20260424T223907
DTSTART;TZID=Europe/Berlin:20260924T183000
DTEND;TZID=Europe/Berlin:20260924T200000
UID:2026H72000-20260924T183000@VHSLINGEN
SUMMARY:Easy English - im wahrsten Sinne (A1) kompakt 60+ (2026H72000) 
LOCATION:Bildungszentrum Gebrüder-Grimm, EG07, Elsterstr. 1, 49808 Lingen
END:VEVENT
BEGIN:VEVENT
DTSTAMP:20260424T223907
DTSTART;TZID=Europe/Berlin:20261001T183000
DTEND;TZID=Europe/Berlin:20261001T200000
UID:2026H72000-20261001T183000@VHSLINGEN
SUMMARY:Easy English - im wahrsten Sinne (A1) kompakt 60+ (2026H72000) 
LOCATION:Bildungszentrum Gebrüder-Grimm, EG07, Elsterstr. 1, 49808 Lingen
END:VEVENT
BEGIN:VEVENT
DTSTAMP:20260424T223907
DTSTART;TZID=Europe/Berlin:20261008T183000
DTEND;TZID=Europe/Berlin:20261008T200000
UID:2026H72000-20261008T183000@VHSLINGEN
SUMMARY:Easy English - im wahrsten Sinne (A1) kompakt 60+ (2026H72000) 
LOCATION:Bildungszentrum Gebrüder-Grimm, EG07, Elsterstr. 1, 49808 Lingen
END:VEVENT
BEGIN:VEVENT
DTSTAMP:20260424T223907
DTSTART;TZID=Europe/Berlin:20261029T183000
DTEND;TZID=Europe/Berlin:20261029T200000
UID:2026H72000-20261029T183000@VHSLINGEN
SUMMARY:Easy English - im wahrsten Sinne (A1) kompakt 60+ (2026H72000) 
LOCATION:Bildungszentrum Gebrüder-Grimm, EG07, Elsterstr. 1, 49808 Lingen
END:VEVENT
BEGIN:VEVENT
DTSTAMP:20260424T223907
DTSTART;TZID=Europe/Berlin:20261105T183000
DTEND;TZID=Europe/Berlin:20261105T200000
UID:2026H72000-20261105T183000@VHSLINGEN
SUMMARY:Easy English - im wahrsten Sinne (A1) kompakt 60+ (2026H72000) 
LOCATION:Bildungszentrum Gebrüder-Grimm, EG07, Elsterstr. 1, 49808 Lingen
END:VEVENT
BEGIN:VEVENT
DTSTAMP:20260424T223907
DTSTART;TZID=Europe/Berlin:20261112T183000
DTEND;TZID=Europe/Berlin:20261112T200000
UID:2026H72000-20261112T183000@VHSLINGEN
SUMMARY:Easy English - im wahrsten Sinne (A1) kompakt 60+ (2026H72000) 
LOCATION:Bildungszentrum Gebrüder-Grimm, EG07, Elsterstr. 1, 49808 Lingen
END:VEVENT
BEGIN:VEVENT
DTSTAMP:20260424T223907
DTSTART;TZID=Europe/Berlin:20261119T183000
DTEND;TZID=Europe/Berlin:20261119T200000
UID:2026H72000-20261119T183000@VHSLINGEN
SUMMARY:Easy English - im wahrsten Sinne (A1) kompakt 60+ (2026H72000) 
LOCATION:Bildungszentrum Gebrüder-Grimm, EG07, Elsterstr. 1, 49808 Lingen
END:VEVENT
BEGIN:VEVENT
DTSTAMP:20260424T223907
DTSTART;TZID=Europe/Berlin:20261126T183000
DTEND;TZID=Europe/Berlin:20261126T200000
UID:2026H72000-20261126T183000@VHSLINGEN
SUMMARY:Easy English - im wahrsten Sinne (A1) kompakt 60+ (2026H72000) 
LOCATION:Bildungszentrum Gebrüder-Grimm, EG07, Elsterstr. 1, 49808 Lingen
END:VEVENT
BEGIN:VEVENT
DTSTAMP:20260424T223907
DTSTART;TZID=Europe/Berlin:20261203T183000
DTEND;TZID=Europe/Berlin:20261203T200000
UID:2026H72000-20261203T183000@VHSLINGEN
SUMMARY:Easy English - im wahrsten Sinne (A1) kompakt 60+ (2026H72000) 
LOCATION:Bildungszentrum Gebrüder-Grimm, EG07, Elsterstr. 1, 49808 Lingen
END:VEVENT
BEGIN:VEVENT
DTSTAMP:20260424T223907
DTSTART;TZID=Europe/Berlin:20261210T183000
DTEND;TZID=Europe/Berlin:20261210T200000
UID:2026H72000-20261210T183000@VHSLINGEN
SUMMARY:Easy English - im wahrsten Sinne (A1) kompakt 60+ (2026H72000) 
LOCATION:Bildungszentrum Gebrüder-Grimm, EG07, Elsterstr. 1, 49808 Lingen
END:VEVENT
BEGIN:VEVENT
DTSTAMP:20260424T223907
DTSTART;TZID=Europe/Berlin:20261217T183000
DTEND;TZID=Europe/Berlin:20261217T200000
UID:2026H72000-20261217T183000@VHSLINGEN
SUMMARY:Easy English - im wahrsten Sinne (A1) kompakt 60+ (2026H72000) 
LOCATION:Bildungszentrum Gebrüder-Grimm, EG07, Elsterstr. 1, 49808 Lingen
END:VEVENT
END:VCALENDAR