BEGIN:VCALENDAR
VERSION:2.0
PRODID:https://www.kufer.de/kuferweb / DE
METHOD:PUBLISH
CALSCALE:GREGORIAN
X-WR-TIMEZONE:Europe/Berlin
BEGIN:VTIMEZONE
TZID:Europe/Berlin
X-LIC-LOCATION:Europe/Berlin
BEGIN:DAYLIGHT
TZOFFSETFROM:+0100
TZOFFSETTO:+0200
TZNAME:CEST
DTSTART:19700329T020000
RRULE:FREQ=YEARLY;INTERVAL=1;BYDAY=-1SU;BYMONTH=3
END:DAYLIGHT
BEGIN:STANDARD
TZOFFSETFROM:+0200
TZOFFSETTO:+0100
TZNAME:CET
DTSTART:19701025T030000
RRULE:FREQ=YEARLY;INTERVAL=1;BYDAY=-1SU;BYMONTH=10
END:STANDARD
END:VTIMEZONE
BEGIN:VEVENT
DTSTAMP:20260424T193652
DTSTART;TZID=Europe/Berlin:20260831T130000
DTEND;TZID=Europe/Berlin:20260831T143000
UID:2026H71800-20260831T130000@VHSLINGEN
SUMMARY:Gesprächskreis berufliche Integration Gruppe 1 (2026H71800) 
LOCATION:Bildungszentrum Gebrüder-Grimm, EG26, Elsterstr. 1, 49808 Lingen
END:VEVENT
BEGIN:VEVENT
DTSTAMP:20260424T193652
DTSTART;TZID=Europe/Berlin:20260907T130000
DTEND;TZID=Europe/Berlin:20260907T143000
UID:2026H71800-20260907T130000@VHSLINGEN
SUMMARY:Gesprächskreis berufliche Integration Gruppe 1 (2026H71800) 
LOCATION:Bildungszentrum Gebrüder-Grimm, EG26, Elsterstr. 1, 49808 Lingen
END:VEVENT
BEGIN:VEVENT
DTSTAMP:20260424T193652
DTSTART;TZID=Europe/Berlin:20260921T130000
DTEND;TZID=Europe/Berlin:20260921T143000
UID:2026H71800-20260921T130000@VHSLINGEN
SUMMARY:Gesprächskreis berufliche Integration Gruppe 1 (2026H71800) 
LOCATION:Bildungszentrum Gebrüder-Grimm, EG26, Elsterstr. 1, 49808 Lingen
END:VEVENT
BEGIN:VEVENT
DTSTAMP:20260424T193652
DTSTART;TZID=Europe/Berlin:20260928T130000
DTEND;TZID=Europe/Berlin:20260928T143000
UID:2026H71800-20260928T130000@VHSLINGEN
SUMMARY:Gesprächskreis berufliche Integration Gruppe 1 (2026H71800) 
LOCATION:Bildungszentrum Gebrüder-Grimm, EG26, Elsterstr. 1, 49808 Lingen
END:VEVENT
BEGIN:VEVENT
DTSTAMP:20260424T193652
DTSTART;TZID=Europe/Berlin:20261005T130000
DTEND;TZID=Europe/Berlin:20261005T143000
UID:2026H71800-20261005T130000@VHSLINGEN
SUMMARY:Gesprächskreis berufliche Integration Gruppe 1 (2026H71800) 
LOCATION:Bildungszentrum Gebrüder-Grimm, EG26, Elsterstr. 1, 49808 Lingen
END:VEVENT
END:VCALENDAR