BEGIN:VCALENDAR
VERSION:2.0
PRODID:https://www.kufer.de/kuferweb / DE
METHOD:PUBLISH
CALSCALE:GREGORIAN
X-WR-TIMEZONE:Europe/Berlin
BEGIN:VTIMEZONE
TZID:Europe/Berlin
X-LIC-LOCATION:Europe/Berlin
BEGIN:DAYLIGHT
TZOFFSETFROM:+0100
TZOFFSETTO:+0200
TZNAME:CEST
DTSTART:19700329T020000
RRULE:FREQ=YEARLY;INTERVAL=1;BYDAY=-1SU;BYMONTH=3
END:DAYLIGHT
BEGIN:STANDARD
TZOFFSETFROM:+0200
TZOFFSETTO:+0100
TZNAME:CET
DTSTART:19701025T030000
RRULE:FREQ=YEARLY;INTERVAL=1;BYDAY=-1SU;BYMONTH=10
END:STANDARD
END:VTIMEZONE
BEGIN:VEVENT
DTSTAMP:20260424T180837
DTSTART;TZID=Europe/Berlin:20260905T080000
DTEND;TZID=Europe/Berlin:20260905T121500
UID:2026H71070-20260905T080000@VHSLINGEN
SUMMARY:Deutsch für Experten (C2) kompakt online (2026H71070) 
LOCATION:Online-Präsenz
END:VEVENT
BEGIN:VEVENT
DTSTAMP:20260424T180837
DTSTART;TZID=Europe/Berlin:20260912T080000
DTEND;TZID=Europe/Berlin:20260912T121500
UID:2026H71070-20260912T080000@VHSLINGEN
SUMMARY:Deutsch für Experten (C2) kompakt online (2026H71070) 
LOCATION:Online-Präsenz
END:VEVENT
BEGIN:VEVENT
DTSTAMP:20260424T180837
DTSTART;TZID=Europe/Berlin:20260919T080000
DTEND;TZID=Europe/Berlin:20260919T121500
UID:2026H71070-20260919T080000@VHSLINGEN
SUMMARY:Deutsch für Experten (C2) kompakt online (2026H71070) 
LOCATION:Online-Präsenz
END:VEVENT
BEGIN:VEVENT
DTSTAMP:20260424T180837
DTSTART;TZID=Europe/Berlin:20260926T080000
DTEND;TZID=Europe/Berlin:20260926T121500
UID:2026H71070-20260926T080000@VHSLINGEN
SUMMARY:Deutsch für Experten (C2) kompakt online (2026H71070) 
LOCATION:Online-Präsenz
END:VEVENT
BEGIN:VEVENT
DTSTAMP:20260424T180837
DTSTART;TZID=Europe/Berlin:20261010T080000
DTEND;TZID=Europe/Berlin:20261010T121500
UID:2026H71070-20261010T080000@VHSLINGEN
SUMMARY:Deutsch für Experten (C2) kompakt online (2026H71070) 
LOCATION:Online-Präsenz
END:VEVENT
BEGIN:VEVENT
DTSTAMP:20260424T180837
DTSTART;TZID=Europe/Berlin:20261107T080000
DTEND;TZID=Europe/Berlin:20261107T121500
UID:2026H71070-20261107T080000@VHSLINGEN
SUMMARY:Deutsch für Experten (C2) kompakt online (2026H71070) 
LOCATION:Online-Präsenz
END:VEVENT
BEGIN:VEVENT
DTSTAMP:20260424T180837
DTSTART;TZID=Europe/Berlin:20261114T080000
DTEND;TZID=Europe/Berlin:20261114T121500
UID:2026H71070-20261114T080000@VHSLINGEN
SUMMARY:Deutsch für Experten (C2) kompakt online (2026H71070) 
LOCATION:Online-Präsenz
END:VEVENT
BEGIN:VEVENT
DTSTAMP:20260424T180837
DTSTART;TZID=Europe/Berlin:20261121T080000
DTEND;TZID=Europe/Berlin:20261121T121500
UID:2026H71070-20261121T080000@VHSLINGEN
SUMMARY:Deutsch für Experten (C2) kompakt online (2026H71070) 
LOCATION:Online-Präsenz
END:VEVENT
BEGIN:VEVENT
DTSTAMP:20260424T180837
DTSTART;TZID=Europe/Berlin:20261128T080000
DTEND;TZID=Europe/Berlin:20261128T121500
UID:2026H71070-20261128T080000@VHSLINGEN
SUMMARY:Deutsch für Experten (C2) kompakt online (2026H71070) 
LOCATION:Online-Präsenz
END:VEVENT
BEGIN:VEVENT
DTSTAMP:20260424T180837
DTSTART;TZID=Europe/Berlin:20261205T080000
DTEND;TZID=Europe/Berlin:20261205T121500
UID:2026H71070-20261205T080000@VHSLINGEN
SUMMARY:Deutsch für Experten (C2) kompakt online (2026H71070) 
LOCATION:Online-Präsenz
END:VEVENT
BEGIN:VEVENT
DTSTAMP:20260424T180837
DTSTART;TZID=Europe/Berlin:20261212T080000
DTEND;TZID=Europe/Berlin:20261212T121500
UID:2026H71070-20261212T080000@VHSLINGEN
SUMMARY:Deutsch für Experten (C2) kompakt online (2026H71070) 
LOCATION:Online-Präsenz
END:VEVENT
BEGIN:VEVENT
DTSTAMP:20260424T180837
DTSTART;TZID=Europe/Berlin:20261219T080000
DTEND;TZID=Europe/Berlin:20261219T121500
UID:2026H71070-20261219T080000@VHSLINGEN
SUMMARY:Deutsch für Experten (C2) kompakt online (2026H71070) 
LOCATION:Online-Präsenz
END:VEVENT
BEGIN:VEVENT
DTSTAMP:20260424T180837
DTSTART;TZID=Europe/Berlin:20270102T080000
DTEND;TZID=Europe/Berlin:20270102T121500
UID:2026H71070-20270102T080000@VHSLINGEN
SUMMARY:Deutsch für Experten (C2) kompakt online (2026H71070) 
LOCATION:Online-Präsenz
END:VEVENT
BEGIN:VEVENT
DTSTAMP:20260424T180837
DTSTART;TZID=Europe/Berlin:20270109T080000
DTEND;TZID=Europe/Berlin:20270109T121500
UID:2026H71070-20270109T080000@VHSLINGEN
SUMMARY:Deutsch für Experten (C2) kompakt online (2026H71070) 
LOCATION:Online-Präsenz
END:VEVENT
BEGIN:VEVENT
DTSTAMP:20260424T180837
DTSTART;TZID=Europe/Berlin:20270116T080000
DTEND;TZID=Europe/Berlin:20270116T121500
UID:2026H71070-20270116T080000@VHSLINGEN
SUMMARY:Deutsch für Experten (C2) kompakt online (2026H71070) 
LOCATION:Online-Präsenz
END:VEVENT
BEGIN:VEVENT
DTSTAMP:20260424T180837
DTSTART;TZID=Europe/Berlin:20270123T080000
DTEND;TZID=Europe/Berlin:20270123T121500
UID:2026H71070-20270123T080000@VHSLINGEN
SUMMARY:Deutsch für Experten (C2) kompakt online (2026H71070) 
LOCATION:Online-Präsenz
END:VEVENT
END:VCALENDAR