BEGIN:VCALENDAR
VERSION:2.0
PRODID:https://www.kufer.de/kuferweb / DE
METHOD:PUBLISH
CALSCALE:GREGORIAN
X-WR-TIMEZONE:Europe/Berlin
BEGIN:VTIMEZONE
TZID:Europe/Berlin
X-LIC-LOCATION:Europe/Berlin
BEGIN:DAYLIGHT
TZOFFSETFROM:+0100
TZOFFSETTO:+0200
TZNAME:CEST
DTSTART:19700329T020000
RRULE:FREQ=YEARLY;INTERVAL=1;BYDAY=-1SU;BYMONTH=3
END:DAYLIGHT
BEGIN:STANDARD
TZOFFSETFROM:+0200
TZOFFSETTO:+0100
TZNAME:CET
DTSTART:19701025T030000
RRULE:FREQ=YEARLY;INTERVAL=1;BYDAY=-1SU;BYMONTH=10
END:STANDARD
END:VTIMEZONE
BEGIN:VEVENT
DTSTAMP:20260424T180832
DTSTART;TZID=Europe/Berlin:20260919T080000
DTEND;TZID=Europe/Berlin:20260919T121500
UID:2026H71060-20260919T080000@VHSLINGEN
SUMMARY:Deutsch für Profis (C1) kompakt hybrid (2026H71060) 
LOCATION:Bildungszentrum Gebrüder-Grimm, EG14, Elsterstr. 1, 49808 Lingen
END:VEVENT
BEGIN:VEVENT
DTSTAMP:20260424T180832
DTSTART;TZID=Europe/Berlin:20260926T080000
DTEND;TZID=Europe/Berlin:20260926T121500
UID:2026H71060-20260926T080000@VHSLINGEN
SUMMARY:Deutsch für Profis (C1) kompakt hybrid (2026H71060) 
LOCATION:Bildungszentrum Gebrüder-Grimm, EG14, Elsterstr. 1, 49808 Lingen
END:VEVENT
BEGIN:VEVENT
DTSTAMP:20260424T180832
DTSTART;TZID=Europe/Berlin:20261010T080000
DTEND;TZID=Europe/Berlin:20261010T121500
UID:2026H71060-20261010T080000@VHSLINGEN
SUMMARY:Deutsch für Profis (C1) kompakt hybrid (2026H71060) 
LOCATION:Bildungszentrum Gebrüder-Grimm, EG14, Elsterstr. 1, 49808 Lingen
END:VEVENT
BEGIN:VEVENT
DTSTAMP:20260424T180832
DTSTART;TZID=Europe/Berlin:20261017T080000
DTEND;TZID=Europe/Berlin:20261017T121500
UID:2026H71060-20261017T080000@VHSLINGEN
SUMMARY:Deutsch für Profis (C1) kompakt hybrid (2026H71060) 
LOCATION:Bildungszentrum Gebrüder-Grimm, EG14, Elsterstr. 1, 49808 Lingen
END:VEVENT
BEGIN:VEVENT
DTSTAMP:20260424T180832
DTSTART;TZID=Europe/Berlin:20261024T080000
DTEND;TZID=Europe/Berlin:20261024T121500
UID:2026H71060-20261024T080000@VHSLINGEN
SUMMARY:Deutsch für Profis (C1) kompakt hybrid (2026H71060) 
LOCATION:Bildungszentrum Gebrüder-Grimm, EG14, Elsterstr. 1, 49808 Lingen
END:VEVENT
BEGIN:VEVENT
DTSTAMP:20260424T180832
DTSTART;TZID=Europe/Berlin:20261107T080000
DTEND;TZID=Europe/Berlin:20261107T121500
UID:2026H71060-20261107T080000@VHSLINGEN
SUMMARY:Deutsch für Profis (C1) kompakt hybrid (2026H71060) 
LOCATION:Bildungszentrum Gebrüder-Grimm, EG14, Elsterstr. 1, 49808 Lingen
END:VEVENT
BEGIN:VEVENT
DTSTAMP:20260424T180832
DTSTART;TZID=Europe/Berlin:20261114T080000
DTEND;TZID=Europe/Berlin:20261114T121500
UID:2026H71060-20261114T080000@VHSLINGEN
SUMMARY:Deutsch für Profis (C1) kompakt hybrid (2026H71060) 
LOCATION:Bildungszentrum Gebrüder-Grimm, EG14, Elsterstr. 1, 49808 Lingen
END:VEVENT
BEGIN:VEVENT
DTSTAMP:20260424T180832
DTSTART;TZID=Europe/Berlin:20261121T080000
DTEND;TZID=Europe/Berlin:20261121T121500
UID:2026H71060-20261121T080000@VHSLINGEN
SUMMARY:Deutsch für Profis (C1) kompakt hybrid (2026H71060) 
LOCATION:Bildungszentrum Gebrüder-Grimm, EG14, Elsterstr. 1, 49808 Lingen
END:VEVENT
BEGIN:VEVENT
DTSTAMP:20260424T180832
DTSTART;TZID=Europe/Berlin:20261128T080000
DTEND;TZID=Europe/Berlin:20261128T121500
UID:2026H71060-20261128T080000@VHSLINGEN
SUMMARY:Deutsch für Profis (C1) kompakt hybrid (2026H71060) 
LOCATION:Bildungszentrum Gebrüder-Grimm, EG14, Elsterstr. 1, 49808 Lingen
END:VEVENT
BEGIN:VEVENT
DTSTAMP:20260424T180832
DTSTART;TZID=Europe/Berlin:20261205T080000
DTEND;TZID=Europe/Berlin:20261205T121500
UID:2026H71060-20261205T080000@VHSLINGEN
SUMMARY:Deutsch für Profis (C1) kompakt hybrid (2026H71060) 
LOCATION:Bildungszentrum Gebrüder-Grimm, EG14, Elsterstr. 1, 49808 Lingen
END:VEVENT
BEGIN:VEVENT
DTSTAMP:20260424T180832
DTSTART;TZID=Europe/Berlin:20261212T080000
DTEND;TZID=Europe/Berlin:20261212T121500
UID:2026H71060-20261212T080000@VHSLINGEN
SUMMARY:Deutsch für Profis (C1) kompakt hybrid (2026H71060) 
LOCATION:Bildungszentrum Gebrüder-Grimm, EG14, Elsterstr. 1, 49808 Lingen
END:VEVENT
BEGIN:VEVENT
DTSTAMP:20260424T180832
DTSTART;TZID=Europe/Berlin:20261219T080000
DTEND;TZID=Europe/Berlin:20261219T121500
UID:2026H71060-20261219T080000@VHSLINGEN
SUMMARY:Deutsch für Profis (C1) kompakt hybrid (2026H71060) 
LOCATION:Bildungszentrum Gebrüder-Grimm, EG14, Elsterstr. 1, 49808 Lingen
END:VEVENT
BEGIN:VEVENT
DTSTAMP:20260424T180832
DTSTART;TZID=Europe/Berlin:20270109T080000
DTEND;TZID=Europe/Berlin:20270109T121500
UID:2026H71060-20270109T080000@VHSLINGEN
SUMMARY:Deutsch für Profis (C1) kompakt hybrid (2026H71060) 
LOCATION:Bildungszentrum Gebrüder-Grimm, EG14, Elsterstr. 1, 49808 Lingen
END:VEVENT
BEGIN:VEVENT
DTSTAMP:20260424T180832
DTSTART;TZID=Europe/Berlin:20270116T080000
DTEND;TZID=Europe/Berlin:20270116T121500
UID:2026H71060-20270116T080000@VHSLINGEN
SUMMARY:Deutsch für Profis (C1) kompakt hybrid (2026H71060) 
LOCATION:Bildungszentrum Gebrüder-Grimm, EG14, Elsterstr. 1, 49808 Lingen
END:VEVENT
BEGIN:VEVENT
DTSTAMP:20260424T180832
DTSTART;TZID=Europe/Berlin:20270123T080000
DTEND;TZID=Europe/Berlin:20270123T121500
UID:2026H71060-20270123T080000@VHSLINGEN
SUMMARY:Deutsch für Profis (C1) kompakt hybrid (2026H71060) 
LOCATION:Bildungszentrum Gebrüder-Grimm, EG14, Elsterstr. 1, 49808 Lingen
END:VEVENT
END:VCALENDAR