BEGIN:VCALENDAR
VERSION:2.0
PRODID:https://www.kufer.de/kuferweb / DE
METHOD:PUBLISH
CALSCALE:GREGORIAN
X-WR-TIMEZONE:Europe/Berlin
BEGIN:VTIMEZONE
TZID:Europe/Berlin
X-LIC-LOCATION:Europe/Berlin
BEGIN:DAYLIGHT
TZOFFSETFROM:+0100
TZOFFSETTO:+0200
TZNAME:CEST
DTSTART:19700329T020000
RRULE:FREQ=YEARLY;INTERVAL=1;BYDAY=-1SU;BYMONTH=3
END:DAYLIGHT
BEGIN:STANDARD
TZOFFSETFROM:+0200
TZOFFSETTO:+0100
TZNAME:CET
DTSTART:19701025T030000
RRULE:FREQ=YEARLY;INTERVAL=1;BYDAY=-1SU;BYMONTH=10
END:STANDARD
END:VTIMEZONE
BEGIN:VEVENT
DTSTAMP:20260424T180847
DTSTART;TZID=Europe/Berlin:20260928T174500
DTEND;TZID=Europe/Berlin:20260928T204500
UID:2026H71030-20260928T174500@VHSLINGEN
SUMMARY:Deutsch für Fortgeschrittene (B1) hybrid (2026H71030) 
LOCATION:Bildungszentrum Gebrüder-Grimm, EG29, Elsterstr. 1, 49808 Lingen
END:VEVENT
BEGIN:VEVENT
DTSTAMP:20260424T180847
DTSTART;TZID=Europe/Berlin:20260930T174500
DTEND;TZID=Europe/Berlin:20260930T204500
UID:2026H71030-20260930T174500@VHSLINGEN
SUMMARY:Deutsch für Fortgeschrittene (B1) hybrid (2026H71030) 
LOCATION:Bildungszentrum Gebrüder-Grimm, EG29, Elsterstr. 1, 49808 Lingen
END:VEVENT
BEGIN:VEVENT
DTSTAMP:20260424T180847
DTSTART;TZID=Europe/Berlin:20261005T174500
DTEND;TZID=Europe/Berlin:20261005T204500
UID:2026H71030-20261005T174500@VHSLINGEN
SUMMARY:Deutsch für Fortgeschrittene (B1) hybrid (2026H71030) 
LOCATION:Bildungszentrum Gebrüder-Grimm, EG29, Elsterstr. 1, 49808 Lingen
END:VEVENT
BEGIN:VEVENT
DTSTAMP:20260424T180847
DTSTART;TZID=Europe/Berlin:20261007T174500
DTEND;TZID=Europe/Berlin:20261007T204500
UID:2026H71030-20261007T174500@VHSLINGEN
SUMMARY:Deutsch für Fortgeschrittene (B1) hybrid (2026H71030) 
LOCATION:Bildungszentrum Gebrüder-Grimm, EG29, Elsterstr. 1, 49808 Lingen
END:VEVENT
BEGIN:VEVENT
DTSTAMP:20260424T180847
DTSTART;TZID=Europe/Berlin:20261012T174500
DTEND;TZID=Europe/Berlin:20261012T204500
UID:2026H71030-20261012T174500@VHSLINGEN
SUMMARY:Deutsch für Fortgeschrittene (B1) hybrid (2026H71030) 
LOCATION:Bildungszentrum Gebrüder-Grimm, EG29, Elsterstr. 1, 49808 Lingen
END:VEVENT
BEGIN:VEVENT
DTSTAMP:20260424T180847
DTSTART;TZID=Europe/Berlin:20261014T174500
DTEND;TZID=Europe/Berlin:20261014T204500
UID:2026H71030-20261014T174500@VHSLINGEN
SUMMARY:Deutsch für Fortgeschrittene (B1) hybrid (2026H71030) 
LOCATION:Bildungszentrum Gebrüder-Grimm, EG29, Elsterstr. 1, 49808 Lingen
END:VEVENT
BEGIN:VEVENT
DTSTAMP:20260424T180847
DTSTART;TZID=Europe/Berlin:20261019T174500
DTEND;TZID=Europe/Berlin:20261019T204500
UID:2026H71030-20261019T174500@VHSLINGEN
SUMMARY:Deutsch für Fortgeschrittene (B1) hybrid (2026H71030) 
LOCATION:Bildungszentrum Gebrüder-Grimm, EG29, Elsterstr. 1, 49808 Lingen
END:VEVENT
BEGIN:VEVENT
DTSTAMP:20260424T180847
DTSTART;TZID=Europe/Berlin:20261021T174500
DTEND;TZID=Europe/Berlin:20261021T204500
UID:2026H71030-20261021T174500@VHSLINGEN
SUMMARY:Deutsch für Fortgeschrittene (B1) hybrid (2026H71030) 
LOCATION:Bildungszentrum Gebrüder-Grimm, EG29, Elsterstr. 1, 49808 Lingen
END:VEVENT
BEGIN:VEVENT
DTSTAMP:20260424T180847
DTSTART;TZID=Europe/Berlin:20261026T174500
DTEND;TZID=Europe/Berlin:20261026T204500
UID:2026H71030-20261026T174500@VHSLINGEN
SUMMARY:Deutsch für Fortgeschrittene (B1) hybrid (2026H71030) 
LOCATION:Bildungszentrum Gebrüder-Grimm, EG29, Elsterstr. 1, 49808 Lingen
END:VEVENT
BEGIN:VEVENT
DTSTAMP:20260424T180847
DTSTART;TZID=Europe/Berlin:20261028T174500
DTEND;TZID=Europe/Berlin:20261028T204500
UID:2026H71030-20261028T174500@VHSLINGEN
SUMMARY:Deutsch für Fortgeschrittene (B1) hybrid (2026H71030) 
LOCATION:Bildungszentrum Gebrüder-Grimm, EG29, Elsterstr. 1, 49808 Lingen
END:VEVENT
BEGIN:VEVENT
DTSTAMP:20260424T180847
DTSTART;TZID=Europe/Berlin:20261102T174500
DTEND;TZID=Europe/Berlin:20261102T204500
UID:2026H71030-20261102T174500@VHSLINGEN
SUMMARY:Deutsch für Fortgeschrittene (B1) hybrid (2026H71030) 
LOCATION:Bildungszentrum Gebrüder-Grimm, EG29, Elsterstr. 1, 49808 Lingen
END:VEVENT
BEGIN:VEVENT
DTSTAMP:20260424T180847
DTSTART;TZID=Europe/Berlin:20261104T174500
DTEND;TZID=Europe/Berlin:20261104T204500
UID:2026H71030-20261104T174500@VHSLINGEN
SUMMARY:Deutsch für Fortgeschrittene (B1) hybrid (2026H71030) 
LOCATION:Bildungszentrum Gebrüder-Grimm, EG29, Elsterstr. 1, 49808 Lingen
END:VEVENT
BEGIN:VEVENT
DTSTAMP:20260424T180847
DTSTART;TZID=Europe/Berlin:20261109T174500
DTEND;TZID=Europe/Berlin:20261109T204500
UID:2026H71030-20261109T174500@VHSLINGEN
SUMMARY:Deutsch für Fortgeschrittene (B1) hybrid (2026H71030) 
LOCATION:Bildungszentrum Gebrüder-Grimm, EG29, Elsterstr. 1, 49808 Lingen
END:VEVENT
BEGIN:VEVENT
DTSTAMP:20260424T180847
DTSTART;TZID=Europe/Berlin:20261111T174500
DTEND;TZID=Europe/Berlin:20261111T204500
UID:2026H71030-20261111T174500@VHSLINGEN
SUMMARY:Deutsch für Fortgeschrittene (B1) hybrid (2026H71030) 
LOCATION:Bildungszentrum Gebrüder-Grimm, EG29, Elsterstr. 1, 49808 Lingen
END:VEVENT
BEGIN:VEVENT
DTSTAMP:20260424T180847
DTSTART;TZID=Europe/Berlin:20261116T174500
DTEND;TZID=Europe/Berlin:20261116T204500
UID:2026H71030-20261116T174500@VHSLINGEN
SUMMARY:Deutsch für Fortgeschrittene (B1) hybrid (2026H71030) 
LOCATION:Bildungszentrum Gebrüder-Grimm, EG29, Elsterstr. 1, 49808 Lingen
END:VEVENT
BEGIN:VEVENT
DTSTAMP:20260424T180847
DTSTART;TZID=Europe/Berlin:20261118T174500
DTEND;TZID=Europe/Berlin:20261118T204500
UID:2026H71030-20261118T174500@VHSLINGEN
SUMMARY:Deutsch für Fortgeschrittene (B1) hybrid (2026H71030) 
LOCATION:Bildungszentrum Gebrüder-Grimm, EG29, Elsterstr. 1, 49808 Lingen
END:VEVENT
BEGIN:VEVENT
DTSTAMP:20260424T180847
DTSTART;TZID=Europe/Berlin:20261123T174500
DTEND;TZID=Europe/Berlin:20261123T204500
UID:2026H71030-20261123T174500@VHSLINGEN
SUMMARY:Deutsch für Fortgeschrittene (B1) hybrid (2026H71030) 
LOCATION:Bildungszentrum Gebrüder-Grimm, EG29, Elsterstr. 1, 49808 Lingen
END:VEVENT
BEGIN:VEVENT
DTSTAMP:20260424T180847
DTSTART;TZID=Europe/Berlin:20261125T174500
DTEND;TZID=Europe/Berlin:20261125T204500
UID:2026H71030-20261125T174500@VHSLINGEN
SUMMARY:Deutsch für Fortgeschrittene (B1) hybrid (2026H71030) 
LOCATION:Bildungszentrum Gebrüder-Grimm, EG29, Elsterstr. 1, 49808 Lingen
END:VEVENT
BEGIN:VEVENT
DTSTAMP:20260424T180847
DTSTART;TZID=Europe/Berlin:20261130T174500
DTEND;TZID=Europe/Berlin:20261130T204500
UID:2026H71030-20261130T174500@VHSLINGEN
SUMMARY:Deutsch für Fortgeschrittene (B1) hybrid (2026H71030) 
LOCATION:Bildungszentrum Gebrüder-Grimm, EG29, Elsterstr. 1, 49808 Lingen
END:VEVENT
BEGIN:VEVENT
DTSTAMP:20260424T180847
DTSTART;TZID=Europe/Berlin:20261202T174500
DTEND;TZID=Europe/Berlin:20261202T204500
UID:2026H71030-20261202T174500@VHSLINGEN
SUMMARY:Deutsch für Fortgeschrittene (B1) hybrid (2026H71030) 
LOCATION:Bildungszentrum Gebrüder-Grimm, EG29, Elsterstr. 1, 49808 Lingen
END:VEVENT
BEGIN:VEVENT
DTSTAMP:20260424T180847
DTSTART;TZID=Europe/Berlin:20261207T174500
DTEND;TZID=Europe/Berlin:20261207T204500
UID:2026H71030-20261207T174500@VHSLINGEN
SUMMARY:Deutsch für Fortgeschrittene (B1) hybrid (2026H71030) 
LOCATION:Bildungszentrum Gebrüder-Grimm, EG29, Elsterstr. 1, 49808 Lingen
END:VEVENT
BEGIN:VEVENT
DTSTAMP:20260424T180847
DTSTART;TZID=Europe/Berlin:20261209T174500
DTEND;TZID=Europe/Berlin:20261209T204500
UID:2026H71030-20261209T174500@VHSLINGEN
SUMMARY:Deutsch für Fortgeschrittene (B1) hybrid (2026H71030) 
LOCATION:Bildungszentrum Gebrüder-Grimm, EG29, Elsterstr. 1, 49808 Lingen
END:VEVENT
BEGIN:VEVENT
DTSTAMP:20260424T180847
DTSTART;TZID=Europe/Berlin:20261214T174500
DTEND;TZID=Europe/Berlin:20261214T204500
UID:2026H71030-20261214T174500@VHSLINGEN
SUMMARY:Deutsch für Fortgeschrittene (B1) hybrid (2026H71030) 
LOCATION:Bildungszentrum Gebrüder-Grimm, EG29, Elsterstr. 1, 49808 Lingen
END:VEVENT
BEGIN:VEVENT
DTSTAMP:20260424T180847
DTSTART;TZID=Europe/Berlin:20261216T174500
DTEND;TZID=Europe/Berlin:20261216T204500
UID:2026H71030-20261216T174500@VHSLINGEN
SUMMARY:Deutsch für Fortgeschrittene (B1) hybrid (2026H71030) 
LOCATION:Bildungszentrum Gebrüder-Grimm, EG29, Elsterstr. 1, 49808 Lingen
END:VEVENT
BEGIN:VEVENT
DTSTAMP:20260424T180847
DTSTART;TZID=Europe/Berlin:20270104T174500
DTEND;TZID=Europe/Berlin:20270104T204500
UID:2026H71030-20270104T174500@VHSLINGEN
SUMMARY:Deutsch für Fortgeschrittene (B1) hybrid (2026H71030) 
LOCATION:Bildungszentrum Gebrüder-Grimm, EG29, Elsterstr. 1, 49808 Lingen
END:VEVENT
BEGIN:VEVENT
DTSTAMP:20260424T180847
DTSTART;TZID=Europe/Berlin:20270106T174500
DTEND;TZID=Europe/Berlin:20270106T204500
UID:2026H71030-20270106T174500@VHSLINGEN
SUMMARY:Deutsch für Fortgeschrittene (B1) hybrid (2026H71030) 
LOCATION:Bildungszentrum Gebrüder-Grimm, EG29, Elsterstr. 1, 49808 Lingen
END:VEVENT
BEGIN:VEVENT
DTSTAMP:20260424T180847
DTSTART;TZID=Europe/Berlin:20270111T174500
DTEND;TZID=Europe/Berlin:20270111T204500
UID:2026H71030-20270111T174500@VHSLINGEN
SUMMARY:Deutsch für Fortgeschrittene (B1) hybrid (2026H71030) 
LOCATION:Bildungszentrum Gebrüder-Grimm, EG29, Elsterstr. 1, 49808 Lingen
END:VEVENT
BEGIN:VEVENT
DTSTAMP:20260424T180847
DTSTART;TZID=Europe/Berlin:20270113T174500
DTEND;TZID=Europe/Berlin:20270113T204500
UID:2026H71030-20270113T174500@VHSLINGEN
SUMMARY:Deutsch für Fortgeschrittene (B1) hybrid (2026H71030) 
LOCATION:Bildungszentrum Gebrüder-Grimm, EG29, Elsterstr. 1, 49808 Lingen
END:VEVENT
BEGIN:VEVENT
DTSTAMP:20260424T180847
DTSTART;TZID=Europe/Berlin:20270118T174500
DTEND;TZID=Europe/Berlin:20270118T204500
UID:2026H71030-20270118T174500@VHSLINGEN
SUMMARY:Deutsch für Fortgeschrittene (B1) hybrid (2026H71030) 
LOCATION:Bildungszentrum Gebrüder-Grimm, EG29, Elsterstr. 1, 49808 Lingen
END:VEVENT
BEGIN:VEVENT
DTSTAMP:20260424T180847
DTSTART;TZID=Europe/Berlin:20270120T174500
DTEND;TZID=Europe/Berlin:20270120T204500
UID:2026H71030-20270120T174500@VHSLINGEN
SUMMARY:Deutsch für Fortgeschrittene (B1) hybrid (2026H71030) 
LOCATION:Bildungszentrum Gebrüder-Grimm, EG29, Elsterstr. 1, 49808 Lingen
END:VEVENT
END:VCALENDAR