BEGIN:VCALENDAR
VERSION:2.0
PRODID:https://www.kufer.de/kuferweb / DE
METHOD:PUBLISH
CALSCALE:GREGORIAN
X-WR-TIMEZONE:Europe/Berlin
BEGIN:VTIMEZONE
TZID:Europe/Berlin
X-LIC-LOCATION:Europe/Berlin
BEGIN:DAYLIGHT
TZOFFSETFROM:+0100
TZOFFSETTO:+0200
TZNAME:CEST
DTSTART:19700329T020000
RRULE:FREQ=YEARLY;INTERVAL=1;BYDAY=-1SU;BYMONTH=3
END:DAYLIGHT
BEGIN:STANDARD
TZOFFSETFROM:+0200
TZOFFSETTO:+0100
TZNAME:CET
DTSTART:19701025T030000
RRULE:FREQ=YEARLY;INTERVAL=1;BYDAY=-1SU;BYMONTH=10
END:STANDARD
END:VTIMEZONE
BEGIN:VEVENT
DTSTAMP:20260424T180817
DTSTART;TZID=Europe/Berlin:20260929T174500
DTEND;TZID=Europe/Berlin:20260929T204500
UID:2026H71020-20260929T174500@VHSLINGEN
SUMMARY:Deutsch Aufbaustufe (A2) hybrid (2026H71020) 
LOCATION:Bildungszentrum Gebrüder-Grimm, EG28, Elsterstr. 1, 49808 Lingen
END:VEVENT
BEGIN:VEVENT
DTSTAMP:20260424T180817
DTSTART;TZID=Europe/Berlin:20261001T174500
DTEND;TZID=Europe/Berlin:20261001T204500
UID:2026H71020-20261001T174500@VHSLINGEN
SUMMARY:Deutsch Aufbaustufe (A2) hybrid (2026H71020) 
LOCATION:Bildungszentrum Gebrüder-Grimm, EG28, Elsterstr. 1, 49808 Lingen
END:VEVENT
BEGIN:VEVENT
DTSTAMP:20260424T180817
DTSTART;TZID=Europe/Berlin:20261006T174500
DTEND;TZID=Europe/Berlin:20261006T204500
UID:2026H71020-20261006T174500@VHSLINGEN
SUMMARY:Deutsch Aufbaustufe (A2) hybrid (2026H71020) 
LOCATION:Bildungszentrum Gebrüder-Grimm, EG28, Elsterstr. 1, 49808 Lingen
END:VEVENT
BEGIN:VEVENT
DTSTAMP:20260424T180817
DTSTART;TZID=Europe/Berlin:20261008T174500
DTEND;TZID=Europe/Berlin:20261008T204500
UID:2026H71020-20261008T174500@VHSLINGEN
SUMMARY:Deutsch Aufbaustufe (A2) hybrid (2026H71020) 
LOCATION:Bildungszentrum Gebrüder-Grimm, EG28, Elsterstr. 1, 49808 Lingen
END:VEVENT
BEGIN:VEVENT
DTSTAMP:20260424T180817
DTSTART;TZID=Europe/Berlin:20261013T174500
DTEND;TZID=Europe/Berlin:20261013T204500
UID:2026H71020-20261013T174500@VHSLINGEN
SUMMARY:Deutsch Aufbaustufe (A2) hybrid (2026H71020) 
LOCATION:Bildungszentrum Gebrüder-Grimm, EG28, Elsterstr. 1, 49808 Lingen
END:VEVENT
BEGIN:VEVENT
DTSTAMP:20260424T180817
DTSTART;TZID=Europe/Berlin:20261015T174500
DTEND;TZID=Europe/Berlin:20261015T204500
UID:2026H71020-20261015T174500@VHSLINGEN
SUMMARY:Deutsch Aufbaustufe (A2) hybrid (2026H71020) 
LOCATION:Bildungszentrum Gebrüder-Grimm, EG28, Elsterstr. 1, 49808 Lingen
END:VEVENT
BEGIN:VEVENT
DTSTAMP:20260424T180817
DTSTART;TZID=Europe/Berlin:20261020T174500
DTEND;TZID=Europe/Berlin:20261020T204500
UID:2026H71020-20261020T174500@VHSLINGEN
SUMMARY:Deutsch Aufbaustufe (A2) hybrid (2026H71020) 
LOCATION:Bildungszentrum Gebrüder-Grimm, EG28, Elsterstr. 1, 49808 Lingen
END:VEVENT
BEGIN:VEVENT
DTSTAMP:20260424T180817
DTSTART;TZID=Europe/Berlin:20261022T174500
DTEND;TZID=Europe/Berlin:20261022T204500
UID:2026H71020-20261022T174500@VHSLINGEN
SUMMARY:Deutsch Aufbaustufe (A2) hybrid (2026H71020) 
LOCATION:Bildungszentrum Gebrüder-Grimm, EG28, Elsterstr. 1, 49808 Lingen
END:VEVENT
BEGIN:VEVENT
DTSTAMP:20260424T180817
DTSTART;TZID=Europe/Berlin:20261027T174500
DTEND;TZID=Europe/Berlin:20261027T204500
UID:2026H71020-20261027T174500@VHSLINGEN
SUMMARY:Deutsch Aufbaustufe (A2) hybrid (2026H71020) 
LOCATION:Bildungszentrum Gebrüder-Grimm, EG28, Elsterstr. 1, 49808 Lingen
END:VEVENT
BEGIN:VEVENT
DTSTAMP:20260424T180817
DTSTART;TZID=Europe/Berlin:20261029T174500
DTEND;TZID=Europe/Berlin:20261029T204500
UID:2026H71020-20261029T174500@VHSLINGEN
SUMMARY:Deutsch Aufbaustufe (A2) hybrid (2026H71020) 
LOCATION:Bildungszentrum Gebrüder-Grimm, EG28, Elsterstr. 1, 49808 Lingen
END:VEVENT
BEGIN:VEVENT
DTSTAMP:20260424T180817
DTSTART;TZID=Europe/Berlin:20261103T174500
DTEND;TZID=Europe/Berlin:20261103T204500
UID:2026H71020-20261103T174500@VHSLINGEN
SUMMARY:Deutsch Aufbaustufe (A2) hybrid (2026H71020) 
LOCATION:Bildungszentrum Gebrüder-Grimm, EG28, Elsterstr. 1, 49808 Lingen
END:VEVENT
BEGIN:VEVENT
DTSTAMP:20260424T180817
DTSTART;TZID=Europe/Berlin:20261105T174500
DTEND;TZID=Europe/Berlin:20261105T204500
UID:2026H71020-20261105T174500@VHSLINGEN
SUMMARY:Deutsch Aufbaustufe (A2) hybrid (2026H71020) 
LOCATION:Bildungszentrum Gebrüder-Grimm, EG28, Elsterstr. 1, 49808 Lingen
END:VEVENT
BEGIN:VEVENT
DTSTAMP:20260424T180817
DTSTART;TZID=Europe/Berlin:20261110T174500
DTEND;TZID=Europe/Berlin:20261110T204500
UID:2026H71020-20261110T174500@VHSLINGEN
SUMMARY:Deutsch Aufbaustufe (A2) hybrid (2026H71020) 
LOCATION:Bildungszentrum Gebrüder-Grimm, EG28, Elsterstr. 1, 49808 Lingen
END:VEVENT
BEGIN:VEVENT
DTSTAMP:20260424T180817
DTSTART;TZID=Europe/Berlin:20261112T174500
DTEND;TZID=Europe/Berlin:20261112T204500
UID:2026H71020-20261112T174500@VHSLINGEN
SUMMARY:Deutsch Aufbaustufe (A2) hybrid (2026H71020) 
LOCATION:Bildungszentrum Gebrüder-Grimm, EG28, Elsterstr. 1, 49808 Lingen
END:VEVENT
BEGIN:VEVENT
DTSTAMP:20260424T180817
DTSTART;TZID=Europe/Berlin:20261117T174500
DTEND;TZID=Europe/Berlin:20261117T204500
UID:2026H71020-20261117T174500@VHSLINGEN
SUMMARY:Deutsch Aufbaustufe (A2) hybrid (2026H71020) 
LOCATION:Bildungszentrum Gebrüder-Grimm, EG28, Elsterstr. 1, 49808 Lingen
END:VEVENT
BEGIN:VEVENT
DTSTAMP:20260424T180817
DTSTART;TZID=Europe/Berlin:20261119T174500
DTEND;TZID=Europe/Berlin:20261119T204500
UID:2026H71020-20261119T174500@VHSLINGEN
SUMMARY:Deutsch Aufbaustufe (A2) hybrid (2026H71020) 
LOCATION:Bildungszentrum Gebrüder-Grimm, EG28, Elsterstr. 1, 49808 Lingen
END:VEVENT
BEGIN:VEVENT
DTSTAMP:20260424T180817
DTSTART;TZID=Europe/Berlin:20261124T174500
DTEND;TZID=Europe/Berlin:20261124T204500
UID:2026H71020-20261124T174500@VHSLINGEN
SUMMARY:Deutsch Aufbaustufe (A2) hybrid (2026H71020) 
LOCATION:Bildungszentrum Gebrüder-Grimm, EG28, Elsterstr. 1, 49808 Lingen
END:VEVENT
BEGIN:VEVENT
DTSTAMP:20260424T180817
DTSTART;TZID=Europe/Berlin:20261126T174500
DTEND;TZID=Europe/Berlin:20261126T204500
UID:2026H71020-20261126T174500@VHSLINGEN
DESCRIPTION:Raumwechsel
SUMMARY:Deutsch Aufbaustufe (A2) hybrid (2026H71020) 
LOCATION:Bildungszentrum Gebrüder-Grimm, EG14, Elsterstr. 1, 49808 Lingen
END:VEVENT
BEGIN:VEVENT
DTSTAMP:20260424T180817
DTSTART;TZID=Europe/Berlin:20261201T174500
DTEND;TZID=Europe/Berlin:20261201T204500
UID:2026H71020-20261201T174500@VHSLINGEN
SUMMARY:Deutsch Aufbaustufe (A2) hybrid (2026H71020) 
LOCATION:Bildungszentrum Gebrüder-Grimm, EG28, Elsterstr. 1, 49808 Lingen
END:VEVENT
BEGIN:VEVENT
DTSTAMP:20260424T180817
DTSTART;TZID=Europe/Berlin:20261203T174500
DTEND;TZID=Europe/Berlin:20261203T204500
UID:2026H71020-20261203T174500@VHSLINGEN
SUMMARY:Deutsch Aufbaustufe (A2) hybrid (2026H71020) 
LOCATION:Bildungszentrum Gebrüder-Grimm, EG28, Elsterstr. 1, 49808 Lingen
END:VEVENT
BEGIN:VEVENT
DTSTAMP:20260424T180817
DTSTART;TZID=Europe/Berlin:20261208T174500
DTEND;TZID=Europe/Berlin:20261208T204500
UID:2026H71020-20261208T174500@VHSLINGEN
SUMMARY:Deutsch Aufbaustufe (A2) hybrid (2026H71020) 
LOCATION:Bildungszentrum Gebrüder-Grimm, EG28, Elsterstr. 1, 49808 Lingen
END:VEVENT
BEGIN:VEVENT
DTSTAMP:20260424T180817
DTSTART;TZID=Europe/Berlin:20261210T174500
DTEND;TZID=Europe/Berlin:20261210T204500
UID:2026H71020-20261210T174500@VHSLINGEN
SUMMARY:Deutsch Aufbaustufe (A2) hybrid (2026H71020) 
LOCATION:Bildungszentrum Gebrüder-Grimm, EG28, Elsterstr. 1, 49808 Lingen
END:VEVENT
BEGIN:VEVENT
DTSTAMP:20260424T180817
DTSTART;TZID=Europe/Berlin:20261215T174500
DTEND;TZID=Europe/Berlin:20261215T204500
UID:2026H71020-20261215T174500@VHSLINGEN
SUMMARY:Deutsch Aufbaustufe (A2) hybrid (2026H71020) 
LOCATION:Bildungszentrum Gebrüder-Grimm, EG28, Elsterstr. 1, 49808 Lingen
END:VEVENT
BEGIN:VEVENT
DTSTAMP:20260424T180817
DTSTART;TZID=Europe/Berlin:20261217T174500
DTEND;TZID=Europe/Berlin:20261217T204500
UID:2026H71020-20261217T174500@VHSLINGEN
SUMMARY:Deutsch Aufbaustufe (A2) hybrid (2026H71020) 
LOCATION:Bildungszentrum Gebrüder-Grimm, EG28, Elsterstr. 1, 49808 Lingen
END:VEVENT
BEGIN:VEVENT
DTSTAMP:20260424T180817
DTSTART;TZID=Europe/Berlin:20270105T174500
DTEND;TZID=Europe/Berlin:20270105T204500
UID:2026H71020-20270105T174500@VHSLINGEN
SUMMARY:Deutsch Aufbaustufe (A2) hybrid (2026H71020) 
LOCATION:Bildungszentrum Gebrüder-Grimm, EG28, Elsterstr. 1, 49808 Lingen
END:VEVENT
BEGIN:VEVENT
DTSTAMP:20260424T180817
DTSTART;TZID=Europe/Berlin:20270107T174500
DTEND;TZID=Europe/Berlin:20270107T204500
UID:2026H71020-20270107T174500@VHSLINGEN
SUMMARY:Deutsch Aufbaustufe (A2) hybrid (2026H71020) 
LOCATION:Bildungszentrum Gebrüder-Grimm, EG28, Elsterstr. 1, 49808 Lingen
END:VEVENT
BEGIN:VEVENT
DTSTAMP:20260424T180817
DTSTART;TZID=Europe/Berlin:20270112T174500
DTEND;TZID=Europe/Berlin:20270112T204500
UID:2026H71020-20270112T174500@VHSLINGEN
SUMMARY:Deutsch Aufbaustufe (A2) hybrid (2026H71020) 
LOCATION:Bildungszentrum Gebrüder-Grimm, EG28, Elsterstr. 1, 49808 Lingen
END:VEVENT
BEGIN:VEVENT
DTSTAMP:20260424T180817
DTSTART;TZID=Europe/Berlin:20270114T174500
DTEND;TZID=Europe/Berlin:20270114T204500
UID:2026H71020-20270114T174500@VHSLINGEN
SUMMARY:Deutsch Aufbaustufe (A2) hybrid (2026H71020) 
LOCATION:Bildungszentrum Gebrüder-Grimm, EG28, Elsterstr. 1, 49808 Lingen
END:VEVENT
BEGIN:VEVENT
DTSTAMP:20260424T180817
DTSTART;TZID=Europe/Berlin:20270119T174500
DTEND;TZID=Europe/Berlin:20270119T204500
UID:2026H71020-20270119T174500@VHSLINGEN
SUMMARY:Deutsch Aufbaustufe (A2) hybrid (2026H71020) 
LOCATION:Bildungszentrum Gebrüder-Grimm, EG28, Elsterstr. 1, 49808 Lingen
END:VEVENT
BEGIN:VEVENT
DTSTAMP:20260424T180817
DTSTART;TZID=Europe/Berlin:20270121T174500
DTEND;TZID=Europe/Berlin:20270121T204500
UID:2026H71020-20270121T174500@VHSLINGEN
SUMMARY:Deutsch Aufbaustufe (A2) hybrid (2026H71020) 
LOCATION:Bildungszentrum Gebrüder-Grimm, EG28, Elsterstr. 1, 49808 Lingen
END:VEVENT
END:VCALENDAR