BEGIN:VCALENDAR
VERSION:2.0
PRODID:https://www.kufer.de/kuferweb / DE
METHOD:PUBLISH
CALSCALE:GREGORIAN
X-WR-TIMEZONE:Europe/Berlin
BEGIN:VTIMEZONE
TZID:Europe/Berlin
X-LIC-LOCATION:Europe/Berlin
BEGIN:DAYLIGHT
TZOFFSETFROM:+0100
TZOFFSETTO:+0200
TZNAME:CEST
DTSTART:19700329T020000
RRULE:FREQ=YEARLY;INTERVAL=1;BYDAY=-1SU;BYMONTH=3
END:DAYLIGHT
BEGIN:STANDARD
TZOFFSETFROM:+0200
TZOFFSETTO:+0100
TZNAME:CET
DTSTART:19701025T030000
RRULE:FREQ=YEARLY;INTERVAL=1;BYDAY=-1SU;BYMONTH=10
END:STANDARD
END:VTIMEZONE
BEGIN:VEVENT
DTSTAMP:20260419T172116
DTSTART;TZID=Europe/Berlin:20261116T080000
DTEND;TZID=Europe/Berlin:20261116T150000
UID:2026H62105-20261116T080000@VHSLINGEN
DESCRIPTION:Bildungsurlaub
SUMMARY:Ausbildung zum/-r Ausbilder/-in (IHK) IV/2026 Kompaktseminar hybrid (November 2026) (2026H62105) 
LOCATION:Bildungszentrum Gebrüder-Grimm, OG08, Elsterstr. 1, 49808 Lingen
END:VEVENT
BEGIN:VEVENT
DTSTAMP:20260419T172116
DTSTART;TZID=Europe/Berlin:20261117T080000
DTEND;TZID=Europe/Berlin:20261117T150000
UID:2026H62105-20261117T080000@VHSLINGEN
DESCRIPTION:Bildungsurlaub
SUMMARY:Ausbildung zum/-r Ausbilder/-in (IHK) IV/2026 Kompaktseminar hybrid (November 2026) (2026H62105) 
LOCATION:Bildungszentrum Gebrüder-Grimm, OG08, Elsterstr. 1, 49808 Lingen
END:VEVENT
BEGIN:VEVENT
DTSTAMP:20260419T172116
DTSTART;TZID=Europe/Berlin:20261118T080000
DTEND;TZID=Europe/Berlin:20261118T150000
UID:2026H62105-20261118T080000@VHSLINGEN
DESCRIPTION:Bildungsurlaub
SUMMARY:Ausbildung zum/-r Ausbilder/-in (IHK) IV/2026 Kompaktseminar hybrid (November 2026) (2026H62105) 
LOCATION:Bildungszentrum Gebrüder-Grimm, OG08, Elsterstr. 1, 49808 Lingen
END:VEVENT
BEGIN:VEVENT
DTSTAMP:20260419T172116
DTSTART;TZID=Europe/Berlin:20261119T080000
DTEND;TZID=Europe/Berlin:20261119T150000
UID:2026H62105-20261119T080000@VHSLINGEN
DESCRIPTION:Bildungsurlaub
SUMMARY:Ausbildung zum/-r Ausbilder/-in (IHK) IV/2026 Kompaktseminar hybrid (November 2026) (2026H62105) 
LOCATION:Bildungszentrum Gebrüder-Grimm, OG08, Elsterstr. 1, 49808 Lingen
END:VEVENT
BEGIN:VEVENT
DTSTAMP:20260419T172116
DTSTART;TZID=Europe/Berlin:20261120T080000
DTEND;TZID=Europe/Berlin:20261120T150000
UID:2026H62105-20261120T080000@VHSLINGEN
DESCRIPTION:Bildungsurlaub
SUMMARY:Ausbildung zum/-r Ausbilder/-in (IHK) IV/2026 Kompaktseminar hybrid (November 2026) (2026H62105) 
LOCATION:Bildungszentrum Gebrüder-Grimm, OG08, Elsterstr. 1, 49808 Lingen
END:VEVENT
BEGIN:VEVENT
DTSTAMP:20260419T172116
DTSTART;TZID=Europe/Berlin:20261127T170000
DTEND;TZID=Europe/Berlin:20261127T200000
UID:2026H62105-20261127T170000@VHSLINGEN
SUMMARY:Ausbildung zum/-r Ausbilder/-in (IHK) IV/2026 Kompaktseminar hybrid (November 2026) (2026H62105) 
LOCATION:Bildungszentrum Gebrüder-Grimm, OG08, Elsterstr. 1, 49808 Lingen
END:VEVENT
BEGIN:VEVENT
DTSTAMP:20260419T172116
DTSTART;TZID=Europe/Berlin:20261128T080000
DTEND;TZID=Europe/Berlin:20261128T150000
UID:2026H62105-20261128T080000@VHSLINGEN
SUMMARY:Ausbildung zum/-r Ausbilder/-in (IHK) IV/2026 Kompaktseminar hybrid (November 2026) (2026H62105) 
LOCATION:Bildungszentrum Gebrüder-Grimm, EG10, Elsterstr. 1, 49808 Lingen
END:VEVENT
BEGIN:VEVENT
DTSTAMP:20260419T172116
DTSTART;TZID=Europe/Berlin:20261204T170000
DTEND;TZID=Europe/Berlin:20261204T200000
UID:2026H62105-20261204T170000@VHSLINGEN
SUMMARY:Ausbildung zum/-r Ausbilder/-in (IHK) IV/2026 Kompaktseminar hybrid (November 2026) (2026H62105) 
LOCATION:Bildungszentrum Gebrüder-Grimm, OG08, Elsterstr. 1, 49808 Lingen
END:VEVENT
BEGIN:VEVENT
DTSTAMP:20260419T172116
DTSTART;TZID=Europe/Berlin:20261205T080000
DTEND;TZID=Europe/Berlin:20261205T150000
UID:2026H62105-20261205T080000@VHSLINGEN
SUMMARY:Ausbildung zum/-r Ausbilder/-in (IHK) IV/2026 Kompaktseminar hybrid (November 2026) (2026H62105) 
LOCATION:Bildungszentrum Gebrüder-Grimm, EG10, Elsterstr. 1, 49808 Lingen
END:VEVENT
END:VCALENDAR