BEGIN:VCALENDAR
VERSION:2.0
PRODID:https://www.kufer.de/kuferweb / DE
METHOD:PUBLISH
CALSCALE:GREGORIAN
X-WR-TIMEZONE:Europe/Berlin
BEGIN:VTIMEZONE
TZID:Europe/Berlin
X-LIC-LOCATION:Europe/Berlin
BEGIN:DAYLIGHT
TZOFFSETFROM:+0100
TZOFFSETTO:+0200
TZNAME:CEST
DTSTART:19700329T020000
RRULE:FREQ=YEARLY;INTERVAL=1;BYDAY=-1SU;BYMONTH=3
END:DAYLIGHT
BEGIN:STANDARD
TZOFFSETFROM:+0200
TZOFFSETTO:+0100
TZNAME:CET
DTSTART:19701025T030000
RRULE:FREQ=YEARLY;INTERVAL=1;BYDAY=-1SU;BYMONTH=10
END:STANDARD
END:VTIMEZONE
BEGIN:VEVENT
DTSTAMP:20260419T172618
DTSTART;TZID=Europe/Berlin:20260817T080000
DTEND;TZID=Europe/Berlin:20260817T150000
UID:2026H62100-20260817T080000@VHSLINGEN
DESCRIPTION:Bildungsurlaub
SUMMARY:Ausbildung zum/-r Ausbilder/-in (IHK) III/2026 Kompaktseminar hybrid (August 2026) (2026H62100) 
LOCATION:Bildungszentrum Gebrüder-Grimm, OG08, Elsterstr. 1, 49808 Lingen
END:VEVENT
BEGIN:VEVENT
DTSTAMP:20260419T172618
DTSTART;TZID=Europe/Berlin:20260818T080000
DTEND;TZID=Europe/Berlin:20260818T150000
UID:2026H62100-20260818T080000@VHSLINGEN
DESCRIPTION:Bildungsurlaub
SUMMARY:Ausbildung zum/-r Ausbilder/-in (IHK) III/2026 Kompaktseminar hybrid (August 2026) (2026H62100) 
LOCATION:Bildungszentrum Gebrüder-Grimm, OG08, Elsterstr. 1, 49808 Lingen
END:VEVENT
BEGIN:VEVENT
DTSTAMP:20260419T172618
DTSTART;TZID=Europe/Berlin:20260819T080000
DTEND;TZID=Europe/Berlin:20260819T150000
UID:2026H62100-20260819T080000@VHSLINGEN
DESCRIPTION:Bildungsurlaub
SUMMARY:Ausbildung zum/-r Ausbilder/-in (IHK) III/2026 Kompaktseminar hybrid (August 2026) (2026H62100) 
LOCATION:Bildungszentrum Gebrüder-Grimm, OG08, Elsterstr. 1, 49808 Lingen
END:VEVENT
BEGIN:VEVENT
DTSTAMP:20260419T172618
DTSTART;TZID=Europe/Berlin:20260820T080000
DTEND;TZID=Europe/Berlin:20260820T150000
UID:2026H62100-20260820T080000@VHSLINGEN
DESCRIPTION:Bildungsurlaub
SUMMARY:Ausbildung zum/-r Ausbilder/-in (IHK) III/2026 Kompaktseminar hybrid (August 2026) (2026H62100) 
LOCATION:Bildungszentrum Gebrüder-Grimm, OG08, Elsterstr. 1, 49808 Lingen
END:VEVENT
BEGIN:VEVENT
DTSTAMP:20260419T172618
DTSTART;TZID=Europe/Berlin:20260821T080000
DTEND;TZID=Europe/Berlin:20260821T150000
UID:2026H62100-20260821T080000@VHSLINGEN
DESCRIPTION:Bildungsurlaub
SUMMARY:Ausbildung zum/-r Ausbilder/-in (IHK) III/2026 Kompaktseminar hybrid (August 2026) (2026H62100) 
LOCATION:Bildungszentrum Gebrüder-Grimm, OG08, Elsterstr. 1, 49808 Lingen
END:VEVENT
BEGIN:VEVENT
DTSTAMP:20260419T172618
DTSTART;TZID=Europe/Berlin:20260828T170000
DTEND;TZID=Europe/Berlin:20260828T200000
UID:2026H62100-20260828T170000@VHSLINGEN
SUMMARY:Ausbildung zum/-r Ausbilder/-in (IHK) III/2026 Kompaktseminar hybrid (August 2026) (2026H62100) 
LOCATION:Bildungszentrum Gebrüder-Grimm, OG08, Elsterstr. 1, 49808 Lingen
END:VEVENT
BEGIN:VEVENT
DTSTAMP:20260419T172618
DTSTART;TZID=Europe/Berlin:20260829T080000
DTEND;TZID=Europe/Berlin:20260829T150000
UID:2026H62100-20260829T080000@VHSLINGEN
SUMMARY:Ausbildung zum/-r Ausbilder/-in (IHK) III/2026 Kompaktseminar hybrid (August 2026) (2026H62100) 
LOCATION:Bildungszentrum Gebrüder-Grimm, EG09, Elsterstr. 1, 49808 Lingen
END:VEVENT
BEGIN:VEVENT
DTSTAMP:20260419T172618
DTSTART;TZID=Europe/Berlin:20260904T170000
DTEND;TZID=Europe/Berlin:20260904T200000
UID:2026H62100-20260904T170000@VHSLINGEN
SUMMARY:Ausbildung zum/-r Ausbilder/-in (IHK) III/2026 Kompaktseminar hybrid (August 2026) (2026H62100) 
LOCATION:Bildungszentrum Gebrüder-Grimm, OG08, Elsterstr. 1, 49808 Lingen
END:VEVENT
BEGIN:VEVENT
DTSTAMP:20260419T172618
DTSTART;TZID=Europe/Berlin:20260905T080000
DTEND;TZID=Europe/Berlin:20260905T150000
UID:2026H62100-20260905T080000@VHSLINGEN
SUMMARY:Ausbildung zum/-r Ausbilder/-in (IHK) III/2026 Kompaktseminar hybrid (August 2026) (2026H62100) 
LOCATION:Bildungszentrum Gebrüder-Grimm, DG11, Elsterstr. 1, 49808 Lingen
END:VEVENT
END:VCALENDAR