BEGIN:VCALENDAR
VERSION:2.0
PRODID:https://www.kufer.de/kuferweb / DE
METHOD:PUBLISH
CALSCALE:GREGORIAN
X-WR-TIMEZONE:Europe/Berlin
BEGIN:VTIMEZONE
TZID:Europe/Berlin
X-LIC-LOCATION:Europe/Berlin
BEGIN:DAYLIGHT
TZOFFSETFROM:+0100
TZOFFSETTO:+0200
TZNAME:CEST
DTSTART:19700329T020000
RRULE:FREQ=YEARLY;INTERVAL=1;BYDAY=-1SU;BYMONTH=3
END:DAYLIGHT
BEGIN:STANDARD
TZOFFSETFROM:+0200
TZOFFSETTO:+0100
TZNAME:CET
DTSTART:19701025T030000
RRULE:FREQ=YEARLY;INTERVAL=1;BYDAY=-1SU;BYMONTH=10
END:STANDARD
END:VTIMEZONE
BEGIN:VEVENT
DTSTAMP:20260419T153412
DTSTART;TZID=Europe/Berlin:20261012T083000
DTEND;TZID=Europe/Berlin:20261012T153000
UID:2026H61800-20261012T083000@VHSLINGEN
SUMMARY:Start Up für kaufmännische Auszubildende - Die ideale Grundlage für eine erfolgreiche Berufsausbildung Intensivseminar/Bildungsurlaub (2026H61800) 
LOCATION:Bildungszentrum Gebrüder-Grimm, OG12, Elsterstr. 1, 49808 Lingen
END:VEVENT
BEGIN:VEVENT
DTSTAMP:20260419T153412
DTSTART;TZID=Europe/Berlin:20261013T083000
DTEND;TZID=Europe/Berlin:20261013T153000
UID:2026H61800-20261013T083000@VHSLINGEN
SUMMARY:Start Up für kaufmännische Auszubildende - Die ideale Grundlage für eine erfolgreiche Berufsausbildung Intensivseminar/Bildungsurlaub (2026H61800) 
LOCATION:Bildungszentrum Gebrüder-Grimm, OG12, Elsterstr. 1, 49808 Lingen
END:VEVENT
BEGIN:VEVENT
DTSTAMP:20260419T153412
DTSTART;TZID=Europe/Berlin:20261014T083000
DTEND;TZID=Europe/Berlin:20261014T153000
UID:2026H61800-20261014T083000@VHSLINGEN
SUMMARY:Start Up für kaufmännische Auszubildende - Die ideale Grundlage für eine erfolgreiche Berufsausbildung Intensivseminar/Bildungsurlaub (2026H61800) 
LOCATION:Bildungszentrum Gebrüder-Grimm, OG12, Elsterstr. 1, 49808 Lingen
END:VEVENT
END:VCALENDAR