BEGIN:VCALENDAR
VERSION:2.0
PRODID:https://www.kufer.de/kuferweb / DE
METHOD:PUBLISH
CALSCALE:GREGORIAN
X-WR-TIMEZONE:Europe/Berlin
BEGIN:VTIMEZONE
TZID:Europe/Berlin
X-LIC-LOCATION:Europe/Berlin
BEGIN:DAYLIGHT
TZOFFSETFROM:+0100
TZOFFSETTO:+0200
TZNAME:CEST
DTSTART:19700329T020000
RRULE:FREQ=YEARLY;INTERVAL=1;BYDAY=-1SU;BYMONTH=3
END:DAYLIGHT
BEGIN:STANDARD
TZOFFSETFROM:+0200
TZOFFSETTO:+0100
TZNAME:CET
DTSTART:19701025T030000
RRULE:FREQ=YEARLY;INTERVAL=1;BYDAY=-1SU;BYMONTH=10
END:STANDARD
END:VTIMEZONE
BEGIN:VEVENT
DTSTAMP:20260419T152553
DTSTART;TZID=Europe/Berlin:20261019T083000
DTEND;TZID=Europe/Berlin:20261019T150000
UID:2026H61705-20261019T083000@VHSLINGEN
SUMMARY:Prüfungsvorbereitung für Industriekaufleute (Teil 2) Winter 2026 Intensivseminar/Bildungsurlaub (2026H61705) 
LOCATION:Bildungszentrum Gebrüder-Grimm, OG08, Elsterstr. 1, 49808 Lingen
END:VEVENT
BEGIN:VEVENT
DTSTAMP:20260419T152553
DTSTART;TZID=Europe/Berlin:20261020T083000
DTEND;TZID=Europe/Berlin:20261020T150000
UID:2026H61705-20261020T083000@VHSLINGEN
SUMMARY:Prüfungsvorbereitung für Industriekaufleute (Teil 2) Winter 2026 Intensivseminar/Bildungsurlaub (2026H61705) 
LOCATION:Bildungszentrum Gebrüder-Grimm, OG08, Elsterstr. 1, 49808 Lingen
END:VEVENT
BEGIN:VEVENT
DTSTAMP:20260419T152553
DTSTART;TZID=Europe/Berlin:20261021T083000
DTEND;TZID=Europe/Berlin:20261021T150000
UID:2026H61705-20261021T083000@VHSLINGEN
SUMMARY:Prüfungsvorbereitung für Industriekaufleute (Teil 2) Winter 2026 Intensivseminar/Bildungsurlaub (2026H61705) 
LOCATION:Bildungszentrum Gebrüder-Grimm, OG08, Elsterstr. 1, 49808 Lingen
END:VEVENT
BEGIN:VEVENT
DTSTAMP:20260419T152553
DTSTART;TZID=Europe/Berlin:20261022T083000
DTEND;TZID=Europe/Berlin:20261022T150000
UID:2026H61705-20261022T083000@VHSLINGEN
SUMMARY:Prüfungsvorbereitung für Industriekaufleute (Teil 2) Winter 2026 Intensivseminar/Bildungsurlaub (2026H61705) 
LOCATION:Bildungszentrum Gebrüder-Grimm, OG08, Elsterstr. 1, 49808 Lingen
END:VEVENT
BEGIN:VEVENT
DTSTAMP:20260419T152553
DTSTART;TZID=Europe/Berlin:20261023T083000
DTEND;TZID=Europe/Berlin:20261023T143000
UID:2026H61705-20261023T083000@VHSLINGEN
SUMMARY:Prüfungsvorbereitung für Industriekaufleute (Teil 2) Winter 2026 Intensivseminar/Bildungsurlaub (2026H61705) 
LOCATION:Bildungszentrum Gebrüder-Grimm, OG08, Elsterstr. 1, 49808 Lingen
END:VEVENT
END:VCALENDAR