BEGIN:VCALENDAR
VERSION:2.0
PRODID:https://www.kufer.de/kuferweb / DE
METHOD:PUBLISH
CALSCALE:GREGORIAN
X-WR-TIMEZONE:Europe/Berlin
BEGIN:VTIMEZONE
TZID:Europe/Berlin
X-LIC-LOCATION:Europe/Berlin
BEGIN:DAYLIGHT
TZOFFSETFROM:+0100
TZOFFSETTO:+0200
TZNAME:CEST
DTSTART:19700329T020000
RRULE:FREQ=YEARLY;INTERVAL=1;BYDAY=-1SU;BYMONTH=3
END:DAYLIGHT
BEGIN:STANDARD
TZOFFSETFROM:+0200
TZOFFSETTO:+0100
TZNAME:CET
DTSTART:19701025T030000
RRULE:FREQ=YEARLY;INTERVAL=1;BYDAY=-1SU;BYMONTH=10
END:STANDARD
END:VTIMEZONE
BEGIN:VEVENT
DTSTAMP:20260419T190901
DTSTART;TZID=Europe/Berlin:20261109T183000
DTEND;TZID=Europe/Berlin:20261109T213000
UID:2026H61310-20261109T183000@VHSLINGEN
SUMMARY:Finanzbuchführung 1 (XB) Grundlagen der Buchführung verstehen und sicher anwenden (2026H61310) 
LOCATION:Bildungszentrum Gebrüder-Grimm, DG11, Elsterstr. 1, 49808 Lingen
END:VEVENT
BEGIN:VEVENT
DTSTAMP:20260419T190901
DTSTART;TZID=Europe/Berlin:20261111T183000
DTEND;TZID=Europe/Berlin:20261111T213000
UID:2026H61310-20261111T183000@VHSLINGEN
SUMMARY:Finanzbuchführung 1 (XB) Grundlagen der Buchführung verstehen und sicher anwenden (2026H61310) 
LOCATION:Bildungszentrum Gebrüder-Grimm, DG11, Elsterstr. 1, 49808 Lingen
END:VEVENT
BEGIN:VEVENT
DTSTAMP:20260419T190901
DTSTART;TZID=Europe/Berlin:20261116T183000
DTEND;TZID=Europe/Berlin:20261116T213000
UID:2026H61310-20261116T183000@VHSLINGEN
SUMMARY:Finanzbuchführung 1 (XB) Grundlagen der Buchführung verstehen und sicher anwenden (2026H61310) 
LOCATION:Bildungszentrum Gebrüder-Grimm, DG11, Elsterstr. 1, 49808 Lingen
END:VEVENT
BEGIN:VEVENT
DTSTAMP:20260419T190901
DTSTART;TZID=Europe/Berlin:20261118T183000
DTEND;TZID=Europe/Berlin:20261118T213000
UID:2026H61310-20261118T183000@VHSLINGEN
SUMMARY:Finanzbuchführung 1 (XB) Grundlagen der Buchführung verstehen und sicher anwenden (2026H61310) 
LOCATION:Bildungszentrum Gebrüder-Grimm, DG11, Elsterstr. 1, 49808 Lingen
END:VEVENT
BEGIN:VEVENT
DTSTAMP:20260419T190901
DTSTART;TZID=Europe/Berlin:20261123T183000
DTEND;TZID=Europe/Berlin:20261123T213000
UID:2026H61310-20261123T183000@VHSLINGEN
SUMMARY:Finanzbuchführung 1 (XB) Grundlagen der Buchführung verstehen und sicher anwenden (2026H61310) 
LOCATION:Bildungszentrum Gebrüder-Grimm, DG11, Elsterstr. 1, 49808 Lingen
END:VEVENT
BEGIN:VEVENT
DTSTAMP:20260419T190901
DTSTART;TZID=Europe/Berlin:20261125T183000
DTEND;TZID=Europe/Berlin:20261125T213000
UID:2026H61310-20261125T183000@VHSLINGEN
SUMMARY:Finanzbuchführung 1 (XB) Grundlagen der Buchführung verstehen und sicher anwenden (2026H61310) 
LOCATION:Bildungszentrum Gebrüder-Grimm, DG11, Elsterstr. 1, 49808 Lingen
END:VEVENT
BEGIN:VEVENT
DTSTAMP:20260419T190901
DTSTART;TZID=Europe/Berlin:20261130T183000
DTEND;TZID=Europe/Berlin:20261130T213000
UID:2026H61310-20261130T183000@VHSLINGEN
SUMMARY:Finanzbuchführung 1 (XB) Grundlagen der Buchführung verstehen und sicher anwenden (2026H61310) 
LOCATION:Bildungszentrum Gebrüder-Grimm, DG11, Elsterstr. 1, 49808 Lingen
END:VEVENT
BEGIN:VEVENT
DTSTAMP:20260419T190901
DTSTART;TZID=Europe/Berlin:20261202T183000
DTEND;TZID=Europe/Berlin:20261202T213000
UID:2026H61310-20261202T183000@VHSLINGEN
SUMMARY:Finanzbuchführung 1 (XB) Grundlagen der Buchführung verstehen und sicher anwenden (2026H61310) 
LOCATION:Bildungszentrum Gebrüder-Grimm, DG11, Elsterstr. 1, 49808 Lingen
END:VEVENT
BEGIN:VEVENT
DTSTAMP:20260419T190901
DTSTART;TZID=Europe/Berlin:20261207T183000
DTEND;TZID=Europe/Berlin:20261207T213000
UID:2026H61310-20261207T183000@VHSLINGEN
SUMMARY:Finanzbuchführung 1 (XB) Grundlagen der Buchführung verstehen und sicher anwenden (2026H61310) 
LOCATION:Bildungszentrum Gebrüder-Grimm, DG11, Elsterstr. 1, 49808 Lingen
END:VEVENT
BEGIN:VEVENT
DTSTAMP:20260419T190901
DTSTART;TZID=Europe/Berlin:20261209T183000
DTEND;TZID=Europe/Berlin:20261209T213000
UID:2026H61310-20261209T183000@VHSLINGEN
SUMMARY:Finanzbuchführung 1 (XB) Grundlagen der Buchführung verstehen und sicher anwenden (2026H61310) 
LOCATION:Bildungszentrum Gebrüder-Grimm, DG11, Elsterstr. 1, 49808 Lingen
END:VEVENT
BEGIN:VEVENT
DTSTAMP:20260419T190901
DTSTART;TZID=Europe/Berlin:20261214T183000
DTEND;TZID=Europe/Berlin:20261214T213000
UID:2026H61310-20261214T183000@VHSLINGEN
SUMMARY:Finanzbuchführung 1 (XB) Grundlagen der Buchführung verstehen und sicher anwenden (2026H61310) 
LOCATION:Bildungszentrum Gebrüder-Grimm, DG11, Elsterstr. 1, 49808 Lingen
END:VEVENT
BEGIN:VEVENT
DTSTAMP:20260419T190901
DTSTART;TZID=Europe/Berlin:20270113T183000
DTEND;TZID=Europe/Berlin:20270113T213000
UID:2026H61310-20270113T183000@VHSLINGEN
SUMMARY:Finanzbuchführung 1 (XB) Grundlagen der Buchführung verstehen und sicher anwenden (2026H61310) 
LOCATION:Bildungszentrum Gebrüder-Grimm, DG11, Elsterstr. 1, 49808 Lingen
END:VEVENT
BEGIN:VEVENT
DTSTAMP:20260419T190901
DTSTART;TZID=Europe/Berlin:20270118T183000
DTEND;TZID=Europe/Berlin:20270118T213000
UID:2026H61310-20270118T183000@VHSLINGEN
SUMMARY:Finanzbuchführung 1 (XB) Grundlagen der Buchführung verstehen und sicher anwenden (2026H61310) 
LOCATION:Bildungszentrum Gebrüder-Grimm, DG11, Elsterstr. 1, 49808 Lingen
END:VEVENT
BEGIN:VEVENT
DTSTAMP:20260419T190901
DTSTART;TZID=Europe/Berlin:20270123T090000
DTEND;TZID=Europe/Berlin:20270123T120000
UID:2026H61310-20270123T090000@VHSLINGEN
DESCRIPTION:Prüfung: Fibu (1)
SUMMARY:Finanzbuchführung 1 (XB) Grundlagen der Buchführung verstehen und sicher anwenden (2026H61310) 
LOCATION:Bildungszentrum Gebrüder-Grimm, DG11, Elsterstr. 1, 49808 Lingen
END:VEVENT
END:VCALENDAR