BEGIN:VCALENDAR
VERSION:2.0
PRODID:https://www.kufer.de/kuferweb / DE
METHOD:PUBLISH
CALSCALE:GREGORIAN
X-WR-TIMEZONE:Europe/Berlin
BEGIN:VTIMEZONE
TZID:Europe/Berlin
X-LIC-LOCATION:Europe/Berlin
BEGIN:DAYLIGHT
TZOFFSETFROM:+0100
TZOFFSETTO:+0200
TZNAME:CEST
DTSTART:19700329T020000
RRULE:FREQ=YEARLY;INTERVAL=1;BYDAY=-1SU;BYMONTH=3
END:DAYLIGHT
BEGIN:STANDARD
TZOFFSETFROM:+0200
TZOFFSETTO:+0100
TZNAME:CET
DTSTART:19701025T030000
RRULE:FREQ=YEARLY;INTERVAL=1;BYDAY=-1SU;BYMONTH=10
END:STANDARD
END:VTIMEZONE
BEGIN:VEVENT
DTSTAMP:20260419T190851
DTSTART;TZID=Europe/Berlin:20261117T183000
DTEND;TZID=Europe/Berlin:20261117T213000
UID:2026H61110-20261117T183000@VHSLINGEN
SUMMARY:Lohn und Gehalt 1 (XB) Lohnabrechnung verstehen und sicher durchführen (2026H61110) 
LOCATION:Bildungszentrum Gebrüder-Grimm, EG10, Elsterstr. 1, 49808 Lingen
END:VEVENT
BEGIN:VEVENT
DTSTAMP:20260419T190851
DTSTART;TZID=Europe/Berlin:20261119T183000
DTEND;TZID=Europe/Berlin:20261119T213000
UID:2026H61110-20261119T183000@VHSLINGEN
SUMMARY:Lohn und Gehalt 1 (XB) Lohnabrechnung verstehen und sicher durchführen (2026H61110) 
LOCATION:Bildungszentrum Gebrüder-Grimm, EG10, Elsterstr. 1, 49808 Lingen
END:VEVENT
BEGIN:VEVENT
DTSTAMP:20260419T190851
DTSTART;TZID=Europe/Berlin:20261124T183000
DTEND;TZID=Europe/Berlin:20261124T213000
UID:2026H61110-20261124T183000@VHSLINGEN
SUMMARY:Lohn und Gehalt 1 (XB) Lohnabrechnung verstehen und sicher durchführen (2026H61110) 
LOCATION:Bildungszentrum Gebrüder-Grimm, EG10, Elsterstr. 1, 49808 Lingen
END:VEVENT
BEGIN:VEVENT
DTSTAMP:20260419T190851
DTSTART;TZID=Europe/Berlin:20261126T183000
DTEND;TZID=Europe/Berlin:20261126T213000
UID:2026H61110-20261126T183000@VHSLINGEN
SUMMARY:Lohn und Gehalt 1 (XB) Lohnabrechnung verstehen und sicher durchführen (2026H61110) 
LOCATION:Bildungszentrum Gebrüder-Grimm, EG10, Elsterstr. 1, 49808 Lingen
END:VEVENT
BEGIN:VEVENT
DTSTAMP:20260419T190851
DTSTART;TZID=Europe/Berlin:20261201T183000
DTEND;TZID=Europe/Berlin:20261201T213000
UID:2026H61110-20261201T183000@VHSLINGEN
SUMMARY:Lohn und Gehalt 1 (XB) Lohnabrechnung verstehen und sicher durchführen (2026H61110) 
LOCATION:Bildungszentrum Gebrüder-Grimm, EG10, Elsterstr. 1, 49808 Lingen
END:VEVENT
BEGIN:VEVENT
DTSTAMP:20260419T190851
DTSTART;TZID=Europe/Berlin:20261203T183000
DTEND;TZID=Europe/Berlin:20261203T213000
UID:2026H61110-20261203T183000@VHSLINGEN
SUMMARY:Lohn und Gehalt 1 (XB) Lohnabrechnung verstehen und sicher durchführen (2026H61110) 
LOCATION:Bildungszentrum Gebrüder-Grimm, EG10, Elsterstr. 1, 49808 Lingen
END:VEVENT
BEGIN:VEVENT
DTSTAMP:20260419T190851
DTSTART;TZID=Europe/Berlin:20261208T183000
DTEND;TZID=Europe/Berlin:20261208T213000
UID:2026H61110-20261208T183000@VHSLINGEN
SUMMARY:Lohn und Gehalt 1 (XB) Lohnabrechnung verstehen und sicher durchführen (2026H61110) 
LOCATION:Bildungszentrum Gebrüder-Grimm, EG10, Elsterstr. 1, 49808 Lingen
END:VEVENT
BEGIN:VEVENT
DTSTAMP:20260419T190851
DTSTART;TZID=Europe/Berlin:20261210T183000
DTEND;TZID=Europe/Berlin:20261210T213000
UID:2026H61110-20261210T183000@VHSLINGEN
SUMMARY:Lohn und Gehalt 1 (XB) Lohnabrechnung verstehen und sicher durchführen (2026H61110) 
LOCATION:Bildungszentrum Gebrüder-Grimm, EG10, Elsterstr. 1, 49808 Lingen
END:VEVENT
BEGIN:VEVENT
DTSTAMP:20260419T190851
DTSTART;TZID=Europe/Berlin:20261215T183000
DTEND;TZID=Europe/Berlin:20261215T213000
UID:2026H61110-20261215T183000@VHSLINGEN
SUMMARY:Lohn und Gehalt 1 (XB) Lohnabrechnung verstehen und sicher durchführen (2026H61110) 
LOCATION:Bildungszentrum Gebrüder-Grimm, EG10, Elsterstr. 1, 49808 Lingen
END:VEVENT
BEGIN:VEVENT
DTSTAMP:20260419T190851
DTSTART;TZID=Europe/Berlin:20270114T183000
DTEND;TZID=Europe/Berlin:20270114T213000
UID:2026H61110-20270114T183000@VHSLINGEN
SUMMARY:Lohn und Gehalt 1 (XB) Lohnabrechnung verstehen und sicher durchführen (2026H61110) 
LOCATION:Bildungszentrum Gebrüder-Grimm, EG10, Elsterstr. 1, 49808 Lingen
END:VEVENT
BEGIN:VEVENT
DTSTAMP:20260419T190851
DTSTART;TZID=Europe/Berlin:20270119T183000
DTEND;TZID=Europe/Berlin:20270119T213000
UID:2026H61110-20270119T183000@VHSLINGEN
SUMMARY:Lohn und Gehalt 1 (XB) Lohnabrechnung verstehen und sicher durchführen (2026H61110) 
LOCATION:Bildungszentrum Gebrüder-Grimm, EG10, Elsterstr. 1, 49808 Lingen
END:VEVENT
BEGIN:VEVENT
DTSTAMP:20260419T190851
DTSTART;TZID=Europe/Berlin:20270121T183000
DTEND;TZID=Europe/Berlin:20270121T213000
UID:2026H61110-20270121T183000@VHSLINGEN
SUMMARY:Lohn und Gehalt 1 (XB) Lohnabrechnung verstehen und sicher durchführen (2026H61110) 
LOCATION:Bildungszentrum Gebrüder-Grimm, EG10, Elsterstr. 1, 49808 Lingen
END:VEVENT
BEGIN:VEVENT
DTSTAMP:20260419T190851
DTSTART;TZID=Europe/Berlin:20270126T183000
DTEND;TZID=Europe/Berlin:20270126T213000
UID:2026H61110-20270126T183000@VHSLINGEN
SUMMARY:Lohn und Gehalt 1 (XB) Lohnabrechnung verstehen und sicher durchführen (2026H61110) 
LOCATION:Bildungszentrum Gebrüder-Grimm, EG10, Elsterstr. 1, 49808 Lingen
END:VEVENT
BEGIN:VEVENT
DTSTAMP:20260419T190851
DTSTART;TZID=Europe/Berlin:20270130T090000
DTEND;TZID=Europe/Berlin:20270130T120000
UID:2026H61110-20270130T090000@VHSLINGEN
DESCRIPTION:Prüfung
SUMMARY:Lohn und Gehalt 1 (XB) Lohnabrechnung verstehen und sicher durchführen (2026H61110) 
LOCATION:Bildungszentrum Gebrüder-Grimm, U-Raum, Elsterstr. 1, 49808 Lingen
END:VEVENT
END:VCALENDAR