BEGIN:VCALENDAR
VERSION:2.0
PRODID:https://www.kufer.de/kuferweb / DE
METHOD:PUBLISH
CALSCALE:GREGORIAN
X-WR-TIMEZONE:Europe/Berlin
BEGIN:VTIMEZONE
TZID:Europe/Berlin
X-LIC-LOCATION:Europe/Berlin
BEGIN:DAYLIGHT
TZOFFSETFROM:+0100
TZOFFSETTO:+0200
TZNAME:CEST
DTSTART:19700329T020000
RRULE:FREQ=YEARLY;INTERVAL=1;BYDAY=-1SU;BYMONTH=3
END:DAYLIGHT
BEGIN:STANDARD
TZOFFSETFROM:+0200
TZOFFSETTO:+0100
TZNAME:CET
DTSTART:19701025T030000
RRULE:FREQ=YEARLY;INTERVAL=1;BYDAY=-1SU;BYMONTH=10
END:STANDARD
END:VTIMEZONE
BEGIN:VEVENT
DTSTAMP:20260425T054934
DTSTART;TZID=Europe/Berlin:20260520T181000
DTEND;TZID=Europe/Berlin:20260520T191000
UID:2026F96515-20260520T181000@VHSLINGEN
SUMMARY:Faszientraining häufig unterschätzt und doch so wichtig! (2026F96515) 
LOCATION:Grundschule Overbergschule, Tanzhalle, Stephanstr. 12, 49809 Lingen
END:VEVENT
BEGIN:VEVENT
DTSTAMP:20260425T054934
DTSTART;TZID=Europe/Berlin:20260527T181000
DTEND;TZID=Europe/Berlin:20260527T191000
UID:2026F96515-20260527T181000@VHSLINGEN
SUMMARY:Faszientraining häufig unterschätzt und doch so wichtig! (2026F96515) 
LOCATION:Grundschule Overbergschule, Tanzhalle, Stephanstr. 12, 49809 Lingen
END:VEVENT
BEGIN:VEVENT
DTSTAMP:20260425T054934
DTSTART;TZID=Europe/Berlin:20260603T181000
DTEND;TZID=Europe/Berlin:20260603T191000
UID:2026F96515-20260603T181000@VHSLINGEN
SUMMARY:Faszientraining häufig unterschätzt und doch so wichtig! (2026F96515) 
LOCATION:Grundschule Overbergschule, Tanzhalle, Stephanstr. 12, 49809 Lingen
END:VEVENT
BEGIN:VEVENT
DTSTAMP:20260425T054934
DTSTART;TZID=Europe/Berlin:20260610T181000
DTEND;TZID=Europe/Berlin:20260610T191000
UID:2026F96515-20260610T181000@VHSLINGEN
SUMMARY:Faszientraining häufig unterschätzt und doch so wichtig! (2026F96515) 
LOCATION:Grundschule Overbergschule, Tanzhalle, Stephanstr. 12, 49809 Lingen
END:VEVENT
BEGIN:VEVENT
DTSTAMP:20260425T054934
DTSTART;TZID=Europe/Berlin:20260617T181000
DTEND;TZID=Europe/Berlin:20260617T191000
UID:2026F96515-20260617T181000@VHSLINGEN
SUMMARY:Faszientraining häufig unterschätzt und doch so wichtig! (2026F96515) 
LOCATION:Grundschule Overbergschule, Tanzhalle, Stephanstr. 12, 49809 Lingen
END:VEVENT
END:VCALENDAR