BEGIN:VCALENDAR
VERSION:2.0
PRODID:https://www.kufer.de/kuferweb / DE
METHOD:PUBLISH
CALSCALE:GREGORIAN
X-WR-TIMEZONE:Europe/Berlin
BEGIN:VTIMEZONE
TZID:Europe/Berlin
X-LIC-LOCATION:Europe/Berlin
BEGIN:DAYLIGHT
TZOFFSETFROM:+0100
TZOFFSETTO:+0200
TZNAME:CEST
DTSTART:19700329T020000
RRULE:FREQ=YEARLY;INTERVAL=1;BYDAY=-1SU;BYMONTH=3
END:DAYLIGHT
BEGIN:STANDARD
TZOFFSETFROM:+0200
TZOFFSETTO:+0100
TZNAME:CET
DTSTART:19701025T030000
RRULE:FREQ=YEARLY;INTERVAL=1;BYDAY=-1SU;BYMONTH=10
END:STANDARD
END:VTIMEZONE
BEGIN:VEVENT
DTSTAMP:20260425T005311
DTSTART;TZID=Europe/Berlin:20260205T191500
DTEND;TZID=Europe/Berlin:20260205T201500
UID:2026F96470-20260205T191500@VHSLINGEN
SUMMARY:BOP plus (2026F96470) 
LOCATION:Grundschule Overbergschule, Tanzhalle, Stephanstr. 12, 49809 Lingen
END:VEVENT
BEGIN:VEVENT
DTSTAMP:20260425T005311
DTSTART;TZID=Europe/Berlin:20260212T191500
DTEND;TZID=Europe/Berlin:20260212T201500
UID:2026F96470-20260212T191500@VHSLINGEN
SUMMARY:BOP plus (2026F96470) 
LOCATION:Grundschule Overbergschule, Tanzhalle, Stephanstr. 12, 49809 Lingen
END:VEVENT
BEGIN:VEVENT
DTSTAMP:20260425T005311
DTSTART;TZID=Europe/Berlin:20260226T191500
DTEND;TZID=Europe/Berlin:20260226T201500
UID:2026F96470-20260226T191500@VHSLINGEN
SUMMARY:BOP plus (2026F96470) 
LOCATION:Grundschule Overbergschule, Tanzhalle, Stephanstr. 12, 49809 Lingen
END:VEVENT
BEGIN:VEVENT
DTSTAMP:20260425T005311
DTSTART;TZID=Europe/Berlin:20260305T191500
DTEND;TZID=Europe/Berlin:20260305T201500
UID:2026F96470-20260305T191500@VHSLINGEN
SUMMARY:BOP plus (2026F96470) 
LOCATION:Grundschule Overbergschule, Tanzhalle, Stephanstr. 12, 49809 Lingen
END:VEVENT
BEGIN:VEVENT
DTSTAMP:20260425T005311
DTSTART;TZID=Europe/Berlin:20260312T191500
DTEND;TZID=Europe/Berlin:20260312T201500
UID:2026F96470-20260312T191500@VHSLINGEN
SUMMARY:BOP plus (2026F96470) 
LOCATION:Grundschule Overbergschule, Tanzhalle, Stephanstr. 12, 49809 Lingen
END:VEVENT
BEGIN:VEVENT
DTSTAMP:20260425T005311
DTSTART;TZID=Europe/Berlin:20260319T191500
DTEND;TZID=Europe/Berlin:20260319T201500
UID:2026F96470-20260319T191500@VHSLINGEN
SUMMARY:BOP plus (2026F96470) 
LOCATION:Grundschule Overbergschule, Tanzhalle, Stephanstr. 12, 49809 Lingen
END:VEVENT
BEGIN:VEVENT
DTSTAMP:20260425T005311
DTSTART;TZID=Europe/Berlin:20260326T191500
DTEND;TZID=Europe/Berlin:20260326T201500
UID:2026F96470-20260326T191500@VHSLINGEN
SUMMARY:BOP plus (2026F96470) 
LOCATION:Grundschule Overbergschule, Tanzhalle, Stephanstr. 12, 49809 Lingen
END:VEVENT
BEGIN:VEVENT
DTSTAMP:20260425T005311
DTSTART;TZID=Europe/Berlin:20260409T191500
DTEND;TZID=Europe/Berlin:20260409T201500
UID:2026F96470-20260409T191500@VHSLINGEN
SUMMARY:BOP plus (2026F96470) 
LOCATION:Grundschule Overbergschule, Tanzhalle, Stephanstr. 12, 49809 Lingen
END:VEVENT
BEGIN:VEVENT
DTSTAMP:20260425T005311
DTSTART;TZID=Europe/Berlin:20260416T191500
DTEND;TZID=Europe/Berlin:20260416T201500
UID:2026F96470-20260416T191500@VHSLINGEN
SUMMARY:BOP plus (2026F96470) 
LOCATION:Grundschule Overbergschule, Tanzhalle, Stephanstr. 12, 49809 Lingen
END:VEVENT
BEGIN:VEVENT
DTSTAMP:20260425T005311
DTSTART;TZID=Europe/Berlin:20260423T191500
DTEND;TZID=Europe/Berlin:20260423T201500
UID:2026F96470-20260423T191500@VHSLINGEN
SUMMARY:BOP plus (2026F96470) 
LOCATION:Grundschule Overbergschule, Tanzhalle, Stephanstr. 12, 49809 Lingen
END:VEVENT
BEGIN:VEVENT
DTSTAMP:20260425T005311
DTSTART;TZID=Europe/Berlin:20260521T191500
DTEND;TZID=Europe/Berlin:20260521T201500
UID:2026F96470-20260521T191500@VHSLINGEN
SUMMARY:BOP plus (2026F96470) 
LOCATION:Grundschule Overbergschule, Tanzhalle, Stephanstr. 12, 49809 Lingen
END:VEVENT
BEGIN:VEVENT
DTSTAMP:20260425T005311
DTSTART;TZID=Europe/Berlin:20260528T191500
DTEND;TZID=Europe/Berlin:20260528T201500
UID:2026F96470-20260528T191500@VHSLINGEN
SUMMARY:BOP plus (2026F96470) 
LOCATION:Grundschule Overbergschule, Tanzhalle, Stephanstr. 12, 49809 Lingen
END:VEVENT
BEGIN:VEVENT
DTSTAMP:20260425T005311
DTSTART;TZID=Europe/Berlin:20260604T191500
DTEND;TZID=Europe/Berlin:20260604T201500
UID:2026F96470-20260604T191500@VHSLINGEN
SUMMARY:BOP plus (2026F96470) 
LOCATION:Grundschule Overbergschule, Tanzhalle, Stephanstr. 12, 49809 Lingen
END:VEVENT
BEGIN:VEVENT
DTSTAMP:20260425T005311
DTSTART;TZID=Europe/Berlin:20260611T191500
DTEND;TZID=Europe/Berlin:20260611T201500
UID:2026F96470-20260611T191500@VHSLINGEN
SUMMARY:BOP plus (2026F96470) 
LOCATION:Grundschule Overbergschule, Tanzhalle, Stephanstr. 12, 49809 Lingen
END:VEVENT
BEGIN:VEVENT
DTSTAMP:20260425T005311
DTSTART;TZID=Europe/Berlin:20260618T191500
DTEND;TZID=Europe/Berlin:20260618T201500
UID:2026F96470-20260618T191500@VHSLINGEN
SUMMARY:BOP plus (2026F96470) 
LOCATION:Grundschule Overbergschule, Tanzhalle, Stephanstr. 12, 49809 Lingen
END:VEVENT
END:VCALENDAR