BEGIN:VCALENDAR
VERSION:2.0
PRODID:https://www.kufer.de/kuferweb / DE
METHOD:PUBLISH
CALSCALE:GREGORIAN
X-WR-TIMEZONE:Europe/Berlin
BEGIN:VTIMEZONE
TZID:Europe/Berlin
X-LIC-LOCATION:Europe/Berlin
BEGIN:DAYLIGHT
TZOFFSETFROM:+0100
TZOFFSETTO:+0200
TZNAME:CEST
DTSTART:19700329T020000
RRULE:FREQ=YEARLY;INTERVAL=1;BYDAY=-1SU;BYMONTH=3
END:DAYLIGHT
BEGIN:STANDARD
TZOFFSETFROM:+0200
TZOFFSETTO:+0100
TZNAME:CET
DTSTART:19701025T030000
RRULE:FREQ=YEARLY;INTERVAL=1;BYDAY=-1SU;BYMONTH=10
END:STANDARD
END:VTIMEZONE
BEGIN:VEVENT
DTSTAMP:20260424T145249
DTSTART;TZID=Europe/Berlin:20260120T163000
DTEND;TZID=Europe/Berlin:20260120T173000
UID:2026F96210-20260120T163000@VHSLINGEN
SUMMARY:Muskel- und Gelenktraining 60+ (2026F96210) 
LOCATION:Bildungszentrum Gebrüder-Grimm, OG14, Elsterstr. 1, 49808 Lingen
END:VEVENT
BEGIN:VEVENT
DTSTAMP:20260424T145249
DTSTART;TZID=Europe/Berlin:20260127T163000
DTEND;TZID=Europe/Berlin:20260127T173000
UID:2026F96210-20260127T163000@VHSLINGEN
SUMMARY:Muskel- und Gelenktraining 60+ (2026F96210) 
LOCATION:Bildungszentrum Gebrüder-Grimm, OG14, Elsterstr. 1, 49808 Lingen
END:VEVENT
BEGIN:VEVENT
DTSTAMP:20260424T145249
DTSTART;TZID=Europe/Berlin:20260203T163000
DTEND;TZID=Europe/Berlin:20260203T173000
UID:2026F96210-20260203T163000@VHSLINGEN
SUMMARY:Muskel- und Gelenktraining 60+ (2026F96210) 
LOCATION:Bildungszentrum Gebrüder-Grimm, OG14, Elsterstr. 1, 49808 Lingen
END:VEVENT
BEGIN:VEVENT
DTSTAMP:20260424T145249
DTSTART;TZID=Europe/Berlin:20260210T163000
DTEND;TZID=Europe/Berlin:20260210T173000
UID:2026F96210-20260210T163000@VHSLINGEN
SUMMARY:Muskel- und Gelenktraining 60+ (2026F96210) 
LOCATION:Bildungszentrum Gebrüder-Grimm, OG14, Elsterstr. 1, 49808 Lingen
END:VEVENT
BEGIN:VEVENT
DTSTAMP:20260424T145249
DTSTART;TZID=Europe/Berlin:20260224T163000
DTEND;TZID=Europe/Berlin:20260224T173000
UID:2026F96210-20260224T163000@VHSLINGEN
SUMMARY:Muskel- und Gelenktraining 60+ (2026F96210) 
LOCATION:Bildungszentrum Gebrüder-Grimm, OG14, Elsterstr. 1, 49808 Lingen
END:VEVENT
BEGIN:VEVENT
DTSTAMP:20260424T145249
DTSTART;TZID=Europe/Berlin:20260303T163000
DTEND;TZID=Europe/Berlin:20260303T173000
UID:2026F96210-20260303T163000@VHSLINGEN
DESCRIPTION:Raumwechsel!
SUMMARY:Muskel- und Gelenktraining 60+ (2026F96210) 
LOCATION:Bildungszentrum Gebrüder-Grimm, OG06, Elsterstr. 1, 49808 Lingen
END:VEVENT
BEGIN:VEVENT
DTSTAMP:20260424T145249
DTSTART;TZID=Europe/Berlin:20260310T163000
DTEND;TZID=Europe/Berlin:20260310T173000
UID:2026F96210-20260310T163000@VHSLINGEN
SUMMARY:Muskel- und Gelenktraining 60+ (2026F96210) 
LOCATION:Bildungszentrum Gebrüder-Grimm, OG14, Elsterstr. 1, 49808 Lingen
END:VEVENT
BEGIN:VEVENT
DTSTAMP:20260424T145249
DTSTART;TZID=Europe/Berlin:20260414T163000
DTEND;TZID=Europe/Berlin:20260414T173000
UID:2026F96210-20260414T163000@VHSLINGEN
SUMMARY:Muskel- und Gelenktraining 60+ (2026F96210) 
LOCATION:Bildungszentrum Gebrüder-Grimm, OG14, Elsterstr. 1, 49808 Lingen
END:VEVENT
BEGIN:VEVENT
DTSTAMP:20260424T145249
DTSTART;TZID=Europe/Berlin:20260421T163000
DTEND;TZID=Europe/Berlin:20260421T173000
UID:2026F96210-20260421T163000@VHSLINGEN
SUMMARY:Muskel- und Gelenktraining 60+ (2026F96210) 
LOCATION:Bildungszentrum Gebrüder-Grimm, OG14, Elsterstr. 1, 49808 Lingen
END:VEVENT
BEGIN:VEVENT
DTSTAMP:20260424T145249
DTSTART;TZID=Europe/Berlin:20260428T163000
DTEND;TZID=Europe/Berlin:20260428T173000
UID:2026F96210-20260428T163000@VHSLINGEN
SUMMARY:Muskel- und Gelenktraining 60+ (2026F96210) 
LOCATION:Bildungszentrum Gebrüder-Grimm, OG14, Elsterstr. 1, 49808 Lingen
END:VEVENT
BEGIN:VEVENT
DTSTAMP:20260424T145249
DTSTART;TZID=Europe/Berlin:20260505T163000
DTEND;TZID=Europe/Berlin:20260505T173000
UID:2026F96210-20260505T163000@VHSLINGEN
SUMMARY:Muskel- und Gelenktraining 60+ (2026F96210) 
LOCATION:Bildungszentrum Gebrüder-Grimm, OG14, Elsterstr. 1, 49808 Lingen
END:VEVENT
BEGIN:VEVENT
DTSTAMP:20260424T145249
DTSTART;TZID=Europe/Berlin:20260519T163000
DTEND;TZID=Europe/Berlin:20260519T173000
UID:2026F96210-20260519T163000@VHSLINGEN
SUMMARY:Muskel- und Gelenktraining 60+ (2026F96210) 
LOCATION:Bildungszentrum Gebrüder-Grimm, OG14, Elsterstr. 1, 49808 Lingen
END:VEVENT
BEGIN:VEVENT
DTSTAMP:20260424T145249
DTSTART;TZID=Europe/Berlin:20260602T163000
DTEND;TZID=Europe/Berlin:20260602T173000
UID:2026F96210-20260602T163000@VHSLINGEN
SUMMARY:Muskel- und Gelenktraining 60+ (2026F96210) 
LOCATION:Bildungszentrum Gebrüder-Grimm, OG14, Elsterstr. 1, 49808 Lingen
END:VEVENT
BEGIN:VEVENT
DTSTAMP:20260424T145249
DTSTART;TZID=Europe/Berlin:20260609T163000
DTEND;TZID=Europe/Berlin:20260609T173000
UID:2026F96210-20260609T163000@VHSLINGEN
SUMMARY:Muskel- und Gelenktraining 60+ (2026F96210) 
LOCATION:Bildungszentrum Gebrüder-Grimm, OG14, Elsterstr. 1, 49808 Lingen
END:VEVENT
BEGIN:VEVENT
DTSTAMP:20260424T145249
DTSTART;TZID=Europe/Berlin:20260616T163000
DTEND;TZID=Europe/Berlin:20260616T173000
UID:2026F96210-20260616T163000@VHSLINGEN
SUMMARY:Muskel- und Gelenktraining 60+ (2026F96210) 
LOCATION:Bildungszentrum Gebrüder-Grimm, OG14, Elsterstr. 1, 49808 Lingen
END:VEVENT
BEGIN:VEVENT
DTSTAMP:20260424T145249
DTSTART;TZID=Europe/Berlin:20260623T163000
DTEND;TZID=Europe/Berlin:20260623T173000
UID:2026F96210-20260623T163000@VHSLINGEN
SUMMARY:Muskel- und Gelenktraining 60+ (2026F96210) 
LOCATION:Bildungszentrum Gebrüder-Grimm, OG14, Elsterstr. 1, 49808 Lingen
END:VEVENT
BEGIN:VEVENT
DTSTAMP:20260424T145249
DTSTART;TZID=Europe/Berlin:20260630T163000
DTEND;TZID=Europe/Berlin:20260630T173000
UID:2026F96210-20260630T163000@VHSLINGEN
SUMMARY:Muskel- und Gelenktraining 60+ (2026F96210) 
LOCATION:Bildungszentrum Gebrüder-Grimm, OG14, Elsterstr. 1, 49808 Lingen
END:VEVENT
BEGIN:VEVENT
DTSTAMP:20260424T145249
DTSTART;TZID=Europe/Berlin:20260707T163000
DTEND;TZID=Europe/Berlin:20260707T173000
UID:2026F96210-20260707T163000@VHSLINGEN
DESCRIPTION:ggf neu terminieren
SUMMARY:Muskel- und Gelenktraining 60+ (2026F96210) 
LOCATION:Bildungszentrum Gebrüder-Grimm, OG14, Elsterstr. 1, 49808 Lingen
END:VEVENT
END:VCALENDAR