BEGIN:VCALENDAR
VERSION:2.0
PRODID:https://www.kufer.de/kuferweb / DE
METHOD:PUBLISH
CALSCALE:GREGORIAN
X-WR-TIMEZONE:Europe/Berlin
BEGIN:VTIMEZONE
TZID:Europe/Berlin
X-LIC-LOCATION:Europe/Berlin
BEGIN:DAYLIGHT
TZOFFSETFROM:+0100
TZOFFSETTO:+0200
TZNAME:CEST
DTSTART:19700329T020000
RRULE:FREQ=YEARLY;INTERVAL=1;BYDAY=-1SU;BYMONTH=3
END:DAYLIGHT
BEGIN:STANDARD
TZOFFSETFROM:+0200
TZOFFSETTO:+0100
TZNAME:CET
DTSTART:19701025T030000
RRULE:FREQ=YEARLY;INTERVAL=1;BYDAY=-1SU;BYMONTH=10
END:STANDARD
END:VTIMEZONE
BEGIN:VEVENT
DTSTAMP:20260424T211432
DTSTART;TZID=Europe/Berlin:20260209T191500
DTEND;TZID=Europe/Berlin:20260209T200000
UID:2026F96120-20260209T191500@VHSLINGEN
SUMMARY:Aqua-Gymnastik Fitness (2026F96120) 
LOCATION:Schulzentrum Lengerich, Schwimmhalle, Schulstr. 14, 49838 Lengerich
END:VEVENT
BEGIN:VEVENT
DTSTAMP:20260424T211432
DTSTART;TZID=Europe/Berlin:20260216T191500
DTEND;TZID=Europe/Berlin:20260216T200000
UID:2026F96120-20260216T191500@VHSLINGEN
SUMMARY:Aqua-Gymnastik Fitness (2026F96120) 
LOCATION:Schulzentrum Lengerich, Schwimmhalle, Schulstr. 14, 49838 Lengerich
END:VEVENT
BEGIN:VEVENT
DTSTAMP:20260424T211432
DTSTART;TZID=Europe/Berlin:20260223T191500
DTEND;TZID=Europe/Berlin:20260223T200000
UID:2026F96120-20260223T191500@VHSLINGEN
SUMMARY:Aqua-Gymnastik Fitness (2026F96120) 
LOCATION:Schulzentrum Lengerich, Schwimmhalle, Schulstr. 14, 49838 Lengerich
END:VEVENT
BEGIN:VEVENT
DTSTAMP:20260424T211432
DTSTART;TZID=Europe/Berlin:20260302T191500
DTEND;TZID=Europe/Berlin:20260302T200000
UID:2026F96120-20260302T191500@VHSLINGEN
SUMMARY:Aqua-Gymnastik Fitness (2026F96120) 
LOCATION:Schulzentrum Lengerich, Schwimmhalle, Schulstr. 14, 49838 Lengerich
END:VEVENT
BEGIN:VEVENT
DTSTAMP:20260424T211432
DTSTART;TZID=Europe/Berlin:20260309T191500
DTEND;TZID=Europe/Berlin:20260309T200000
UID:2026F96120-20260309T191500@VHSLINGEN
SUMMARY:Aqua-Gymnastik Fitness (2026F96120) 
LOCATION:Schulzentrum Lengerich, Schwimmhalle, Schulstr. 14, 49838 Lengerich
END:VEVENT
BEGIN:VEVENT
DTSTAMP:20260424T211432
DTSTART;TZID=Europe/Berlin:20260316T191500
DTEND;TZID=Europe/Berlin:20260316T200000
UID:2026F96120-20260316T191500@VHSLINGEN
SUMMARY:Aqua-Gymnastik Fitness (2026F96120) 
LOCATION:Schulzentrum Lengerich, Schwimmhalle, Schulstr. 14, 49838 Lengerich
END:VEVENT
BEGIN:VEVENT
DTSTAMP:20260424T211432
DTSTART;TZID=Europe/Berlin:20260413T191500
DTEND;TZID=Europe/Berlin:20260413T200000
UID:2026F96120-20260413T191500@VHSLINGEN
SUMMARY:Aqua-Gymnastik Fitness (2026F96120) 
LOCATION:Schulzentrum Lengerich, Schwimmhalle, Schulstr. 14, 49838 Lengerich
END:VEVENT
BEGIN:VEVENT
DTSTAMP:20260424T211432
DTSTART;TZID=Europe/Berlin:20260420T191500
DTEND;TZID=Europe/Berlin:20260420T200000
UID:2026F96120-20260420T191500@VHSLINGEN
SUMMARY:Aqua-Gymnastik Fitness (2026F96120) 
LOCATION:Schulzentrum Lengerich, Schwimmhalle, Schulstr. 14, 49838 Lengerich
END:VEVENT
BEGIN:VEVENT
DTSTAMP:20260424T211432
DTSTART;TZID=Europe/Berlin:20260427T191500
DTEND;TZID=Europe/Berlin:20260427T200000
UID:2026F96120-20260427T191500@VHSLINGEN
SUMMARY:Aqua-Gymnastik Fitness (2026F96120) 
LOCATION:Schulzentrum Lengerich, Schwimmhalle, Schulstr. 14, 49838 Lengerich
END:VEVENT
BEGIN:VEVENT
DTSTAMP:20260424T211432
DTSTART;TZID=Europe/Berlin:20260504T191500
DTEND;TZID=Europe/Berlin:20260504T200000
UID:2026F96120-20260504T191500@VHSLINGEN
SUMMARY:Aqua-Gymnastik Fitness (2026F96120) 
LOCATION:Schulzentrum Lengerich, Schwimmhalle, Schulstr. 14, 49838 Lengerich
END:VEVENT
BEGIN:VEVENT
DTSTAMP:20260424T211432
DTSTART;TZID=Europe/Berlin:20260511T191500
DTEND;TZID=Europe/Berlin:20260511T200000
UID:2026F96120-20260511T191500@VHSLINGEN
SUMMARY:Aqua-Gymnastik Fitness (2026F96120) 
LOCATION:Schulzentrum Lengerich, Schwimmhalle, Schulstr. 14, 49838 Lengerich
END:VEVENT
BEGIN:VEVENT
DTSTAMP:20260424T211432
DTSTART;TZID=Europe/Berlin:20260601T191500
DTEND;TZID=Europe/Berlin:20260601T200000
UID:2026F96120-20260601T191500@VHSLINGEN
SUMMARY:Aqua-Gymnastik Fitness (2026F96120) 
LOCATION:Schulzentrum Lengerich, Schwimmhalle, Schulstr. 14, 49838 Lengerich
END:VEVENT
BEGIN:VEVENT
DTSTAMP:20260424T211432
DTSTART;TZID=Europe/Berlin:20260608T191500
DTEND;TZID=Europe/Berlin:20260608T200000
UID:2026F96120-20260608T191500@VHSLINGEN
SUMMARY:Aqua-Gymnastik Fitness (2026F96120) 
LOCATION:Schulzentrum Lengerich, Schwimmhalle, Schulstr. 14, 49838 Lengerich
END:VEVENT
BEGIN:VEVENT
DTSTAMP:20260424T211432
DTSTART;TZID=Europe/Berlin:20260615T191500
DTEND;TZID=Europe/Berlin:20260615T200000
UID:2026F96120-20260615T191500@VHSLINGEN
SUMMARY:Aqua-Gymnastik Fitness (2026F96120) 
LOCATION:Schulzentrum Lengerich, Schwimmhalle, Schulstr. 14, 49838 Lengerich
END:VEVENT
BEGIN:VEVENT
DTSTAMP:20260424T211432
DTSTART;TZID=Europe/Berlin:20260622T191500
DTEND;TZID=Europe/Berlin:20260622T200000
UID:2026F96120-20260622T191500@VHSLINGEN
SUMMARY:Aqua-Gymnastik Fitness (2026F96120) 
LOCATION:Schulzentrum Lengerich, Schwimmhalle, Schulstr. 14, 49838 Lengerich
END:VEVENT
END:VCALENDAR