BEGIN:VCALENDAR
VERSION:2.0
PRODID:https://www.kufer.de/kuferweb / DE
METHOD:PUBLISH
CALSCALE:GREGORIAN
X-WR-TIMEZONE:Europe/Berlin
BEGIN:VTIMEZONE
TZID:Europe/Berlin
X-LIC-LOCATION:Europe/Berlin
BEGIN:DAYLIGHT
TZOFFSETFROM:+0100
TZOFFSETTO:+0200
TZNAME:CEST
DTSTART:19700329T020000
RRULE:FREQ=YEARLY;INTERVAL=1;BYDAY=-1SU;BYMONTH=3
END:DAYLIGHT
BEGIN:STANDARD
TZOFFSETFROM:+0200
TZOFFSETTO:+0100
TZNAME:CET
DTSTART:19701025T030000
RRULE:FREQ=YEARLY;INTERVAL=1;BYDAY=-1SU;BYMONTH=10
END:STANDARD
END:VTIMEZONE
BEGIN:VEVENT
DTSTAMP:20260425T030430
DTSTART;TZID=Europe/Berlin:20260206T193000
DTEND;TZID=Europe/Berlin:20260206T201500
UID:2026F96110-20260206T193000@VHSLINGEN
SUMMARY:Aqua-Gymnastik Power (2026F96110) 
LOCATION:Hedon-Klinik, Schwimmhalle, Hedonallee 1, 49811 Lingen
END:VEVENT
BEGIN:VEVENT
DTSTAMP:20260425T030430
DTSTART;TZID=Europe/Berlin:20260213T193000
DTEND;TZID=Europe/Berlin:20260213T201500
UID:2026F96110-20260213T193000@VHSLINGEN
SUMMARY:Aqua-Gymnastik Power (2026F96110) 
LOCATION:Hedon-Klinik, Schwimmhalle, Hedonallee 1, 49811 Lingen
END:VEVENT
BEGIN:VEVENT
DTSTAMP:20260425T030430
DTSTART;TZID=Europe/Berlin:20260220T193000
DTEND;TZID=Europe/Berlin:20260220T201500
UID:2026F96110-20260220T193000@VHSLINGEN
SUMMARY:Aqua-Gymnastik Power (2026F96110) 
LOCATION:Hedon-Klinik, Schwimmhalle, Hedonallee 1, 49811 Lingen
END:VEVENT
BEGIN:VEVENT
DTSTAMP:20260425T030430
DTSTART;TZID=Europe/Berlin:20260227T193000
DTEND;TZID=Europe/Berlin:20260227T201500
UID:2026F96110-20260227T193000@VHSLINGEN
SUMMARY:Aqua-Gymnastik Power (2026F96110) 
LOCATION:Hedon-Klinik, Schwimmhalle, Hedonallee 1, 49811 Lingen
END:VEVENT
BEGIN:VEVENT
DTSTAMP:20260425T030430
DTSTART;TZID=Europe/Berlin:20260306T193000
DTEND;TZID=Europe/Berlin:20260306T201500
UID:2026F96110-20260306T193000@VHSLINGEN
SUMMARY:Aqua-Gymnastik Power (2026F96110) 
LOCATION:Hedon-Klinik, Schwimmhalle, Hedonallee 1, 49811 Lingen
END:VEVENT
BEGIN:VEVENT
DTSTAMP:20260425T030430
DTSTART;TZID=Europe/Berlin:20260313T193000
DTEND;TZID=Europe/Berlin:20260313T201500
UID:2026F96110-20260313T193000@VHSLINGEN
SUMMARY:Aqua-Gymnastik Power (2026F96110) 
LOCATION:Hedon-Klinik, Schwimmhalle, Hedonallee 1, 49811 Lingen
END:VEVENT
BEGIN:VEVENT
DTSTAMP:20260425T030430
DTSTART;TZID=Europe/Berlin:20260320T193000
DTEND;TZID=Europe/Berlin:20260320T201500
UID:2026F96110-20260320T193000@VHSLINGEN
SUMMARY:Aqua-Gymnastik Power (2026F96110) 
LOCATION:Hedon-Klinik, Schwimmhalle, Hedonallee 1, 49811 Lingen
END:VEVENT
BEGIN:VEVENT
DTSTAMP:20260425T030430
DTSTART;TZID=Europe/Berlin:20260410T193000
DTEND;TZID=Europe/Berlin:20260410T201500
UID:2026F96110-20260410T193000@VHSLINGEN
SUMMARY:Aqua-Gymnastik Power (2026F96110) 
LOCATION:Hedon-Klinik, Schwimmhalle, Hedonallee 1, 49811 Lingen
END:VEVENT
BEGIN:VEVENT
DTSTAMP:20260425T030430
DTSTART;TZID=Europe/Berlin:20260417T193000
DTEND;TZID=Europe/Berlin:20260417T201500
UID:2026F96110-20260417T193000@VHSLINGEN
SUMMARY:Aqua-Gymnastik Power (2026F96110) 
LOCATION:Hedon-Klinik, Schwimmhalle, Hedonallee 1, 49811 Lingen
END:VEVENT
BEGIN:VEVENT
DTSTAMP:20260425T030430
DTSTART;TZID=Europe/Berlin:20260424T193000
DTEND;TZID=Europe/Berlin:20260424T201500
UID:2026F96110-20260424T193000@VHSLINGEN
SUMMARY:Aqua-Gymnastik Power (2026F96110) 
LOCATION:Hedon-Klinik, Schwimmhalle, Hedonallee 1, 49811 Lingen
END:VEVENT
BEGIN:VEVENT
DTSTAMP:20260425T030430
DTSTART;TZID=Europe/Berlin:20260508T193000
DTEND;TZID=Europe/Berlin:20260508T201500
UID:2026F96110-20260508T193000@VHSLINGEN
SUMMARY:Aqua-Gymnastik Power (2026F96110) 
LOCATION:Hedon-Klinik, Schwimmhalle, Hedonallee 1, 49811 Lingen
END:VEVENT
BEGIN:VEVENT
DTSTAMP:20260425T030430
DTSTART;TZID=Europe/Berlin:20260605T193000
DTEND;TZID=Europe/Berlin:20260605T201500
UID:2026F96110-20260605T193000@VHSLINGEN
SUMMARY:Aqua-Gymnastik Power (2026F96110) 
LOCATION:Hedon-Klinik, Schwimmhalle, Hedonallee 1, 49811 Lingen
END:VEVENT
BEGIN:VEVENT
DTSTAMP:20260425T030430
DTSTART;TZID=Europe/Berlin:20260612T193000
DTEND;TZID=Europe/Berlin:20260612T201500
UID:2026F96110-20260612T193000@VHSLINGEN
SUMMARY:Aqua-Gymnastik Power (2026F96110) 
LOCATION:Hedon-Klinik, Schwimmhalle, Hedonallee 1, 49811 Lingen
END:VEVENT
BEGIN:VEVENT
DTSTAMP:20260425T030430
DTSTART;TZID=Europe/Berlin:20260619T193000
DTEND;TZID=Europe/Berlin:20260619T201500
UID:2026F96110-20260619T193000@VHSLINGEN
SUMMARY:Aqua-Gymnastik Power (2026F96110) 
LOCATION:Hedon-Klinik, Schwimmhalle, Hedonallee 1, 49811 Lingen
END:VEVENT
END:VCALENDAR