BEGIN:VCALENDAR
VERSION:2.0
PRODID:https://www.kufer.de/kuferweb / DE
METHOD:PUBLISH
CALSCALE:GREGORIAN
X-WR-TIMEZONE:Europe/Berlin
BEGIN:VTIMEZONE
TZID:Europe/Berlin
X-LIC-LOCATION:Europe/Berlin
BEGIN:DAYLIGHT
TZOFFSETFROM:+0100
TZOFFSETTO:+0200
TZNAME:CEST
DTSTART:19700329T020000
RRULE:FREQ=YEARLY;INTERVAL=1;BYDAY=-1SU;BYMONTH=3
END:DAYLIGHT
BEGIN:STANDARD
TZOFFSETFROM:+0200
TZOFFSETTO:+0100
TZNAME:CET
DTSTART:19701025T030000
RRULE:FREQ=YEARLY;INTERVAL=1;BYDAY=-1SU;BYMONTH=10
END:STANDARD
END:VTIMEZONE
BEGIN:VEVENT
DTSTAMP:20260425T030425
DTSTART;TZID=Europe/Berlin:20260205T193000
DTEND;TZID=Europe/Berlin:20260205T201500
UID:2026F96100-20260205T193000@VHSLINGEN
SUMMARY:Aqua-Gymnastik Fitness (2026F96100) 
LOCATION:Hedon-Klinik, Schwimmhalle, Hedonallee 1, 49811 Lingen
END:VEVENT
BEGIN:VEVENT
DTSTAMP:20260425T030425
DTSTART;TZID=Europe/Berlin:20260212T193000
DTEND;TZID=Europe/Berlin:20260212T201500
UID:2026F96100-20260212T193000@VHSLINGEN
SUMMARY:Aqua-Gymnastik Fitness (2026F96100) 
LOCATION:Hedon-Klinik, Schwimmhalle, Hedonallee 1, 49811 Lingen
END:VEVENT
BEGIN:VEVENT
DTSTAMP:20260425T030425
DTSTART;TZID=Europe/Berlin:20260219T193000
DTEND;TZID=Europe/Berlin:20260219T201500
UID:2026F96100-20260219T193000@VHSLINGEN
SUMMARY:Aqua-Gymnastik Fitness (2026F96100) 
LOCATION:Hedon-Klinik, Schwimmhalle, Hedonallee 1, 49811 Lingen
END:VEVENT
BEGIN:VEVENT
DTSTAMP:20260425T030425
DTSTART;TZID=Europe/Berlin:20260226T193000
DTEND;TZID=Europe/Berlin:20260226T201500
UID:2026F96100-20260226T193000@VHSLINGEN
SUMMARY:Aqua-Gymnastik Fitness (2026F96100) 
LOCATION:Hedon-Klinik, Schwimmhalle, Hedonallee 1, 49811 Lingen
END:VEVENT
BEGIN:VEVENT
DTSTAMP:20260425T030425
DTSTART;TZID=Europe/Berlin:20260305T193000
DTEND;TZID=Europe/Berlin:20260305T201500
UID:2026F96100-20260305T193000@VHSLINGEN
SUMMARY:Aqua-Gymnastik Fitness (2026F96100) 
LOCATION:Hedon-Klinik, Schwimmhalle, Hedonallee 1, 49811 Lingen
END:VEVENT
BEGIN:VEVENT
DTSTAMP:20260425T030425
DTSTART;TZID=Europe/Berlin:20260312T193000
DTEND;TZID=Europe/Berlin:20260312T201500
UID:2026F96100-20260312T193000@VHSLINGEN
SUMMARY:Aqua-Gymnastik Fitness (2026F96100) 
LOCATION:Hedon-Klinik, Schwimmhalle, Hedonallee 1, 49811 Lingen
END:VEVENT
BEGIN:VEVENT
DTSTAMP:20260425T030425
DTSTART;TZID=Europe/Berlin:20260319T193000
DTEND;TZID=Europe/Berlin:20260319T201500
UID:2026F96100-20260319T193000@VHSLINGEN
SUMMARY:Aqua-Gymnastik Fitness (2026F96100) 
LOCATION:Hedon-Klinik, Schwimmhalle, Hedonallee 1, 49811 Lingen
END:VEVENT
BEGIN:VEVENT
DTSTAMP:20260425T030425
DTSTART;TZID=Europe/Berlin:20260409T193000
DTEND;TZID=Europe/Berlin:20260409T201500
UID:2026F96100-20260409T193000@VHSLINGEN
SUMMARY:Aqua-Gymnastik Fitness (2026F96100) 
LOCATION:Hedon-Klinik, Schwimmhalle, Hedonallee 1, 49811 Lingen
END:VEVENT
BEGIN:VEVENT
DTSTAMP:20260425T030425
DTSTART;TZID=Europe/Berlin:20260416T193000
DTEND;TZID=Europe/Berlin:20260416T201500
UID:2026F96100-20260416T193000@VHSLINGEN
SUMMARY:Aqua-Gymnastik Fitness (2026F96100) 
LOCATION:Hedon-Klinik, Schwimmhalle, Hedonallee 1, 49811 Lingen
END:VEVENT
BEGIN:VEVENT
DTSTAMP:20260425T030425
DTSTART;TZID=Europe/Berlin:20260423T193000
DTEND;TZID=Europe/Berlin:20260423T201500
UID:2026F96100-20260423T193000@VHSLINGEN
SUMMARY:Aqua-Gymnastik Fitness (2026F96100) 
LOCATION:Hedon-Klinik, Schwimmhalle, Hedonallee 1, 49811 Lingen
END:VEVENT
BEGIN:VEVENT
DTSTAMP:20260425T030425
DTSTART;TZID=Europe/Berlin:20260507T193000
DTEND;TZID=Europe/Berlin:20260507T201500
UID:2026F96100-20260507T193000@VHSLINGEN
SUMMARY:Aqua-Gymnastik Fitness (2026F96100) 
LOCATION:Hedon-Klinik, Schwimmhalle, Hedonallee 1, 49811 Lingen
END:VEVENT
BEGIN:VEVENT
DTSTAMP:20260425T030425
DTSTART;TZID=Europe/Berlin:20260528T193000
DTEND;TZID=Europe/Berlin:20260528T201500
UID:2026F96100-20260528T193000@VHSLINGEN
SUMMARY:Aqua-Gymnastik Fitness (2026F96100) 
LOCATION:Hedon-Klinik, Schwimmhalle, Hedonallee 1, 49811 Lingen
END:VEVENT
BEGIN:VEVENT
DTSTAMP:20260425T030425
DTSTART;TZID=Europe/Berlin:20260604T193000
DTEND;TZID=Europe/Berlin:20260604T201500
UID:2026F96100-20260604T193000@VHSLINGEN
SUMMARY:Aqua-Gymnastik Fitness (2026F96100) 
LOCATION:Hedon-Klinik, Schwimmhalle, Hedonallee 1, 49811 Lingen
END:VEVENT
BEGIN:VEVENT
DTSTAMP:20260425T030425
DTSTART;TZID=Europe/Berlin:20260611T193000
DTEND;TZID=Europe/Berlin:20260611T201500
UID:2026F96100-20260611T193000@VHSLINGEN
SUMMARY:Aqua-Gymnastik Fitness (2026F96100) 
LOCATION:Hedon-Klinik, Schwimmhalle, Hedonallee 1, 49811 Lingen
END:VEVENT
BEGIN:VEVENT
DTSTAMP:20260425T030425
DTSTART;TZID=Europe/Berlin:20260618T193000
DTEND;TZID=Europe/Berlin:20260618T201500
UID:2026F96100-20260618T193000@VHSLINGEN
SUMMARY:Aqua-Gymnastik Fitness (2026F96100) 
LOCATION:Hedon-Klinik, Schwimmhalle, Hedonallee 1, 49811 Lingen
END:VEVENT
BEGIN:VEVENT
DTSTAMP:20260425T030425
DTSTART;TZID=Europe/Berlin:20260625T193000
DTEND;TZID=Europe/Berlin:20260625T201500
UID:2026F96100-20260625T193000@VHSLINGEN
SUMMARY:Aqua-Gymnastik Fitness (2026F96100) 
LOCATION:Hedon-Klinik, Schwimmhalle, Hedonallee 1, 49811 Lingen
END:VEVENT
END:VCALENDAR