BEGIN:VCALENDAR
VERSION:2.0
PRODID:https://www.kufer.de/kuferweb / DE
METHOD:PUBLISH
CALSCALE:GREGORIAN
X-WR-TIMEZONE:Europe/Berlin
BEGIN:VTIMEZONE
TZID:Europe/Berlin
X-LIC-LOCATION:Europe/Berlin
BEGIN:DAYLIGHT
TZOFFSETFROM:+0100
TZOFFSETTO:+0200
TZNAME:CEST
DTSTART:19700329T020000
RRULE:FREQ=YEARLY;INTERVAL=1;BYDAY=-1SU;BYMONTH=3
END:DAYLIGHT
BEGIN:STANDARD
TZOFFSETFROM:+0200
TZOFFSETTO:+0100
TZNAME:CET
DTSTART:19701025T030000
RRULE:FREQ=YEARLY;INTERVAL=1;BYDAY=-1SU;BYMONTH=10
END:STANDARD
END:VTIMEZONE
BEGIN:VEVENT
DTSTAMP:20260425T041935
DTSTART;TZID=Europe/Berlin:20260202T193000
DTEND;TZID=Europe/Berlin:20260202T201500
UID:2026F96080-20260202T193000@VHSLINGEN
SUMMARY:Aqua-Gymnastik Fitness (2026F96080) 
LOCATION:Hedon-Klinik, Schwimmhalle, Hedonallee 1, 49811 Lingen
END:VEVENT
BEGIN:VEVENT
DTSTAMP:20260425T041935
DTSTART;TZID=Europe/Berlin:20260209T193000
DTEND;TZID=Europe/Berlin:20260209T201500
UID:2026F96080-20260209T193000@VHSLINGEN
SUMMARY:Aqua-Gymnastik Fitness (2026F96080) 
LOCATION:Hedon-Klinik, Schwimmhalle, Hedonallee 1, 49811 Lingen
END:VEVENT
BEGIN:VEVENT
DTSTAMP:20260425T041935
DTSTART;TZID=Europe/Berlin:20260216T193000
DTEND;TZID=Europe/Berlin:20260216T201500
UID:2026F96080-20260216T193000@VHSLINGEN
SUMMARY:Aqua-Gymnastik Fitness (2026F96080) 
LOCATION:Hedon-Klinik, Schwimmhalle, Hedonallee 1, 49811 Lingen
END:VEVENT
BEGIN:VEVENT
DTSTAMP:20260425T041935
DTSTART;TZID=Europe/Berlin:20260223T193000
DTEND;TZID=Europe/Berlin:20260223T201500
UID:2026F96080-20260223T193000@VHSLINGEN
SUMMARY:Aqua-Gymnastik Fitness (2026F96080) 
LOCATION:Hedon-Klinik, Schwimmhalle, Hedonallee 1, 49811 Lingen
END:VEVENT
BEGIN:VEVENT
DTSTAMP:20260425T041935
DTSTART;TZID=Europe/Berlin:20260302T193000
DTEND;TZID=Europe/Berlin:20260302T201500
UID:2026F96080-20260302T193000@VHSLINGEN
SUMMARY:Aqua-Gymnastik Fitness (2026F96080) 
LOCATION:Hedon-Klinik, Schwimmhalle, Hedonallee 1, 49811 Lingen
END:VEVENT
BEGIN:VEVENT
DTSTAMP:20260425T041935
DTSTART;TZID=Europe/Berlin:20260309T193000
DTEND;TZID=Europe/Berlin:20260309T201500
UID:2026F96080-20260309T193000@VHSLINGEN
SUMMARY:Aqua-Gymnastik Fitness (2026F96080) 
LOCATION:Hedon-Klinik, Schwimmhalle, Hedonallee 1, 49811 Lingen
END:VEVENT
BEGIN:VEVENT
DTSTAMP:20260425T041935
DTSTART;TZID=Europe/Berlin:20260316T193000
DTEND;TZID=Europe/Berlin:20260316T201500
UID:2026F96080-20260316T193000@VHSLINGEN
SUMMARY:Aqua-Gymnastik Fitness (2026F96080) 
LOCATION:Hedon-Klinik, Schwimmhalle, Hedonallee 1, 49811 Lingen
END:VEVENT
BEGIN:VEVENT
DTSTAMP:20260425T041935
DTSTART;TZID=Europe/Berlin:20260413T193000
DTEND;TZID=Europe/Berlin:20260413T201500
UID:2026F96080-20260413T193000@VHSLINGEN
SUMMARY:Aqua-Gymnastik Fitness (2026F96080) 
LOCATION:Hedon-Klinik, Schwimmhalle, Hedonallee 1, 49811 Lingen
END:VEVENT
BEGIN:VEVENT
DTSTAMP:20260425T041935
DTSTART;TZID=Europe/Berlin:20260420T193000
DTEND;TZID=Europe/Berlin:20260420T201500
UID:2026F96080-20260420T193000@VHSLINGEN
SUMMARY:Aqua-Gymnastik Fitness (2026F96080) 
LOCATION:Hedon-Klinik, Schwimmhalle, Hedonallee 1, 49811 Lingen
END:VEVENT
BEGIN:VEVENT
DTSTAMP:20260425T041935
DTSTART;TZID=Europe/Berlin:20260427T193000
DTEND;TZID=Europe/Berlin:20260427T201500
UID:2026F96080-20260427T193000@VHSLINGEN
SUMMARY:Aqua-Gymnastik Fitness (2026F96080) 
LOCATION:Hedon-Klinik, Schwimmhalle, Hedonallee 1, 49811 Lingen
END:VEVENT
BEGIN:VEVENT
DTSTAMP:20260425T041935
DTSTART;TZID=Europe/Berlin:20260504T193000
DTEND;TZID=Europe/Berlin:20260504T201500
UID:2026F96080-20260504T193000@VHSLINGEN
SUMMARY:Aqua-Gymnastik Fitness (2026F96080) 
LOCATION:Hedon-Klinik, Schwimmhalle, Hedonallee 1, 49811 Lingen
END:VEVENT
BEGIN:VEVENT
DTSTAMP:20260425T041935
DTSTART;TZID=Europe/Berlin:20260601T193000
DTEND;TZID=Europe/Berlin:20260601T201500
UID:2026F96080-20260601T193000@VHSLINGEN
SUMMARY:Aqua-Gymnastik Fitness (2026F96080) 
LOCATION:Hedon-Klinik, Schwimmhalle, Hedonallee 1, 49811 Lingen
END:VEVENT
BEGIN:VEVENT
DTSTAMP:20260425T041935
DTSTART;TZID=Europe/Berlin:20260608T193000
DTEND;TZID=Europe/Berlin:20260608T201500
UID:2026F96080-20260608T193000@VHSLINGEN
SUMMARY:Aqua-Gymnastik Fitness (2026F96080) 
LOCATION:Hedon-Klinik, Schwimmhalle, Hedonallee 1, 49811 Lingen
END:VEVENT
BEGIN:VEVENT
DTSTAMP:20260425T041935
DTSTART;TZID=Europe/Berlin:20260615T193000
DTEND;TZID=Europe/Berlin:20260615T201500
UID:2026F96080-20260615T193000@VHSLINGEN
SUMMARY:Aqua-Gymnastik Fitness (2026F96080) 
LOCATION:Hedon-Klinik, Schwimmhalle, Hedonallee 1, 49811 Lingen
END:VEVENT
BEGIN:VEVENT
DTSTAMP:20260425T041935
DTSTART;TZID=Europe/Berlin:20260622T193000
DTEND;TZID=Europe/Berlin:20260622T201500
UID:2026F96080-20260622T193000@VHSLINGEN
SUMMARY:Aqua-Gymnastik Fitness (2026F96080) 
LOCATION:Hedon-Klinik, Schwimmhalle, Hedonallee 1, 49811 Lingen
END:VEVENT
END:VCALENDAR