BEGIN:VCALENDAR
VERSION:2.0
PRODID:https://www.kufer.de/kuferweb / DE
METHOD:PUBLISH
CALSCALE:GREGORIAN
X-WR-TIMEZONE:Europe/Berlin
BEGIN:VTIMEZONE
TZID:Europe/Berlin
X-LIC-LOCATION:Europe/Berlin
BEGIN:DAYLIGHT
TZOFFSETFROM:+0100
TZOFFSETTO:+0200
TZNAME:CEST
DTSTART:19700329T020000
RRULE:FREQ=YEARLY;INTERVAL=1;BYDAY=-1SU;BYMONTH=3
END:DAYLIGHT
BEGIN:STANDARD
TZOFFSETFROM:+0200
TZOFFSETTO:+0100
TZNAME:CET
DTSTART:19701025T030000
RRULE:FREQ=YEARLY;INTERVAL=1;BYDAY=-1SU;BYMONTH=10
END:STANDARD
END:VTIMEZONE
BEGIN:VEVENT
DTSTAMP:20260424T213020
DTSTART;TZID=Europe/Berlin:20260115T181500
DTEND;TZID=Europe/Berlin:20260115T191500
UID:2026F95650-20260115T181500@VHSLINGEN
SUMMARY:Yoga mit dem Stuhl (2026F95650) 
LOCATION:Bildungszentrum Gebrüder-Grimm, OG14, Elsterstr. 1, 49808 Lingen
END:VEVENT
BEGIN:VEVENT
DTSTAMP:20260424T213020
DTSTART;TZID=Europe/Berlin:20260122T181500
DTEND;TZID=Europe/Berlin:20260122T191500
UID:2026F95650-20260122T181500@VHSLINGEN
SUMMARY:Yoga mit dem Stuhl (2026F95650) 
LOCATION:Bildungszentrum Gebrüder-Grimm, OG14, Elsterstr. 1, 49808 Lingen
END:VEVENT
BEGIN:VEVENT
DTSTAMP:20260424T213020
DTSTART;TZID=Europe/Berlin:20260205T181500
DTEND;TZID=Europe/Berlin:20260205T191500
UID:2026F95650-20260205T181500@VHSLINGEN
SUMMARY:Yoga mit dem Stuhl (2026F95650) 
LOCATION:Bildungszentrum Gebrüder-Grimm, OG14, Elsterstr. 1, 49808 Lingen
END:VEVENT
BEGIN:VEVENT
DTSTAMP:20260424T213020
DTSTART;TZID=Europe/Berlin:20260212T181500
DTEND;TZID=Europe/Berlin:20260212T191500
UID:2026F95650-20260212T181500@VHSLINGEN
SUMMARY:Yoga mit dem Stuhl (2026F95650) 
LOCATION:Bildungszentrum Gebrüder-Grimm, OG14, Elsterstr. 1, 49808 Lingen
END:VEVENT
BEGIN:VEVENT
DTSTAMP:20260424T213020
DTSTART;TZID=Europe/Berlin:20260219T181500
DTEND;TZID=Europe/Berlin:20260219T191500
UID:2026F95650-20260219T181500@VHSLINGEN
SUMMARY:Yoga mit dem Stuhl (2026F95650) 
LOCATION:Bildungszentrum Gebrüder-Grimm, OG14, Elsterstr. 1, 49808 Lingen
END:VEVENT
BEGIN:VEVENT
DTSTAMP:20260424T213020
DTSTART;TZID=Europe/Berlin:20260312T181500
DTEND;TZID=Europe/Berlin:20260312T191500
UID:2026F95650-20260312T181500@VHSLINGEN
SUMMARY:Yoga mit dem Stuhl (2026F95650) 
LOCATION:Bildungszentrum Gebrüder-Grimm, OG14, Elsterstr. 1, 49808 Lingen
END:VEVENT
BEGIN:VEVENT
DTSTAMP:20260424T213020
DTSTART;TZID=Europe/Berlin:20260319T181500
DTEND;TZID=Europe/Berlin:20260319T191500
UID:2026F95650-20260319T181500@VHSLINGEN
SUMMARY:Yoga mit dem Stuhl (2026F95650) 
LOCATION:Bildungszentrum Gebrüder-Grimm, OG14, Elsterstr. 1, 49808 Lingen
END:VEVENT
BEGIN:VEVENT
DTSTAMP:20260424T213020
DTSTART;TZID=Europe/Berlin:20260326T181500
DTEND;TZID=Europe/Berlin:20260326T191500
UID:2026F95650-20260326T181500@VHSLINGEN
SUMMARY:Yoga mit dem Stuhl (2026F95650) 
LOCATION:Bildungszentrum Gebrüder-Grimm, OG14, Elsterstr. 1, 49808 Lingen
END:VEVENT
BEGIN:VEVENT
DTSTAMP:20260424T213020
DTSTART;TZID=Europe/Berlin:20260409T181500
DTEND;TZID=Europe/Berlin:20260409T191500
UID:2026F95650-20260409T181500@VHSLINGEN
SUMMARY:Yoga mit dem Stuhl (2026F95650) 
LOCATION:Bildungszentrum Gebrüder-Grimm, OG14, Elsterstr. 1, 49808 Lingen
END:VEVENT
BEGIN:VEVENT
DTSTAMP:20260424T213020
DTSTART;TZID=Europe/Berlin:20260416T181500
DTEND;TZID=Europe/Berlin:20260416T191500
UID:2026F95650-20260416T181500@VHSLINGEN
SUMMARY:Yoga mit dem Stuhl (2026F95650) 
LOCATION:Bildungszentrum Gebrüder-Grimm, OG14, Elsterstr. 1, 49808 Lingen
END:VEVENT
BEGIN:VEVENT
DTSTAMP:20260424T213020
DTSTART;TZID=Europe/Berlin:20260423T181500
DTEND;TZID=Europe/Berlin:20260423T191500
UID:2026F95650-20260423T181500@VHSLINGEN
SUMMARY:Yoga mit dem Stuhl (2026F95650) 
LOCATION:Bildungszentrum Gebrüder-Grimm, OG14, Elsterstr. 1, 49808 Lingen
END:VEVENT
BEGIN:VEVENT
DTSTAMP:20260424T213020
DTSTART;TZID=Europe/Berlin:20260430T181500
DTEND;TZID=Europe/Berlin:20260430T191500
UID:2026F95650-20260430T181500@VHSLINGEN
SUMMARY:Yoga mit dem Stuhl (2026F95650) 
LOCATION:Bildungszentrum Gebrüder-Grimm, OG14, Elsterstr. 1, 49808 Lingen
END:VEVENT
BEGIN:VEVENT
DTSTAMP:20260424T213020
DTSTART;TZID=Europe/Berlin:20260507T181500
DTEND;TZID=Europe/Berlin:20260507T191500
UID:2026F95650-20260507T181500@VHSLINGEN
SUMMARY:Yoga mit dem Stuhl (2026F95650) 
LOCATION:Bildungszentrum Gebrüder-Grimm, OG14, Elsterstr. 1, 49808 Lingen
END:VEVENT
BEGIN:VEVENT
DTSTAMP:20260424T213020
DTSTART;TZID=Europe/Berlin:20260521T181500
DTEND;TZID=Europe/Berlin:20260521T191500
UID:2026F95650-20260521T181500@VHSLINGEN
SUMMARY:Yoga mit dem Stuhl (2026F95650) 
LOCATION:Bildungszentrum Gebrüder-Grimm, OG14, Elsterstr. 1, 49808 Lingen
END:VEVENT
BEGIN:VEVENT
DTSTAMP:20260424T213020
DTSTART;TZID=Europe/Berlin:20260528T181500
DTEND;TZID=Europe/Berlin:20260528T191500
UID:2026F95650-20260528T181500@VHSLINGEN
SUMMARY:Yoga mit dem Stuhl (2026F95650) 
LOCATION:Bildungszentrum Gebrüder-Grimm, OG14, Elsterstr. 1, 49808 Lingen
END:VEVENT
BEGIN:VEVENT
DTSTAMP:20260424T213020
DTSTART;TZID=Europe/Berlin:20260604T181500
DTEND;TZID=Europe/Berlin:20260604T191500
UID:2026F95650-20260604T181500@VHSLINGEN
SUMMARY:Yoga mit dem Stuhl (2026F95650) 
LOCATION:Bildungszentrum Gebrüder-Grimm, OG14, Elsterstr. 1, 49808 Lingen
END:VEVENT
BEGIN:VEVENT
DTSTAMP:20260424T213020
DTSTART;TZID=Europe/Berlin:20260611T181500
DTEND;TZID=Europe/Berlin:20260611T191500
UID:2026F95650-20260611T181500@VHSLINGEN
SUMMARY:Yoga mit dem Stuhl (2026F95650) 
LOCATION:Bildungszentrum Gebrüder-Grimm, OG06, Elsterstr. 1, 49808 Lingen
END:VEVENT
BEGIN:VEVENT
DTSTAMP:20260424T213020
DTSTART;TZID=Europe/Berlin:20260618T181500
DTEND;TZID=Europe/Berlin:20260618T191500
UID:2026F95650-20260618T181500@VHSLINGEN
SUMMARY:Yoga mit dem Stuhl (2026F95650) 
LOCATION:Bildungszentrum Gebrüder-Grimm, OG14, Elsterstr. 1, 49808 Lingen
END:VEVENT
END:VCALENDAR