BEGIN:VCALENDAR
VERSION:2.0
PRODID:https://www.kufer.de/kuferweb / DE
METHOD:PUBLISH
CALSCALE:GREGORIAN
X-WR-TIMEZONE:Europe/Berlin
BEGIN:VTIMEZONE
TZID:Europe/Berlin
X-LIC-LOCATION:Europe/Berlin
BEGIN:DAYLIGHT
TZOFFSETFROM:+0100
TZOFFSETTO:+0200
TZNAME:CEST
DTSTART:19700329T020000
RRULE:FREQ=YEARLY;INTERVAL=1;BYDAY=-1SU;BYMONTH=3
END:DAYLIGHT
BEGIN:STANDARD
TZOFFSETFROM:+0200
TZOFFSETTO:+0100
TZNAME:CET
DTSTART:19701025T030000
RRULE:FREQ=YEARLY;INTERVAL=1;BYDAY=-1SU;BYMONTH=10
END:STANDARD
END:VTIMEZONE
BEGIN:VEVENT
DTSTAMP:20260426T014308
DTSTART;TZID=Europe/Berlin:20260209T191000
DTEND;TZID=Europe/Berlin:20260209T204000
UID:2026F95540-20260209T191000@VHSLINGEN
SUMMARY:Sanftes Yoga mit Yoga Nidra (2026F95540) 
LOCATION:Wöhlehof Spelle, Heuboden 2, Pastor-Batsche-Weg 1, 48480 Spelle
END:VEVENT
BEGIN:VEVENT
DTSTAMP:20260426T014308
DTSTART;TZID=Europe/Berlin:20260216T191000
DTEND;TZID=Europe/Berlin:20260216T204000
UID:2026F95540-20260216T191000@VHSLINGEN
SUMMARY:Sanftes Yoga mit Yoga Nidra (2026F95540) 
LOCATION:Wöhlehof Spelle, Heuboden 2, Pastor-Batsche-Weg 1, 48480 Spelle
END:VEVENT
BEGIN:VEVENT
DTSTAMP:20260426T014308
DTSTART;TZID=Europe/Berlin:20260302T191000
DTEND;TZID=Europe/Berlin:20260302T204000
UID:2026F95540-20260302T191000@VHSLINGEN
SUMMARY:Sanftes Yoga mit Yoga Nidra (2026F95540) 
LOCATION:Wöhlehof Spelle, Heuboden 2, Pastor-Batsche-Weg 1, 48480 Spelle
END:VEVENT
BEGIN:VEVENT
DTSTAMP:20260426T014308
DTSTART;TZID=Europe/Berlin:20260316T191000
DTEND;TZID=Europe/Berlin:20260316T204000
UID:2026F95540-20260316T191000@VHSLINGEN
SUMMARY:Sanftes Yoga mit Yoga Nidra (2026F95540) 
LOCATION:Wöhlehof Spelle, Heuboden 2, Pastor-Batsche-Weg 1, 48480 Spelle
END:VEVENT
BEGIN:VEVENT
DTSTAMP:20260426T014308
DTSTART;TZID=Europe/Berlin:20260413T191000
DTEND;TZID=Europe/Berlin:20260413T204000
UID:2026F95540-20260413T191000@VHSLINGEN
SUMMARY:Sanftes Yoga mit Yoga Nidra (2026F95540) 
LOCATION:Wöhlehof Spelle, Heuboden 2, Pastor-Batsche-Weg 1, 48480 Spelle
END:VEVENT
BEGIN:VEVENT
DTSTAMP:20260426T014308
DTSTART;TZID=Europe/Berlin:20260420T191000
DTEND;TZID=Europe/Berlin:20260420T204000
UID:2026F95540-20260420T191000@VHSLINGEN
SUMMARY:Sanftes Yoga mit Yoga Nidra (2026F95540) 
LOCATION:Wöhlehof Spelle, Heuboden 2, Pastor-Batsche-Weg 1, 48480 Spelle
END:VEVENT
BEGIN:VEVENT
DTSTAMP:20260426T014308
DTSTART;TZID=Europe/Berlin:20260427T191000
DTEND;TZID=Europe/Berlin:20260427T204000
UID:2026F95540-20260427T191000@VHSLINGEN
SUMMARY:Sanftes Yoga mit Yoga Nidra (2026F95540) 
LOCATION:Wöhlehof Spelle, Heuboden 2, Pastor-Batsche-Weg 1, 48480 Spelle
END:VEVENT
BEGIN:VEVENT
DTSTAMP:20260426T014308
DTSTART;TZID=Europe/Berlin:20260504T191000
DTEND;TZID=Europe/Berlin:20260504T204000
UID:2026F95540-20260504T191000@VHSLINGEN
SUMMARY:Sanftes Yoga mit Yoga Nidra (2026F95540) 
LOCATION:Wöhlehof Spelle, Heuboden 2, Pastor-Batsche-Weg 1, 48480 Spelle
END:VEVENT
BEGIN:VEVENT
DTSTAMP:20260426T014308
DTSTART;TZID=Europe/Berlin:20260511T191000
DTEND;TZID=Europe/Berlin:20260511T204000
UID:2026F95540-20260511T191000@VHSLINGEN
SUMMARY:Sanftes Yoga mit Yoga Nidra (2026F95540) 
LOCATION:Wöhlehof Spelle, Heuboden 2, Pastor-Batsche-Weg 1, 48480 Spelle
END:VEVENT
BEGIN:VEVENT
DTSTAMP:20260426T014308
DTSTART;TZID=Europe/Berlin:20260518T191000
DTEND;TZID=Europe/Berlin:20260518T204000
UID:2026F95540-20260518T191000@VHSLINGEN
SUMMARY:Sanftes Yoga mit Yoga Nidra (2026F95540) 
LOCATION:Wöhlehof Spelle, Heuboden 2, Pastor-Batsche-Weg 1, 48480 Spelle
END:VEVENT
BEGIN:VEVENT
DTSTAMP:20260426T014308
DTSTART;TZID=Europe/Berlin:20260608T191000
DTEND;TZID=Europe/Berlin:20260608T204000
UID:2026F95540-20260608T191000@VHSLINGEN
SUMMARY:Sanftes Yoga mit Yoga Nidra (2026F95540) 
LOCATION:Wöhlehof Spelle, Heuboden 2, Pastor-Batsche-Weg 1, 48480 Spelle
END:VEVENT
BEGIN:VEVENT
DTSTAMP:20260426T014308
DTSTART;TZID=Europe/Berlin:20260615T191000
DTEND;TZID=Europe/Berlin:20260615T204000
UID:2026F95540-20260615T191000@VHSLINGEN
SUMMARY:Sanftes Yoga mit Yoga Nidra (2026F95540) 
LOCATION:Wöhlehof Spelle, Heuboden 2, Pastor-Batsche-Weg 1, 48480 Spelle
END:VEVENT
BEGIN:VEVENT
DTSTAMP:20260426T014308
DTSTART;TZID=Europe/Berlin:20260622T191000
DTEND;TZID=Europe/Berlin:20260622T204000
UID:2026F95540-20260622T191000@VHSLINGEN
SUMMARY:Sanftes Yoga mit Yoga Nidra (2026F95540) 
LOCATION:Wöhlehof Spelle, Heuboden 2, Pastor-Batsche-Weg 1, 48480 Spelle
END:VEVENT
END:VCALENDAR