BEGIN:VCALENDAR
VERSION:2.0
PRODID:https://www.kufer.de/kuferweb / DE
METHOD:PUBLISH
CALSCALE:GREGORIAN
X-WR-TIMEZONE:Europe/Berlin
BEGIN:VTIMEZONE
TZID:Europe/Berlin
X-LIC-LOCATION:Europe/Berlin
BEGIN:DAYLIGHT
TZOFFSETFROM:+0100
TZOFFSETTO:+0200
TZNAME:CEST
DTSTART:19700329T020000
RRULE:FREQ=YEARLY;INTERVAL=1;BYDAY=-1SU;BYMONTH=3
END:DAYLIGHT
BEGIN:STANDARD
TZOFFSETFROM:+0200
TZOFFSETTO:+0100
TZNAME:CET
DTSTART:19701025T030000
RRULE:FREQ=YEARLY;INTERVAL=1;BYDAY=-1SU;BYMONTH=10
END:STANDARD
END:VTIMEZONE
BEGIN:VEVENT
DTSTAMP:20260425T192818
DTSTART;TZID=Europe/Berlin:20260209T173000
DTEND;TZID=Europe/Berlin:20260209T190000
UID:2026F95530-20260209T173000@VHSLINGEN
SUMMARY:Sanftes Yoga mit Yoga Nidra (2026F95530) 
LOCATION:Wöhlehof Spelle, Heuboden 2, Pastor-Batsche-Weg 1, 48480 Spelle
END:VEVENT
BEGIN:VEVENT
DTSTAMP:20260425T192818
DTSTART;TZID=Europe/Berlin:20260216T173000
DTEND;TZID=Europe/Berlin:20260216T190000
UID:2026F95530-20260216T173000@VHSLINGEN
SUMMARY:Sanftes Yoga mit Yoga Nidra (2026F95530) 
LOCATION:Wöhlehof Spelle, Heuboden 2, Pastor-Batsche-Weg 1, 48480 Spelle
END:VEVENT
BEGIN:VEVENT
DTSTAMP:20260425T192818
DTSTART;TZID=Europe/Berlin:20260302T173000
DTEND;TZID=Europe/Berlin:20260302T190000
UID:2026F95530-20260302T173000@VHSLINGEN
SUMMARY:Sanftes Yoga mit Yoga Nidra (2026F95530) 
LOCATION:Wöhlehof Spelle, Heuboden 2, Pastor-Batsche-Weg 1, 48480 Spelle
END:VEVENT
BEGIN:VEVENT
DTSTAMP:20260425T192818
DTSTART;TZID=Europe/Berlin:20260316T173000
DTEND;TZID=Europe/Berlin:20260316T190000
UID:2026F95530-20260316T173000@VHSLINGEN
SUMMARY:Sanftes Yoga mit Yoga Nidra (2026F95530) 
LOCATION:Wöhlehof Spelle, Heuboden 2, Pastor-Batsche-Weg 1, 48480 Spelle
END:VEVENT
BEGIN:VEVENT
DTSTAMP:20260425T192818
DTSTART;TZID=Europe/Berlin:20260413T173000
DTEND;TZID=Europe/Berlin:20260413T190000
UID:2026F95530-20260413T173000@VHSLINGEN
SUMMARY:Sanftes Yoga mit Yoga Nidra (2026F95530) 
LOCATION:Wöhlehof Spelle, Heuboden 2, Pastor-Batsche-Weg 1, 48480 Spelle
END:VEVENT
BEGIN:VEVENT
DTSTAMP:20260425T192818
DTSTART;TZID=Europe/Berlin:20260420T173000
DTEND;TZID=Europe/Berlin:20260420T190000
UID:2026F95530-20260420T173000@VHSLINGEN
SUMMARY:Sanftes Yoga mit Yoga Nidra (2026F95530) 
LOCATION:Wöhlehof Spelle, Heuboden 2, Pastor-Batsche-Weg 1, 48480 Spelle
END:VEVENT
BEGIN:VEVENT
DTSTAMP:20260425T192818
DTSTART;TZID=Europe/Berlin:20260427T173000
DTEND;TZID=Europe/Berlin:20260427T190000
UID:2026F95530-20260427T173000@VHSLINGEN
SUMMARY:Sanftes Yoga mit Yoga Nidra (2026F95530) 
LOCATION:Wöhlehof Spelle, Heuboden 2, Pastor-Batsche-Weg 1, 48480 Spelle
END:VEVENT
BEGIN:VEVENT
DTSTAMP:20260425T192818
DTSTART;TZID=Europe/Berlin:20260504T173000
DTEND;TZID=Europe/Berlin:20260504T190000
UID:2026F95530-20260504T173000@VHSLINGEN
SUMMARY:Sanftes Yoga mit Yoga Nidra (2026F95530) 
LOCATION:Wöhlehof Spelle, Heuboden 2, Pastor-Batsche-Weg 1, 48480 Spelle
END:VEVENT
BEGIN:VEVENT
DTSTAMP:20260425T192818
DTSTART;TZID=Europe/Berlin:20260511T173000
DTEND;TZID=Europe/Berlin:20260511T190000
UID:2026F95530-20260511T173000@VHSLINGEN
SUMMARY:Sanftes Yoga mit Yoga Nidra (2026F95530) 
LOCATION:Wöhlehof Spelle, Heuboden 2, Pastor-Batsche-Weg 1, 48480 Spelle
END:VEVENT
BEGIN:VEVENT
DTSTAMP:20260425T192818
DTSTART;TZID=Europe/Berlin:20260518T173000
DTEND;TZID=Europe/Berlin:20260518T190000
UID:2026F95530-20260518T173000@VHSLINGEN
SUMMARY:Sanftes Yoga mit Yoga Nidra (2026F95530) 
LOCATION:Wöhlehof Spelle, Heuboden 2, Pastor-Batsche-Weg 1, 48480 Spelle
END:VEVENT
BEGIN:VEVENT
DTSTAMP:20260425T192818
DTSTART;TZID=Europe/Berlin:20260608T173000
DTEND;TZID=Europe/Berlin:20260608T190000
UID:2026F95530-20260608T173000@VHSLINGEN
SUMMARY:Sanftes Yoga mit Yoga Nidra (2026F95530) 
LOCATION:Wöhlehof Spelle, Heuboden 2, Pastor-Batsche-Weg 1, 48480 Spelle
END:VEVENT
BEGIN:VEVENT
DTSTAMP:20260425T192818
DTSTART;TZID=Europe/Berlin:20260615T173000
DTEND;TZID=Europe/Berlin:20260615T190000
UID:2026F95530-20260615T173000@VHSLINGEN
SUMMARY:Sanftes Yoga mit Yoga Nidra (2026F95530) 
LOCATION:Wöhlehof Spelle, Heuboden 2, Pastor-Batsche-Weg 1, 48480 Spelle
END:VEVENT
BEGIN:VEVENT
DTSTAMP:20260425T192818
DTSTART;TZID=Europe/Berlin:20260622T173000
DTEND;TZID=Europe/Berlin:20260622T190000
UID:2026F95530-20260622T173000@VHSLINGEN
SUMMARY:Sanftes Yoga mit Yoga Nidra (2026F95530) 
LOCATION:Wöhlehof Spelle, Heuboden 2, Pastor-Batsche-Weg 1, 48480 Spelle
END:VEVENT
END:VCALENDAR