BEGIN:VCALENDAR
VERSION:2.0
PRODID:https://www.kufer.de/kuferweb / DE
METHOD:PUBLISH
CALSCALE:GREGORIAN
X-WR-TIMEZONE:Europe/Berlin
BEGIN:VTIMEZONE
TZID:Europe/Berlin
X-LIC-LOCATION:Europe/Berlin
BEGIN:DAYLIGHT
TZOFFSETFROM:+0100
TZOFFSETTO:+0200
TZNAME:CEST
DTSTART:19700329T020000
RRULE:FREQ=YEARLY;INTERVAL=1;BYDAY=-1SU;BYMONTH=3
END:DAYLIGHT
BEGIN:STANDARD
TZOFFSETFROM:+0200
TZOFFSETTO:+0100
TZNAME:CET
DTSTART:19701025T030000
RRULE:FREQ=YEARLY;INTERVAL=1;BYDAY=-1SU;BYMONTH=10
END:STANDARD
END:VTIMEZONE
BEGIN:VEVENT
DTSTAMP:20260425T210314
DTSTART;TZID=Europe/Berlin:20260210T100000
DTEND;TZID=Europe/Berlin:20260210T111500
UID:2026F95330-20260210T100000@VHSLINGEN
SUMMARY:Qigong (2026F95330) 
LOCATION:Bildungszentrum Gebrüder-Grimm, OG14, Elsterstr. 1, 49808 Lingen
END:VEVENT
BEGIN:VEVENT
DTSTAMP:20260425T210314
DTSTART;TZID=Europe/Berlin:20260217T100000
DTEND;TZID=Europe/Berlin:20260217T111500
UID:2026F95330-20260217T100000@VHSLINGEN
SUMMARY:Qigong (2026F95330) 
LOCATION:Bildungszentrum Gebrüder-Grimm, OG14, Elsterstr. 1, 49808 Lingen
END:VEVENT
BEGIN:VEVENT
DTSTAMP:20260425T210314
DTSTART;TZID=Europe/Berlin:20260224T100000
DTEND;TZID=Europe/Berlin:20260224T111500
UID:2026F95330-20260224T100000@VHSLINGEN
SUMMARY:Qigong (2026F95330) 
LOCATION:Bildungszentrum Gebrüder-Grimm, OG14, Elsterstr. 1, 49808 Lingen
END:VEVENT
BEGIN:VEVENT
DTSTAMP:20260425T210314
DTSTART;TZID=Europe/Berlin:20260310T100000
DTEND;TZID=Europe/Berlin:20260310T111500
UID:2026F95330-20260310T100000@VHSLINGEN
SUMMARY:Qigong (2026F95330) 
LOCATION:Bildungszentrum Gebrüder-Grimm, OG14, Elsterstr. 1, 49808 Lingen
END:VEVENT
BEGIN:VEVENT
DTSTAMP:20260425T210314
DTSTART;TZID=Europe/Berlin:20260317T100000
DTEND;TZID=Europe/Berlin:20260317T111500
UID:2026F95330-20260317T100000@VHSLINGEN
SUMMARY:Qigong (2026F95330) 
LOCATION:Bildungszentrum Gebrüder-Grimm, OG14, Elsterstr. 1, 49808 Lingen
END:VEVENT
BEGIN:VEVENT
DTSTAMP:20260425T210314
DTSTART;TZID=Europe/Berlin:20260324T100000
DTEND;TZID=Europe/Berlin:20260324T111500
UID:2026F95330-20260324T100000@VHSLINGEN
SUMMARY:Qigong (2026F95330) 
LOCATION:Bildungszentrum Gebrüder-Grimm, OG14, Elsterstr. 1, 49808 Lingen
END:VEVENT
BEGIN:VEVENT
DTSTAMP:20260425T210314
DTSTART;TZID=Europe/Berlin:20260331T100000
DTEND;TZID=Europe/Berlin:20260331T111500
UID:2026F95330-20260331T100000@VHSLINGEN
SUMMARY:Qigong (2026F95330) 
LOCATION:Bildungszentrum Gebrüder-Grimm, OG14, Elsterstr. 1, 49808 Lingen
END:VEVENT
BEGIN:VEVENT
DTSTAMP:20260425T210314
DTSTART;TZID=Europe/Berlin:20260421T100000
DTEND;TZID=Europe/Berlin:20260421T111500
UID:2026F95330-20260421T100000@VHSLINGEN
SUMMARY:Qigong (2026F95330) 
LOCATION:Bildungszentrum Gebrüder-Grimm, OG14, Elsterstr. 1, 49808 Lingen
END:VEVENT
BEGIN:VEVENT
DTSTAMP:20260425T210314
DTSTART;TZID=Europe/Berlin:20260428T100000
DTEND;TZID=Europe/Berlin:20260428T111500
UID:2026F95330-20260428T100000@VHSLINGEN
SUMMARY:Qigong (2026F95330) 
LOCATION:Bildungszentrum Gebrüder-Grimm, OG14, Elsterstr. 1, 49808 Lingen
END:VEVENT
BEGIN:VEVENT
DTSTAMP:20260425T210314
DTSTART;TZID=Europe/Berlin:20260512T100000
DTEND;TZID=Europe/Berlin:20260512T111500
UID:2026F95330-20260512T100000@VHSLINGEN
SUMMARY:Qigong (2026F95330) 
LOCATION:Bildungszentrum Gebrüder-Grimm, OG14, Elsterstr. 1, 49808 Lingen
END:VEVENT
BEGIN:VEVENT
DTSTAMP:20260425T210314
DTSTART;TZID=Europe/Berlin:20260519T100000
DTEND;TZID=Europe/Berlin:20260519T111500
UID:2026F95330-20260519T100000@VHSLINGEN
SUMMARY:Qigong (2026F95330) 
LOCATION:Bildungszentrum Gebrüder-Grimm, OG14, Elsterstr. 1, 49808 Lingen
END:VEVENT
END:VCALENDAR