BEGIN:VCALENDAR
VERSION:2.0
PRODID:https://www.kufer.de/kuferweb / DE
METHOD:PUBLISH
CALSCALE:GREGORIAN
X-WR-TIMEZONE:Europe/Berlin
BEGIN:VTIMEZONE
TZID:Europe/Berlin
X-LIC-LOCATION:Europe/Berlin
BEGIN:DAYLIGHT
TZOFFSETFROM:+0100
TZOFFSETTO:+0200
TZNAME:CEST
DTSTART:19700329T020000
RRULE:FREQ=YEARLY;INTERVAL=1;BYDAY=-1SU;BYMONTH=3
END:DAYLIGHT
BEGIN:STANDARD
TZOFFSETFROM:+0200
TZOFFSETTO:+0100
TZNAME:CET
DTSTART:19701025T030000
RRULE:FREQ=YEARLY;INTERVAL=1;BYDAY=-1SU;BYMONTH=10
END:STANDARD
END:VTIMEZONE
BEGIN:VEVENT
DTSTAMP:20260425T041850
DTSTART;TZID=Europe/Berlin:20260205T183000
DTEND;TZID=Europe/Berlin:20260205T213000
UID:2026F92240-20260205T183000@VHSLINGEN
SUMMARY:Delicious -  Ladies Special Cooking Club in Emsbüren (2026F92240) 
LOCATION:Hauptschule Emsbüren, Küche, Schützenstr. 8, 48488 Emsbüren
END:VEVENT
BEGIN:VEVENT
DTSTAMP:20260425T041850
DTSTART;TZID=Europe/Berlin:20260305T183000
DTEND;TZID=Europe/Berlin:20260305T213000
UID:2026F92240-20260305T183000@VHSLINGEN
SUMMARY:Delicious -  Ladies Special Cooking Club in Emsbüren (2026F92240) 
LOCATION:Hauptschule Emsbüren, Küche, Schützenstr. 8, 48488 Emsbüren
END:VEVENT
BEGIN:VEVENT
DTSTAMP:20260425T041850
DTSTART;TZID=Europe/Berlin:20260507T183000
DTEND;TZID=Europe/Berlin:20260507T213000
UID:2026F92240-20260507T183000@VHSLINGEN
SUMMARY:Delicious -  Ladies Special Cooking Club in Emsbüren (2026F92240) 
LOCATION:Hauptschule Emsbüren, Küche, Schützenstr. 8, 48488 Emsbüren
END:VEVENT
BEGIN:VEVENT
DTSTAMP:20260425T041850
DTSTART;TZID=Europe/Berlin:20260604T183000
DTEND;TZID=Europe/Berlin:20260604T213000
UID:2026F92240-20260604T183000@VHSLINGEN
SUMMARY:Delicious -  Ladies Special Cooking Club in Emsbüren (2026F92240) 
LOCATION:Hauptschule Emsbüren, Küche, Schützenstr. 8, 48488 Emsbüren
END:VEVENT
END:VCALENDAR