BEGIN:VCALENDAR
VERSION:2.0
PRODID:https://www.kufer.de/kuferweb / DE
METHOD:PUBLISH
CALSCALE:GREGORIAN
X-WR-TIMEZONE:Europe/Berlin
BEGIN:VTIMEZONE
TZID:Europe/Berlin
X-LIC-LOCATION:Europe/Berlin
BEGIN:DAYLIGHT
TZOFFSETFROM:+0100
TZOFFSETTO:+0200
TZNAME:CEST
DTSTART:19700329T020000
RRULE:FREQ=YEARLY;INTERVAL=1;BYDAY=-1SU;BYMONTH=3
END:DAYLIGHT
BEGIN:STANDARD
TZOFFSETFROM:+0200
TZOFFSETTO:+0100
TZNAME:CET
DTSTART:19701025T030000
RRULE:FREQ=YEARLY;INTERVAL=1;BYDAY=-1SU;BYMONTH=10
END:STANDARD
END:VTIMEZONE
BEGIN:VEVENT
DTSTAMP:20260422T110457
DTSTART;TZID=Europe/Berlin:20260414T183000
DTEND;TZID=Europe/Berlin:20260414T204500
UID:2026F82060-20260414T183000@VHSLINGEN
SUMMARY:Kleine Kunstwerke aus Ton (2026F82060) 
LOCATION:Bildungszentrum Gebrüder-Grimm, EG23, Elsterstr. 1, 49808 Lingen
END:VEVENT
BEGIN:VEVENT
DTSTAMP:20260422T110457
DTSTART;TZID=Europe/Berlin:20260421T183000
DTEND;TZID=Europe/Berlin:20260421T204500
UID:2026F82060-20260421T183000@VHSLINGEN
SUMMARY:Kleine Kunstwerke aus Ton (2026F82060) 
LOCATION:Bildungszentrum Gebrüder-Grimm, EG23, Elsterstr. 1, 49808 Lingen
END:VEVENT
BEGIN:VEVENT
DTSTAMP:20260422T110457
DTSTART;TZID=Europe/Berlin:20260428T183000
DTEND;TZID=Europe/Berlin:20260428T204500
UID:2026F82060-20260428T183000@VHSLINGEN
SUMMARY:Kleine Kunstwerke aus Ton (2026F82060) 
LOCATION:Bildungszentrum Gebrüder-Grimm, EG23, Elsterstr. 1, 49808 Lingen
END:VEVENT
BEGIN:VEVENT
DTSTAMP:20260422T110457
DTSTART;TZID=Europe/Berlin:20260505T183000
DTEND;TZID=Europe/Berlin:20260505T204500
UID:2026F82060-20260505T183000@VHSLINGEN
SUMMARY:Kleine Kunstwerke aus Ton (2026F82060) 
LOCATION:Bildungszentrum Gebrüder-Grimm, EG23, Elsterstr. 1, 49808 Lingen
END:VEVENT
BEGIN:VEVENT
DTSTAMP:20260422T110457
DTSTART;TZID=Europe/Berlin:20260512T183000
DTEND;TZID=Europe/Berlin:20260512T204500
UID:2026F82060-20260512T183000@VHSLINGEN
SUMMARY:Kleine Kunstwerke aus Ton (2026F82060) 
LOCATION:Bildungszentrum Gebrüder-Grimm, EG23, Elsterstr. 1, 49808 Lingen
END:VEVENT
BEGIN:VEVENT
DTSTAMP:20260422T110457
DTSTART;TZID=Europe/Berlin:20260519T183000
DTEND;TZID=Europe/Berlin:20260519T204500
UID:2026F82060-20260519T183000@VHSLINGEN
SUMMARY:Kleine Kunstwerke aus Ton (2026F82060) 
LOCATION:Bildungszentrum Gebrüder-Grimm, EG23, Elsterstr. 1, 49808 Lingen
END:VEVENT
BEGIN:VEVENT
DTSTAMP:20260422T110457
DTSTART;TZID=Europe/Berlin:20260602T183000
DTEND;TZID=Europe/Berlin:20260602T204500
UID:2026F82060-20260602T183000@VHSLINGEN
SUMMARY:Kleine Kunstwerke aus Ton (2026F82060) 
LOCATION:Bildungszentrum Gebrüder-Grimm, EG23, Elsterstr. 1, 49808 Lingen
END:VEVENT
BEGIN:VEVENT
DTSTAMP:20260422T110457
DTSTART;TZID=Europe/Berlin:20260609T183000
DTEND;TZID=Europe/Berlin:20260609T204500
UID:2026F82060-20260609T183000@VHSLINGEN
SUMMARY:Kleine Kunstwerke aus Ton (2026F82060) 
LOCATION:Bildungszentrum Gebrüder-Grimm, EG23, Elsterstr. 1, 49808 Lingen
END:VEVENT
BEGIN:VEVENT
DTSTAMP:20260422T110457
DTSTART;TZID=Europe/Berlin:20260616T183000
DTEND;TZID=Europe/Berlin:20260616T204500
UID:2026F82060-20260616T183000@VHSLINGEN
SUMMARY:Kleine Kunstwerke aus Ton (2026F82060) 
LOCATION:Bildungszentrum Gebrüder-Grimm, EG23, Elsterstr. 1, 49808 Lingen
END:VEVENT
BEGIN:VEVENT
DTSTAMP:20260422T110457
DTSTART;TZID=Europe/Berlin:20260623T183000
DTEND;TZID=Europe/Berlin:20260623T204500
UID:2026F82060-20260623T183000@VHSLINGEN
SUMMARY:Kleine Kunstwerke aus Ton (2026F82060) 
LOCATION:Bildungszentrum Gebrüder-Grimm, EG23, Elsterstr. 1, 49808 Lingen
END:VEVENT
END:VCALENDAR