BEGIN:VCALENDAR
VERSION:2.0
PRODID:https://www.kufer.de/kuferweb / DE
METHOD:PUBLISH
CALSCALE:GREGORIAN
X-WR-TIMEZONE:Europe/Berlin
BEGIN:VTIMEZONE
TZID:Europe/Berlin
X-LIC-LOCATION:Europe/Berlin
BEGIN:DAYLIGHT
TZOFFSETFROM:+0100
TZOFFSETTO:+0200
TZNAME:CEST
DTSTART:19700329T020000
RRULE:FREQ=YEARLY;INTERVAL=1;BYDAY=-1SU;BYMONTH=3
END:DAYLIGHT
BEGIN:STANDARD
TZOFFSETFROM:+0200
TZOFFSETTO:+0100
TZNAME:CET
DTSTART:19701025T030000
RRULE:FREQ=YEARLY;INTERVAL=1;BYDAY=-1SU;BYMONTH=10
END:STANDARD
END:VTIMEZONE
BEGIN:VEVENT
DTSTAMP:20260424T163604
DTSTART;TZID=Europe/Berlin:20260209T180000
DTEND;TZID=Europe/Berlin:20260209T201500
UID:2026F78510-20260209T180000@VHSLINGEN
SUMMARY:Faszination Norwegisch (A1) Grundstufe I kompakt (2026F78510) 
LOCATION:VHS, Kokenmühle, Raum EG 3, An der Kokenmühle 7, 49808 Lingen
END:VEVENT
BEGIN:VEVENT
DTSTAMP:20260424T163604
DTSTART;TZID=Europe/Berlin:20260216T180000
DTEND;TZID=Europe/Berlin:20260216T201500
UID:2026F78510-20260216T180000@VHSLINGEN
SUMMARY:Faszination Norwegisch (A1) Grundstufe I kompakt (2026F78510) 
LOCATION:VHS, Kokenmühle, Raum EG 3, An der Kokenmühle 7, 49808 Lingen
END:VEVENT
BEGIN:VEVENT
DTSTAMP:20260424T163604
DTSTART;TZID=Europe/Berlin:20260302T180000
DTEND;TZID=Europe/Berlin:20260302T201500
UID:2026F78510-20260302T180000@VHSLINGEN
SUMMARY:Faszination Norwegisch (A1) Grundstufe I kompakt (2026F78510) 
LOCATION:VHS, Kokenmühle, Raum EG 3, An der Kokenmühle 7, 49808 Lingen
END:VEVENT
BEGIN:VEVENT
DTSTAMP:20260424T163604
DTSTART;TZID=Europe/Berlin:20260316T180000
DTEND;TZID=Europe/Berlin:20260316T201500
UID:2026F78510-20260316T180000@VHSLINGEN
SUMMARY:Faszination Norwegisch (A1) Grundstufe I kompakt (2026F78510) 
LOCATION:VHS, Kokenmühle, Raum EG 3, An der Kokenmühle 7, 49808 Lingen
END:VEVENT
BEGIN:VEVENT
DTSTAMP:20260424T163604
DTSTART;TZID=Europe/Berlin:20260413T180000
DTEND;TZID=Europe/Berlin:20260413T201500
UID:2026F78510-20260413T180000@VHSLINGEN
SUMMARY:Faszination Norwegisch (A1) Grundstufe I kompakt (2026F78510) 
LOCATION:VHS, Kokenmühle, Raum EG 3, An der Kokenmühle 7, 49808 Lingen
END:VEVENT
BEGIN:VEVENT
DTSTAMP:20260424T163604
DTSTART;TZID=Europe/Berlin:20260420T180000
DTEND;TZID=Europe/Berlin:20260420T201500
UID:2026F78510-20260420T180000@VHSLINGEN
SUMMARY:Faszination Norwegisch (A1) Grundstufe I kompakt (2026F78510) 
LOCATION:VHS, Kokenmühle, Raum EG 3, An der Kokenmühle 7, 49808 Lingen
END:VEVENT
BEGIN:VEVENT
DTSTAMP:20260424T163604
DTSTART;TZID=Europe/Berlin:20260427T180000
DTEND;TZID=Europe/Berlin:20260427T201500
UID:2026F78510-20260427T180000@VHSLINGEN
SUMMARY:Faszination Norwegisch (A1) Grundstufe I kompakt (2026F78510) 
LOCATION:VHS, Kokenmühle, Raum EG 3, An der Kokenmühle 7, 49808 Lingen
END:VEVENT
BEGIN:VEVENT
DTSTAMP:20260424T163604
DTSTART;TZID=Europe/Berlin:20260504T180000
DTEND;TZID=Europe/Berlin:20260504T201500
UID:2026F78510-20260504T180000@VHSLINGEN
SUMMARY:Faszination Norwegisch (A1) Grundstufe I kompakt (2026F78510) 
LOCATION:VHS, Kokenmühle, Raum EG 3, An der Kokenmühle 7, 49808 Lingen
END:VEVENT
END:VCALENDAR