BEGIN:VCALENDAR
VERSION:2.0
PRODID:https://www.kufer.de/kuferweb / DE
METHOD:PUBLISH
CALSCALE:GREGORIAN
X-WR-TIMEZONE:Europe/Berlin
BEGIN:VTIMEZONE
TZID:Europe/Berlin
X-LIC-LOCATION:Europe/Berlin
BEGIN:DAYLIGHT
TZOFFSETFROM:+0100
TZOFFSETTO:+0200
TZNAME:CEST
DTSTART:19700329T020000
RRULE:FREQ=YEARLY;INTERVAL=1;BYDAY=-1SU;BYMONTH=3
END:DAYLIGHT
BEGIN:STANDARD
TZOFFSETFROM:+0200
TZOFFSETTO:+0100
TZNAME:CET
DTSTART:19701025T030000
RRULE:FREQ=YEARLY;INTERVAL=1;BYDAY=-1SU;BYMONTH=10
END:STANDARD
END:VTIMEZONE
BEGIN:VEVENT
DTSTAMP:20260424T145224
DTSTART;TZID=Europe/Berlin:20260207T090000
DTEND;TZID=Europe/Berlin:20260207T130000
UID:2026F78170-20260207T090000@VHSLINGEN
SUMMARY:Polnisch Aufbaustufe I (A2) kompakt (2026F78170) 
LOCATION:Bildungszentrum Gebrüder-Grimm, EG07, Elsterstr. 1, 49808 Lingen
END:VEVENT
BEGIN:VEVENT
DTSTAMP:20260424T145224
DTSTART;TZID=Europe/Berlin:20260214T090000
DTEND;TZID=Europe/Berlin:20260214T130000
UID:2026F78170-20260214T090000@VHSLINGEN
SUMMARY:Polnisch Aufbaustufe I (A2) kompakt (2026F78170) 
LOCATION:Bildungszentrum Gebrüder-Grimm, EG07, Elsterstr. 1, 49808 Lingen
END:VEVENT
BEGIN:VEVENT
DTSTAMP:20260424T145224
DTSTART;TZID=Europe/Berlin:20260411T090000
DTEND;TZID=Europe/Berlin:20260411T130000
UID:2026F78170-20260411T090000@VHSLINGEN
SUMMARY:Polnisch Aufbaustufe I (A2) kompakt (2026F78170) 
LOCATION:Bildungszentrum Gebrüder-Grimm, EG07, Elsterstr. 1, 49808 Lingen
END:VEVENT
BEGIN:VEVENT
DTSTAMP:20260424T145224
DTSTART;TZID=Europe/Berlin:20260509T090000
DTEND;TZID=Europe/Berlin:20260509T130000
UID:2026F78170-20260509T090000@VHSLINGEN
SUMMARY:Polnisch Aufbaustufe I (A2) kompakt (2026F78170) 
LOCATION:Bildungszentrum Gebrüder-Grimm, EG07, Elsterstr. 1, 49808 Lingen
END:VEVENT
BEGIN:VEVENT
DTSTAMP:20260424T145224
DTSTART;TZID=Europe/Berlin:20260613T090000
DTEND;TZID=Europe/Berlin:20260613T130000
UID:2026F78170-20260613T090000@VHSLINGEN
DESCRIPTION:Achtung: Gebäude- und Raumwechsel 
SUMMARY:Polnisch Aufbaustufe I (A2) kompakt (2026F78170) 
LOCATION:VHS, Kokenmühle, Raum OG 1, An der Kokenmühle 7, 49808 Lingen
END:VEVENT
END:VCALENDAR