BEGIN:VCALENDAR
VERSION:2.0
PRODID:https://www.kufer.de/kuferweb / DE
METHOD:PUBLISH
CALSCALE:GREGORIAN
X-WR-TIMEZONE:Europe/Berlin
BEGIN:VTIMEZONE
TZID:Europe/Berlin
X-LIC-LOCATION:Europe/Berlin
BEGIN:DAYLIGHT
TZOFFSETFROM:+0100
TZOFFSETTO:+0200
TZNAME:CEST
DTSTART:19700329T020000
RRULE:FREQ=YEARLY;INTERVAL=1;BYDAY=-1SU;BYMONTH=3
END:DAYLIGHT
BEGIN:STANDARD
TZOFFSETFROM:+0200
TZOFFSETTO:+0100
TZNAME:CET
DTSTART:19701025T030000
RRULE:FREQ=YEARLY;INTERVAL=1;BYDAY=-1SU;BYMONTH=10
END:STANDARD
END:VTIMEZONE
BEGIN:VEVENT
DTSTAMP:20260424T214127
DTSTART;TZID=Europe/Berlin:20260612T130000
DTEND;TZID=Europe/Berlin:20260612T160000
UID:2026F76025-20260612T130000@VHSLINGEN
SUMMARY:Taste & Talk: Mediterrane Küche mit Sprachgenuss (2026F76025) 
LOCATION:Bildungszentrum Gebrüder-Grimm, EG12, Elsterstr. 1, 49808 Lingen
END:VEVENT
BEGIN:VEVENT
DTSTAMP:20260424T214127
DTSTART;TZID=Europe/Berlin:20260612T130000
DTEND;TZID=Europe/Berlin:20260612T160000
UID:2026F76025-20260612T130000@VHSLINGEN
SUMMARY:Taste & Talk: Mediterrane Küche mit Sprachgenuss (2026F76025) 
LOCATION:Bildungszentrum Gebrüder-Grimm, EG13, Elsterstr. 1, 49808 Lingen
END:VEVENT
BEGIN:VEVENT
DTSTAMP:20260424T214127
DTSTART;TZID=Europe/Berlin:20260612T160000
DTEND;TZID=Europe/Berlin:20260612T200000
UID:2026F76025-20260612T160000@VHSLINGEN
SUMMARY:Taste & Talk: Mediterrane Küche mit Sprachgenuss (2026F76025) 
LOCATION:Bildungszentrum Gebrüder-Grimm, EG12, Elsterstr. 1, 49808 Lingen
END:VEVENT
BEGIN:VEVENT
DTSTAMP:20260424T214127
DTSTART;TZID=Europe/Berlin:20260612T160000
DTEND;TZID=Europe/Berlin:20260612T200000
UID:2026F76025-20260612T160000@VHSLINGEN
SUMMARY:Taste & Talk: Mediterrane Küche mit Sprachgenuss (2026F76025) 
LOCATION:Bildungszentrum Gebrüder-Grimm, EG13, Elsterstr. 1, 49808 Lingen
END:VEVENT
BEGIN:VEVENT
DTSTAMP:20260424T214127
DTSTART;TZID=Europe/Berlin:20260612T200000
DTEND;TZID=Europe/Berlin:20260612T213000
UID:2026F76025-20260612T200000@VHSLINGEN
SUMMARY:Taste & Talk: Mediterrane Küche mit Sprachgenuss (2026F76025) 
LOCATION:Bildungszentrum Gebrüder-Grimm, EG12, Elsterstr. 1, 49808 Lingen
END:VEVENT
BEGIN:VEVENT
DTSTAMP:20260424T214127
DTSTART;TZID=Europe/Berlin:20260612T200000
DTEND;TZID=Europe/Berlin:20260612T213000
UID:2026F76025-20260612T200000@VHSLINGEN
SUMMARY:Taste & Talk: Mediterrane Küche mit Sprachgenuss (2026F76025) 
LOCATION:Bildungszentrum Gebrüder-Grimm, EG13, Elsterstr. 1, 49808 Lingen
END:VEVENT
END:VCALENDAR