BEGIN:VCALENDAR
VERSION:2.0
PRODID:https://www.kufer.de/kuferweb / DE
METHOD:PUBLISH
CALSCALE:GREGORIAN
X-WR-TIMEZONE:Europe/Berlin
BEGIN:VTIMEZONE
TZID:Europe/Berlin
X-LIC-LOCATION:Europe/Berlin
BEGIN:DAYLIGHT
TZOFFSETFROM:+0100
TZOFFSETTO:+0200
TZNAME:CEST
DTSTART:19700329T020000
RRULE:FREQ=YEARLY;INTERVAL=1;BYDAY=-1SU;BYMONTH=3
END:DAYLIGHT
BEGIN:STANDARD
TZOFFSETFROM:+0200
TZOFFSETTO:+0100
TZNAME:CET
DTSTART:19701025T030000
RRULE:FREQ=YEARLY;INTERVAL=1;BYDAY=-1SU;BYMONTH=10
END:STANDARD
END:VTIMEZONE
BEGIN:VEVENT
DTSTAMP:20260425T030445
DTSTART;TZID=Europe/Berlin:20260204T170000
DTEND;TZID=Europe/Berlin:20260204T183000
UID:2026F76005-20260204T170000@VHSLINGEN
SUMMARY:Spanisch Grundstufe II (A1) (2026F76005) 
LOCATION:Bildungszentrum Gebrüder-Grimm, EG09, Elsterstr. 1, 49808 Lingen
END:VEVENT
BEGIN:VEVENT
DTSTAMP:20260425T030445
DTSTART;TZID=Europe/Berlin:20260211T170000
DTEND;TZID=Europe/Berlin:20260211T183000
UID:2026F76005-20260211T170000@VHSLINGEN
SUMMARY:Spanisch Grundstufe II (A1) (2026F76005) 
LOCATION:Bildungszentrum Gebrüder-Grimm, EG09, Elsterstr. 1, 49808 Lingen
END:VEVENT
BEGIN:VEVENT
DTSTAMP:20260425T030445
DTSTART;TZID=Europe/Berlin:20260218T170000
DTEND;TZID=Europe/Berlin:20260218T183000
UID:2026F76005-20260218T170000@VHSLINGEN
SUMMARY:Spanisch Grundstufe II (A1) (2026F76005) 
LOCATION:Bildungszentrum Gebrüder-Grimm, EG09, Elsterstr. 1, 49808 Lingen
END:VEVENT
BEGIN:VEVENT
DTSTAMP:20260425T030445
DTSTART;TZID=Europe/Berlin:20260225T170000
DTEND;TZID=Europe/Berlin:20260225T183000
UID:2026F76005-20260225T170000@VHSLINGEN
SUMMARY:Spanisch Grundstufe II (A1) (2026F76005) 
LOCATION:Bildungszentrum Gebrüder-Grimm, EG09, Elsterstr. 1, 49808 Lingen
END:VEVENT
BEGIN:VEVENT
DTSTAMP:20260425T030445
DTSTART;TZID=Europe/Berlin:20260304T170000
DTEND;TZID=Europe/Berlin:20260304T183000
UID:2026F76005-20260304T170000@VHSLINGEN
DESCRIPTION:Achtung Raumwechsel
SUMMARY:Spanisch Grundstufe II (A1) (2026F76005) 
LOCATION:Bildungszentrum Gebrüder-Grimm, EG08, Elsterstr. 1, 49808 Lingen
END:VEVENT
BEGIN:VEVENT
DTSTAMP:20260425T030445
DTSTART;TZID=Europe/Berlin:20260311T170000
DTEND;TZID=Europe/Berlin:20260311T183000
UID:2026F76005-20260311T170000@VHSLINGEN
SUMMARY:Spanisch Grundstufe II (A1) (2026F76005) 
LOCATION:Bildungszentrum Gebrüder-Grimm, EG08, Elsterstr. 1, 49808 Lingen
END:VEVENT
BEGIN:VEVENT
DTSTAMP:20260425T030445
DTSTART;TZID=Europe/Berlin:20260408T170000
DTEND;TZID=Europe/Berlin:20260408T183000
UID:2026F76005-20260408T170000@VHSLINGEN
SUMMARY:Spanisch Grundstufe II (A1) (2026F76005) 
LOCATION:Bildungszentrum Gebrüder-Grimm, EG08, Elsterstr. 1, 49808 Lingen
END:VEVENT
BEGIN:VEVENT
DTSTAMP:20260425T030445
DTSTART;TZID=Europe/Berlin:20260422T170000
DTEND;TZID=Europe/Berlin:20260422T183000
UID:2026F76005-20260422T170000@VHSLINGEN
SUMMARY:Spanisch Grundstufe II (A1) (2026F76005) 
LOCATION:Bildungszentrum Gebrüder-Grimm, EG08, Elsterstr. 1, 49808 Lingen
END:VEVENT
BEGIN:VEVENT
DTSTAMP:20260425T030445
DTSTART;TZID=Europe/Berlin:20260429T170000
DTEND;TZID=Europe/Berlin:20260429T183000
UID:2026F76005-20260429T170000@VHSLINGEN
SUMMARY:Spanisch Grundstufe II (A1) (2026F76005) 
LOCATION:Bildungszentrum Gebrüder-Grimm, EG08, Elsterstr. 1, 49808 Lingen
END:VEVENT
BEGIN:VEVENT
DTSTAMP:20260425T030445
DTSTART;TZID=Europe/Berlin:20260506T170000
DTEND;TZID=Europe/Berlin:20260506T183000
UID:2026F76005-20260506T170000@VHSLINGEN
SUMMARY:Spanisch Grundstufe II (A1) (2026F76005) 
LOCATION:Bildungszentrum Gebrüder-Grimm, EG08, Elsterstr. 1, 49808 Lingen
END:VEVENT
BEGIN:VEVENT
DTSTAMP:20260425T030445
DTSTART;TZID=Europe/Berlin:20260513T170000
DTEND;TZID=Europe/Berlin:20260513T183000
UID:2026F76005-20260513T170000@VHSLINGEN
SUMMARY:Spanisch Grundstufe II (A1) (2026F76005) 
LOCATION:Bildungszentrum Gebrüder-Grimm, EG08, Elsterstr. 1, 49808 Lingen
END:VEVENT
BEGIN:VEVENT
DTSTAMP:20260425T030445
DTSTART;TZID=Europe/Berlin:20260520T170000
DTEND;TZID=Europe/Berlin:20260520T183000
UID:2026F76005-20260520T170000@VHSLINGEN
SUMMARY:Spanisch Grundstufe II (A1) (2026F76005) 
LOCATION:Bildungszentrum Gebrüder-Grimm, EG08, Elsterstr. 1, 49808 Lingen
END:VEVENT
BEGIN:VEVENT
DTSTAMP:20260425T030445
DTSTART;TZID=Europe/Berlin:20260527T170000
DTEND;TZID=Europe/Berlin:20260527T183000
UID:2026F76005-20260527T170000@VHSLINGEN
SUMMARY:Spanisch Grundstufe II (A1) (2026F76005) 
LOCATION:Bildungszentrum Gebrüder-Grimm, EG08, Elsterstr. 1, 49808 Lingen
END:VEVENT
BEGIN:VEVENT
DTSTAMP:20260425T030445
DTSTART;TZID=Europe/Berlin:20260603T170000
DTEND;TZID=Europe/Berlin:20260603T183000
UID:2026F76005-20260603T170000@VHSLINGEN
SUMMARY:Spanisch Grundstufe II (A1) (2026F76005) 
LOCATION:Bildungszentrum Gebrüder-Grimm, EG08, Elsterstr. 1, 49808 Lingen
END:VEVENT
END:VCALENDAR