BEGIN:VCALENDAR
VERSION:2.0
PRODID:https://www.kufer.de/kuferweb / DE
METHOD:PUBLISH
CALSCALE:GREGORIAN
X-WR-TIMEZONE:Europe/Berlin
BEGIN:VTIMEZONE
TZID:Europe/Berlin
X-LIC-LOCATION:Europe/Berlin
BEGIN:DAYLIGHT
TZOFFSETFROM:+0100
TZOFFSETTO:+0200
TZNAME:CEST
DTSTART:19700329T020000
RRULE:FREQ=YEARLY;INTERVAL=1;BYDAY=-1SU;BYMONTH=3
END:DAYLIGHT
BEGIN:STANDARD
TZOFFSETFROM:+0200
TZOFFSETTO:+0100
TZNAME:CET
DTSTART:19701025T030000
RRULE:FREQ=YEARLY;INTERVAL=1;BYDAY=-1SU;BYMONTH=10
END:STANDARD
END:VTIMEZONE
BEGIN:VEVENT
DTSTAMP:20260424T145259
DTSTART;TZID=Europe/Berlin:20260205T183000
DTEND;TZID=Europe/Berlin:20260205T200000
UID:2026F74015-20260205T183000@VHSLINGEN
SUMMARY:Italienisch für weit Fortgeschrittene II (B1) hybrid (2026F74015) 
LOCATION:Bildungszentrum Gebrüder-Grimm, DG06, Elsterstr. 1, 49808 Lingen
END:VEVENT
BEGIN:VEVENT
DTSTAMP:20260424T145259
DTSTART;TZID=Europe/Berlin:20260212T183000
DTEND;TZID=Europe/Berlin:20260212T200000
UID:2026F74015-20260212T183000@VHSLINGEN
SUMMARY:Italienisch für weit Fortgeschrittene II (B1) hybrid (2026F74015) 
LOCATION:Bildungszentrum Gebrüder-Grimm, DG06, Elsterstr. 1, 49808 Lingen
END:VEVENT
BEGIN:VEVENT
DTSTAMP:20260424T145259
DTSTART;TZID=Europe/Berlin:20260219T183000
DTEND;TZID=Europe/Berlin:20260219T200000
UID:2026F74015-20260219T183000@VHSLINGEN
SUMMARY:Italienisch für weit Fortgeschrittene II (B1) hybrid (2026F74015) 
LOCATION:Bildungszentrum Gebrüder-Grimm, DG06, Elsterstr. 1, 49808 Lingen
END:VEVENT
BEGIN:VEVENT
DTSTAMP:20260424T145259
DTSTART;TZID=Europe/Berlin:20260226T183000
DTEND;TZID=Europe/Berlin:20260226T200000
UID:2026F74015-20260226T183000@VHSLINGEN
SUMMARY:Italienisch für weit Fortgeschrittene II (B1) hybrid (2026F74015) 
LOCATION:Bildungszentrum Gebrüder-Grimm, DG06, Elsterstr. 1, 49808 Lingen
END:VEVENT
BEGIN:VEVENT
DTSTAMP:20260424T145259
DTSTART;TZID=Europe/Berlin:20260305T183000
DTEND;TZID=Europe/Berlin:20260305T200000
UID:2026F74015-20260305T183000@VHSLINGEN
SUMMARY:Italienisch für weit Fortgeschrittene II (B1) hybrid (2026F74015) 
LOCATION:Bildungszentrum Gebrüder-Grimm, DG06, Elsterstr. 1, 49808 Lingen
END:VEVENT
BEGIN:VEVENT
DTSTAMP:20260424T145259
DTSTART;TZID=Europe/Berlin:20260312T183000
DTEND;TZID=Europe/Berlin:20260312T200000
UID:2026F74015-20260312T183000@VHSLINGEN
SUMMARY:Italienisch für weit Fortgeschrittene II (B1) hybrid (2026F74015) 
LOCATION:Bildungszentrum Gebrüder-Grimm, DG06, Elsterstr. 1, 49808 Lingen
END:VEVENT
BEGIN:VEVENT
DTSTAMP:20260424T145259
DTSTART;TZID=Europe/Berlin:20260319T183000
DTEND;TZID=Europe/Berlin:20260319T200000
UID:2026F74015-20260319T183000@VHSLINGEN
SUMMARY:Italienisch für weit Fortgeschrittene II (B1) hybrid (2026F74015) 
LOCATION:Bildungszentrum Gebrüder-Grimm, DG06, Elsterstr. 1, 49808 Lingen
END:VEVENT
BEGIN:VEVENT
DTSTAMP:20260424T145259
DTSTART;TZID=Europe/Berlin:20260409T183000
DTEND;TZID=Europe/Berlin:20260409T200000
UID:2026F74015-20260409T183000@VHSLINGEN
SUMMARY:Italienisch für weit Fortgeschrittene II (B1) hybrid (2026F74015) 
LOCATION:Bildungszentrum Gebrüder-Grimm, DG06, Elsterstr. 1, 49808 Lingen
END:VEVENT
BEGIN:VEVENT
DTSTAMP:20260424T145259
DTSTART;TZID=Europe/Berlin:20260416T183000
DTEND;TZID=Europe/Berlin:20260416T200000
UID:2026F74015-20260416T183000@VHSLINGEN
SUMMARY:Italienisch für weit Fortgeschrittene II (B1) hybrid (2026F74015) 
LOCATION:Bildungszentrum Gebrüder-Grimm, DG06, Elsterstr. 1, 49808 Lingen
END:VEVENT
BEGIN:VEVENT
DTSTAMP:20260424T145259
DTSTART;TZID=Europe/Berlin:20260423T183000
DTEND;TZID=Europe/Berlin:20260423T200000
UID:2026F74015-20260423T183000@VHSLINGEN
SUMMARY:Italienisch für weit Fortgeschrittene II (B1) hybrid (2026F74015) 
LOCATION:Bildungszentrum Gebrüder-Grimm, DG06, Elsterstr. 1, 49808 Lingen
END:VEVENT
BEGIN:VEVENT
DTSTAMP:20260424T145259
DTSTART;TZID=Europe/Berlin:20260430T183000
DTEND;TZID=Europe/Berlin:20260430T200000
UID:2026F74015-20260430T183000@VHSLINGEN
SUMMARY:Italienisch für weit Fortgeschrittene II (B1) hybrid (2026F74015) 
LOCATION:Bildungszentrum Gebrüder-Grimm, DG06, Elsterstr. 1, 49808 Lingen
END:VEVENT
BEGIN:VEVENT
DTSTAMP:20260424T145259
DTSTART;TZID=Europe/Berlin:20260507T183000
DTEND;TZID=Europe/Berlin:20260507T200000
UID:2026F74015-20260507T183000@VHSLINGEN
SUMMARY:Italienisch für weit Fortgeschrittene II (B1) hybrid (2026F74015) 
LOCATION:Bildungszentrum Gebrüder-Grimm, DG06, Elsterstr. 1, 49808 Lingen
END:VEVENT
BEGIN:VEVENT
DTSTAMP:20260424T145259
DTSTART;TZID=Europe/Berlin:20260521T183000
DTEND;TZID=Europe/Berlin:20260521T200000
UID:2026F74015-20260521T183000@VHSLINGEN
SUMMARY:Italienisch für weit Fortgeschrittene II (B1) hybrid (2026F74015) 
LOCATION:Bildungszentrum Gebrüder-Grimm, DG06, Elsterstr. 1, 49808 Lingen
END:VEVENT
BEGIN:VEVENT
DTSTAMP:20260424T145259
DTSTART;TZID=Europe/Berlin:20260528T183000
DTEND;TZID=Europe/Berlin:20260528T200000
UID:2026F74015-20260528T183000@VHSLINGEN
SUMMARY:Italienisch für weit Fortgeschrittene II (B1) hybrid (2026F74015) 
LOCATION:Bildungszentrum Gebrüder-Grimm, DG06, Elsterstr. 1, 49808 Lingen
END:VEVENT
BEGIN:VEVENT
DTSTAMP:20260424T145259
DTSTART;TZID=Europe/Berlin:20260604T183000
DTEND;TZID=Europe/Berlin:20260604T200000
UID:2026F74015-20260604T183000@VHSLINGEN
SUMMARY:Italienisch für weit Fortgeschrittene II (B1) hybrid (2026F74015) 
LOCATION:Bildungszentrum Gebrüder-Grimm, DG06, Elsterstr. 1, 49808 Lingen
END:VEVENT
END:VCALENDAR