BEGIN:VCALENDAR
VERSION:2.0
PRODID:https://www.kufer.de/kuferweb / DE
METHOD:PUBLISH
CALSCALE:GREGORIAN
X-WR-TIMEZONE:Europe/Berlin
BEGIN:VTIMEZONE
TZID:Europe/Berlin
X-LIC-LOCATION:Europe/Berlin
BEGIN:DAYLIGHT
TZOFFSETFROM:+0100
TZOFFSETTO:+0200
TZNAME:CEST
DTSTART:19700329T020000
RRULE:FREQ=YEARLY;INTERVAL=1;BYDAY=-1SU;BYMONTH=3
END:DAYLIGHT
BEGIN:STANDARD
TZOFFSETFROM:+0200
TZOFFSETTO:+0100
TZNAME:CET
DTSTART:19701025T030000
RRULE:FREQ=YEARLY;INTERVAL=1;BYDAY=-1SU;BYMONTH=10
END:STANDARD
END:VTIMEZONE
BEGIN:VEVENT
DTSTAMP:20260425T202902
DTSTART;TZID=Europe/Berlin:20260518T083000
DTEND;TZID=Europe/Berlin:20260518T160000
UID:2026F72025-20260518T083000@VHSLINGEN
SUMMARY:Survival English (A2/B1) - rund ums Büro Intensivkurs/Bildungsurlaub (2026F72025) 
LOCATION:Bildungszentrum Gebrüder-Grimm, OG07, Elsterstr. 1, 49808 Lingen
END:VEVENT
BEGIN:VEVENT
DTSTAMP:20260425T202902
DTSTART;TZID=Europe/Berlin:20260519T083000
DTEND;TZID=Europe/Berlin:20260519T160000
UID:2026F72025-20260519T083000@VHSLINGEN
SUMMARY:Survival English (A2/B1) - rund ums Büro Intensivkurs/Bildungsurlaub (2026F72025) 
LOCATION:Bildungszentrum Gebrüder-Grimm, OG07, Elsterstr. 1, 49808 Lingen
END:VEVENT
BEGIN:VEVENT
DTSTAMP:20260425T202902
DTSTART;TZID=Europe/Berlin:20260520T083000
DTEND;TZID=Europe/Berlin:20260520T160000
UID:2026F72025-20260520T083000@VHSLINGEN
SUMMARY:Survival English (A2/B1) - rund ums Büro Intensivkurs/Bildungsurlaub (2026F72025) 
LOCATION:Bildungszentrum Gebrüder-Grimm, OG07, Elsterstr. 1, 49808 Lingen
END:VEVENT
BEGIN:VEVENT
DTSTAMP:20260425T202902
DTSTART;TZID=Europe/Berlin:20260521T083000
DTEND;TZID=Europe/Berlin:20260521T160000
UID:2026F72025-20260521T083000@VHSLINGEN
SUMMARY:Survival English (A2/B1) - rund ums Büro Intensivkurs/Bildungsurlaub (2026F72025) 
LOCATION:Bildungszentrum Gebrüder-Grimm, OG07, Elsterstr. 1, 49808 Lingen
END:VEVENT
BEGIN:VEVENT
DTSTAMP:20260425T202902
DTSTART;TZID=Europe/Berlin:20260522T083000
DTEND;TZID=Europe/Berlin:20260522T160000
UID:2026F72025-20260522T083000@VHSLINGEN
SUMMARY:Survival English (A2/B1) - rund ums Büro Intensivkurs/Bildungsurlaub (2026F72025) 
LOCATION:Bildungszentrum Gebrüder-Grimm, OG07, Elsterstr. 1, 49808 Lingen
END:VEVENT
END:VCALENDAR