BEGIN:VCALENDAR
VERSION:2.0
PRODID:https://www.kufer.de/kuferweb / DE
METHOD:PUBLISH
CALSCALE:GREGORIAN
X-WR-TIMEZONE:Europe/Berlin
BEGIN:VTIMEZONE
TZID:Europe/Berlin
X-LIC-LOCATION:Europe/Berlin
BEGIN:DAYLIGHT
TZOFFSETFROM:+0100
TZOFFSETTO:+0200
TZNAME:CEST
DTSTART:19700329T020000
RRULE:FREQ=YEARLY;INTERVAL=1;BYDAY=-1SU;BYMONTH=3
END:DAYLIGHT
BEGIN:STANDARD
TZOFFSETFROM:+0200
TZOFFSETTO:+0100
TZNAME:CET
DTSTART:19701025T030000
RRULE:FREQ=YEARLY;INTERVAL=1;BYDAY=-1SU;BYMONTH=10
END:STANDARD
END:VTIMEZONE
BEGIN:VEVENT
DTSTAMP:20260425T030440
DTSTART;TZID=Europe/Berlin:20260615T083000
DTEND;TZID=Europe/Berlin:20260615T160000
UID:2026F72015-20260615T083000@VHSLINGEN
SUMMARY:A new start - English Refresher (A2) Intensivkurs/Bildungsurlaub (2026F72015) 
LOCATION:Bildungszentrum Gebrüder-Grimm, OG07, Elsterstr. 1, 49808 Lingen
END:VEVENT
BEGIN:VEVENT
DTSTAMP:20260425T030440
DTSTART;TZID=Europe/Berlin:20260616T083000
DTEND;TZID=Europe/Berlin:20260616T160000
UID:2026F72015-20260616T083000@VHSLINGEN
SUMMARY:A new start - English Refresher (A2) Intensivkurs/Bildungsurlaub (2026F72015) 
LOCATION:Bildungszentrum Gebrüder-Grimm, OG07, Elsterstr. 1, 49808 Lingen
END:VEVENT
BEGIN:VEVENT
DTSTAMP:20260425T030440
DTSTART;TZID=Europe/Berlin:20260617T083000
DTEND;TZID=Europe/Berlin:20260617T160000
UID:2026F72015-20260617T083000@VHSLINGEN
SUMMARY:A new start - English Refresher (A2) Intensivkurs/Bildungsurlaub (2026F72015) 
LOCATION:Bildungszentrum Gebrüder-Grimm, OG07, Elsterstr. 1, 49808 Lingen
END:VEVENT
BEGIN:VEVENT
DTSTAMP:20260425T030440
DTSTART;TZID=Europe/Berlin:20260618T083000
DTEND;TZID=Europe/Berlin:20260618T160000
UID:2026F72015-20260618T083000@VHSLINGEN
SUMMARY:A new start - English Refresher (A2) Intensivkurs/Bildungsurlaub (2026F72015) 
LOCATION:Bildungszentrum Gebrüder-Grimm, OG07, Elsterstr. 1, 49808 Lingen
END:VEVENT
BEGIN:VEVENT
DTSTAMP:20260425T030440
DTSTART;TZID=Europe/Berlin:20260619T083000
DTEND;TZID=Europe/Berlin:20260619T160000
UID:2026F72015-20260619T083000@VHSLINGEN
SUMMARY:A new start - English Refresher (A2) Intensivkurs/Bildungsurlaub (2026F72015) 
LOCATION:Bildungszentrum Gebrüder-Grimm, OG07, Elsterstr. 1, 49808 Lingen
END:VEVENT
END:VCALENDAR