BEGIN:VCALENDAR
VERSION:2.0
PRODID:https://www.kufer.de/kuferweb / DE
METHOD:PUBLISH
CALSCALE:GREGORIAN
X-WR-TIMEZONE:Europe/Berlin
BEGIN:VTIMEZONE
TZID:Europe/Berlin
X-LIC-LOCATION:Europe/Berlin
BEGIN:DAYLIGHT
TZOFFSETFROM:+0100
TZOFFSETTO:+0200
TZNAME:CEST
DTSTART:19700329T020000
RRULE:FREQ=YEARLY;INTERVAL=1;BYDAY=-1SU;BYMONTH=3
END:DAYLIGHT
BEGIN:STANDARD
TZOFFSETFROM:+0200
TZOFFSETTO:+0100
TZNAME:CET
DTSTART:19701025T030000
RRULE:FREQ=YEARLY;INTERVAL=1;BYDAY=-1SU;BYMONTH=10
END:STANDARD
END:VTIMEZONE
BEGIN:VEVENT
DTSTAMP:20260424T145309
DTSTART;TZID=Europe/Berlin:20260210T164500
DTEND;TZID=Europe/Berlin:20260210T181500
UID:2026F72008-20260210T164500@VHSLINGEN
SUMMARY:Englisch Grundstufe II (A1) 60+ (2026F72008) 
LOCATION:Bildungszentrum Gebrüder-Grimm, EG07, Elsterstr. 1, 49808 Lingen
END:VEVENT
BEGIN:VEVENT
DTSTAMP:20260424T145309
DTSTART;TZID=Europe/Berlin:20260217T164500
DTEND;TZID=Europe/Berlin:20260217T181500
UID:2026F72008-20260217T164500@VHSLINGEN
SUMMARY:Englisch Grundstufe II (A1) 60+ (2026F72008) 
LOCATION:Bildungszentrum Gebrüder-Grimm, EG07, Elsterstr. 1, 49808 Lingen
END:VEVENT
BEGIN:VEVENT
DTSTAMP:20260424T145309
DTSTART;TZID=Europe/Berlin:20260303T164500
DTEND;TZID=Europe/Berlin:20260303T181500
UID:2026F72008-20260303T164500@VHSLINGEN
SUMMARY:Englisch Grundstufe II (A1) 60+ (2026F72008) 
LOCATION:Bildungszentrum Gebrüder-Grimm, EG07, Elsterstr. 1, 49808 Lingen
END:VEVENT
BEGIN:VEVENT
DTSTAMP:20260424T145309
DTSTART;TZID=Europe/Berlin:20260310T164500
DTEND;TZID=Europe/Berlin:20260310T181500
UID:2026F72008-20260310T164500@VHSLINGEN
DESCRIPTION:Raumwechsel
SUMMARY:Englisch Grundstufe II (A1) 60+ (2026F72008) 
LOCATION:Bildungszentrum Gebrüder-Grimm, EG06, Elsterstr. 1, 49808 Lingen
END:VEVENT
BEGIN:VEVENT
DTSTAMP:20260424T145309
DTSTART;TZID=Europe/Berlin:20260317T164500
DTEND;TZID=Europe/Berlin:20260317T181500
UID:2026F72008-20260317T164500@VHSLINGEN
SUMMARY:Englisch Grundstufe II (A1) 60+ (2026F72008) 
LOCATION:Bildungszentrum Gebrüder-Grimm, EG07, Elsterstr. 1, 49808 Lingen
END:VEVENT
BEGIN:VEVENT
DTSTAMP:20260424T145309
DTSTART;TZID=Europe/Berlin:20260421T164500
DTEND;TZID=Europe/Berlin:20260421T181500
UID:2026F72008-20260421T164500@VHSLINGEN
SUMMARY:Englisch Grundstufe II (A1) 60+ (2026F72008) 
LOCATION:Bildungszentrum Gebrüder-Grimm, EG07, Elsterstr. 1, 49808 Lingen
END:VEVENT
BEGIN:VEVENT
DTSTAMP:20260424T145309
DTSTART;TZID=Europe/Berlin:20260428T164500
DTEND;TZID=Europe/Berlin:20260428T181500
UID:2026F72008-20260428T164500@VHSLINGEN
SUMMARY:Englisch Grundstufe II (A1) 60+ (2026F72008) 
LOCATION:Bildungszentrum Gebrüder-Grimm, EG07, Elsterstr. 1, 49808 Lingen
END:VEVENT
BEGIN:VEVENT
DTSTAMP:20260424T145309
DTSTART;TZID=Europe/Berlin:20260505T164500
DTEND;TZID=Europe/Berlin:20260505T181500
UID:2026F72008-20260505T164500@VHSLINGEN
SUMMARY:Englisch Grundstufe II (A1) 60+ (2026F72008) 
LOCATION:Bildungszentrum Gebrüder-Grimm, EG07, Elsterstr. 1, 49808 Lingen
END:VEVENT
BEGIN:VEVENT
DTSTAMP:20260424T145309
DTSTART;TZID=Europe/Berlin:20260512T164500
DTEND;TZID=Europe/Berlin:20260512T181500
UID:2026F72008-20260512T164500@VHSLINGEN
SUMMARY:Englisch Grundstufe II (A1) 60+ (2026F72008) 
LOCATION:Bildungszentrum Gebrüder-Grimm, EG07, Elsterstr. 1, 49808 Lingen
END:VEVENT
BEGIN:VEVENT
DTSTAMP:20260424T145309
DTSTART;TZID=Europe/Berlin:20260519T164500
DTEND;TZID=Europe/Berlin:20260519T181500
UID:2026F72008-20260519T164500@VHSLINGEN
SUMMARY:Englisch Grundstufe II (A1) 60+ (2026F72008) 
LOCATION:Bildungszentrum Gebrüder-Grimm, EG07, Elsterstr. 1, 49808 Lingen
END:VEVENT
BEGIN:VEVENT
DTSTAMP:20260424T145309
DTSTART;TZID=Europe/Berlin:20260526T164500
DTEND;TZID=Europe/Berlin:20260526T181500
UID:2026F72008-20260526T164500@VHSLINGEN
SUMMARY:Englisch Grundstufe II (A1) 60+ (2026F72008) 
LOCATION:Bildungszentrum Gebrüder-Grimm, EG07, Elsterstr. 1, 49808 Lingen
END:VEVENT
BEGIN:VEVENT
DTSTAMP:20260424T145309
DTSTART;TZID=Europe/Berlin:20260602T164500
DTEND;TZID=Europe/Berlin:20260602T181500
UID:2026F72008-20260602T164500@VHSLINGEN
SUMMARY:Englisch Grundstufe II (A1) 60+ (2026F72008) 
LOCATION:Bildungszentrum Gebrüder-Grimm, EG07, Elsterstr. 1, 49808 Lingen
END:VEVENT
BEGIN:VEVENT
DTSTAMP:20260424T145309
DTSTART;TZID=Europe/Berlin:20260609T164500
DTEND;TZID=Europe/Berlin:20260609T181500
UID:2026F72008-20260609T164500@VHSLINGEN
DESCRIPTION:Raumwechsel
SUMMARY:Englisch Grundstufe II (A1) 60+ (2026F72008) 
LOCATION:Bildungszentrum Gebrüder-Grimm, OG07, Elsterstr. 1, 49808 Lingen
END:VEVENT
BEGIN:VEVENT
DTSTAMP:20260424T145309
DTSTART;TZID=Europe/Berlin:20260616T164500
DTEND;TZID=Europe/Berlin:20260616T181500
UID:2026F72008-20260616T164500@VHSLINGEN
SUMMARY:Englisch Grundstufe II (A1) 60+ (2026F72008) 
LOCATION:Bildungszentrum Gebrüder-Grimm, EG07, Elsterstr. 1, 49808 Lingen
END:VEVENT
BEGIN:VEVENT
DTSTAMP:20260424T145309
DTSTART;TZID=Europe/Berlin:20260623T164500
DTEND;TZID=Europe/Berlin:20260623T181500
UID:2026F72008-20260623T164500@VHSLINGEN
SUMMARY:Englisch Grundstufe II (A1) 60+ (2026F72008) 
LOCATION:Bildungszentrum Gebrüder-Grimm, EG07, Elsterstr. 1, 49808 Lingen
END:VEVENT
END:VCALENDAR