BEGIN:VCALENDAR
VERSION:2.0
PRODID:https://www.kufer.de/kuferweb / DE
METHOD:PUBLISH
CALSCALE:GREGORIAN
X-WR-TIMEZONE:Europe/Berlin
BEGIN:VTIMEZONE
TZID:Europe/Berlin
X-LIC-LOCATION:Europe/Berlin
BEGIN:DAYLIGHT
TZOFFSETFROM:+0100
TZOFFSETTO:+0200
TZNAME:CEST
DTSTART:19700329T020000
RRULE:FREQ=YEARLY;INTERVAL=1;BYDAY=-1SU;BYMONTH=3
END:DAYLIGHT
BEGIN:STANDARD
TZOFFSETFROM:+0200
TZOFFSETTO:+0100
TZNAME:CET
DTSTART:19701025T030000
RRULE:FREQ=YEARLY;INTERVAL=1;BYDAY=-1SU;BYMONTH=10
END:STANDARD
END:VTIMEZONE
BEGIN:VEVENT
DTSTAMP:20260424T145244
DTSTART;TZID=Europe/Berlin:20260408T093000
DTEND;TZID=Europe/Berlin:20260408T113000
UID:2026F71813-20260408T093000@VHSLINGEN
SUMMARY:Lesecafé April 2026 für Teilnehmende mit Migrationshintergrund (2026F71813) 
LOCATION:VHS, Kokenmühle, Raum OG 1, An der Kokenmühle 7, 49808 Lingen
END:VEVENT
BEGIN:VEVENT
DTSTAMP:20260424T145244
DTSTART;TZID=Europe/Berlin:20260409T093000
DTEND;TZID=Europe/Berlin:20260409T110000
UID:2026F71813-20260409T093000@VHSLINGEN
SUMMARY:Lesecafé April 2026 für Teilnehmende mit Migrationshintergrund (2026F71813) 
LOCATION:Bildungszentrum Gebrüder-Grimm, EG06, Elsterstr. 1, 49808 Lingen
END:VEVENT
BEGIN:VEVENT
DTSTAMP:20260424T145244
DTSTART;TZID=Europe/Berlin:20260414T093000
DTEND;TZID=Europe/Berlin:20260414T113000
UID:2026F71813-20260414T093000@VHSLINGEN
SUMMARY:Lesecafé April 2026 für Teilnehmende mit Migrationshintergrund (2026F71813) 
LOCATION:VHS, Kokenmühle, Raum OG 1, An der Kokenmühle 7, 49808 Lingen
END:VEVENT
BEGIN:VEVENT
DTSTAMP:20260424T145244
DTSTART;TZID=Europe/Berlin:20260415T093000
DTEND;TZID=Europe/Berlin:20260415T113000
UID:2026F71813-20260415T093000@VHSLINGEN
SUMMARY:Lesecafé April 2026 für Teilnehmende mit Migrationshintergrund (2026F71813) 
LOCATION:VHS, Kokenmühle, Raum OG 1, An der Kokenmühle 7, 49808 Lingen
END:VEVENT
BEGIN:VEVENT
DTSTAMP:20260424T145244
DTSTART;TZID=Europe/Berlin:20260421T093000
DTEND;TZID=Europe/Berlin:20260421T113000
UID:2026F71813-20260421T093000@VHSLINGEN
SUMMARY:Lesecafé April 2026 für Teilnehmende mit Migrationshintergrund (2026F71813) 
LOCATION:VHS, Kokenmühle, Raum OG 1, An der Kokenmühle 7, 49808 Lingen
END:VEVENT
BEGIN:VEVENT
DTSTAMP:20260424T145244
DTSTART;TZID=Europe/Berlin:20260422T093000
DTEND;TZID=Europe/Berlin:20260422T113000
UID:2026F71813-20260422T093000@VHSLINGEN
SUMMARY:Lesecafé April 2026 für Teilnehmende mit Migrationshintergrund (2026F71813) 
LOCATION:VHS, Kokenmühle, Raum OG 1, An der Kokenmühle 7, 49808 Lingen
END:VEVENT
BEGIN:VEVENT
DTSTAMP:20260424T145244
DTSTART;TZID=Europe/Berlin:20260423T093000
DTEND;TZID=Europe/Berlin:20260423T110000
UID:2026F71813-20260423T093000@VHSLINGEN
SUMMARY:Lesecafé April 2026 für Teilnehmende mit Migrationshintergrund (2026F71813) 
LOCATION:Bildungszentrum Gebrüder-Grimm, EG06, Elsterstr. 1, 49808 Lingen
END:VEVENT
BEGIN:VEVENT
DTSTAMP:20260424T145244
DTSTART;TZID=Europe/Berlin:20260428T093000
DTEND;TZID=Europe/Berlin:20260428T113000
UID:2026F71813-20260428T093000@VHSLINGEN
SUMMARY:Lesecafé April 2026 für Teilnehmende mit Migrationshintergrund (2026F71813) 
LOCATION:VHS, Kokenmühle, Raum OG 1, An der Kokenmühle 7, 49808 Lingen
END:VEVENT
END:VCALENDAR